From mboxrd@z Thu Jan 1 00:00:00 1970 Return-Path: Received: from mails.dpdk.org (mails.dpdk.org [217.70.189.124]) by inbox.dpdk.org (Postfix) with ESMTP id 6275046B30 for ; Wed, 9 Jul 2025 20:17:01 +0200 (CEST) Received: from mails.dpdk.org (localhost [127.0.0.1]) by mails.dpdk.org (Postfix) with ESMTP id 584CD40A7D; Wed, 9 Jul 2025 20:17:01 +0200 (CEST) Received: from mail-ot1-f98.google.com (mail-ot1-f98.google.com [209.85.210.98]) by mails.dpdk.org (Postfix) with ESMTP id 4C1FA40A7D for ; Wed, 9 Jul 2025 20:17:00 +0200 (CEST) Received: by mail-ot1-f98.google.com with SMTP id 46e09a7af769-73ce2761272so82288a34.0 for ; Wed, 09 Jul 2025 11:17:00 -0700 (PDT) DKIM-Signature: v=1; a=rsa-sha256; c=relaxed/relaxed; d=iol.unh.edu; s=unh-iol; t=1752085019; x=1752689819; darn=dpdk.org; h=references:in-reply-to:cc:to:from:subject:message-id:date:from:to :cc:subject:date:message-id:reply-to; bh=3oqh7MA7QZ2hOLSp4tkPcTWLPbbxtiveK2+e45AeWZk=; b=cTFVwGE1RMf98cf0DRZmnz4vy9BPJ8Af8aNlsrbq/APPOERDeuBq49YKc5o5ngVBR3 aSNyVWeLYmDYB+CdEJlygU8HEShTAHxdEGlmWLQ/teWfpNUsym1Dy/BRKNiM5mz+UGtc OzBUQgw27DIhWT2zcesdsD+Br10/AVG95pXso= X-Google-DKIM-Signature: v=1; a=rsa-sha256; c=relaxed/relaxed; d=1e100.net; s=20230601; t=1752085019; x=1752689819; h=references:in-reply-to:cc:to:from:subject:message-id:date :x-gm-message-state:from:to:cc:subject:date:message-id:reply-to; bh=3oqh7MA7QZ2hOLSp4tkPcTWLPbbxtiveK2+e45AeWZk=; b=S+IzSdHv2TL5gue3SyGWQORr/86nI6JMCohfSVbpMnGFnURje9LsVCrgQ5RUjxLI8k pPDo8OQHs8Q1SbAb1o5fGhHfE7gZ98lJBj5AyaBrYFSqi8pEwqxYYUrBxDNR/cASpy30 vpWOzocChHFgBELVSURvCRm0C4pWjNdCkcEPGFzCoCIPfhA/KfcmdDxgw/Vq3X58OuWf NlJWA6g3IUgUpQaTrTjcyQnfGDqxaQ0sq8Uwy66rX5z7vzXjaQ9Y718Ik0kF4zgwgqKB tYjRvkWUXPWIodRlXLR4WOTl0svWsqNqo0KQCnUZVqeQKZoOKU+3pcV1nNfqOz4Td7R+ VMeg== X-Gm-Message-State: AOJu0YxrfHzffQFkXgVx4o0SgoH8uKMlJMELo2cprtP+M2iB4KCFLhip IbR+0XzWtd/wEBES/MxZZMSlc/a103L4UrUE2NnsBW9kPq4mq+vj548/tvvYMsLRkdja/q85tiJ z0Vz9h+XnEV+NDBi+YrHRPX/0Q0vvCaZDdd8Hjm+C7mdb X-Gm-Gg: ASbGncv3k0/hNpUfjtkQP7LDso2GWagN6dBDCXvUj6WAs6QDfyUxb0HXBKbSNfNRD+Z rmrkkhzUm/B+9BxucdGJSiD4GJfDkbiDHt3UDWBMHnkm8/VT6ZszVF4SIqnftngAuDequRGllLS 5jJ2KA08T6jdWFre0zSRAcrG4DFsYQbwb+YCfXhvZu4vYz3IffQVKB7qA15U+OLolM8kuQijRZo J0sMF9u6RxgGiH5rpHKOhkK9ge2V0mYSmnec0v1LUNhB8V8WmL+esJQKe7KZEV661pRbaWbxCFG L0eMEAIaMU7u3twlrg+I5RONOxcbsKTb12cN0AVpGJ+oi37tbpuWATKgpiWK84VZ6qMQgA== X-Google-Smtp-Source: AGHT+IFLEGnpuIK3DbhuIdV8jzAt5Gns55NE3k9Lzi2ifnaquxK7NS6GR01i8tc4DEPy+HFCkZWz7d/g3p5b X-Received: by 2002:a05:6830:3506:b0:727:3303:7ea8 with SMTP id 46e09a7af769-73ce63871cbmr2883708a34.25.1752085019533; Wed, 09 Jul 2025 11:16:59 -0700 (PDT) Received: from postal.iol.unh.edu (postal.iol.unh.edu. [132.177.123.84]) by smtp-relay.gmail.com with ESMTPS id 006d021491bc7-613ca15ead2sm80462eaf.9.2025.07.09.11.16.59 (version=TLS1_2 cipher=ECDHE-ECDSA-AES128-GCM-SHA256 bits=128/128); Wed, 09 Jul 2025 11:16:59 -0700 (PDT) X-Relaying-Domain: iol.unh.edu Date: Wed, 09 Jul 2025 11:16:59 -0700 (PDT) Message-ID: <686eb21b.050a0220.2f5f57.458eSMTPIN_ADDED_MISSING@mx.google.com> Received: from [172.21.0.6] (unknown [172.18.0.240]) by postal.iol.unh.edu (Postfix) with ESMTP id 0C319604D420; Wed, 9 Jul 2025 14:16:59 -0400 (EDT) Subject: |SUCCESS| pw155029-155031 [PATCH] [v3,3/3] app/testpmd: improve outp From: dpdklab@iol.unh.edu To: Test Report Cc: dpdk-test-reports@iol.unh.edu In-Reply-To: <20250707111751.183469-4-bruce.richardson@intel.com> References: <20250707111751.183469-4-bruce.richardson@intel.com> Content-Type: text/plain X-BeenThere: test-report@dpdk.org X-Mailman-Version: 2.1.29 Precedence: list List-Id: automatic DPDK test reports List-Unsubscribe: , List-Archive: List-Post: List-Help: List-Subscribe: , Errors-To: test-report-bounces@dpdk.org Test-Label: iol-abi-testing Test-Status: SUCCESS http://dpdk.org/patch/155031 _Testing PASS_ Submitter: Bruce Richardson Date: Monday, July 07 2025 11:17:51 DPDK git baseline: Repo:dpdk Branch: master CommitID:ba982f9a1ca9b96ed0394b764f1523d482e963a2 155029-155031 --> testing pass Upstream job id: Generic-DPDK-Compile-ABI#133821 Test environment and result as below: +-------------------------------+----------+ | Environment | abi_test | +===============================+==========+ | CentOS Stream 9 | PASS | +-------------------------------+----------+ | CentOS Stream 10 | PASS | +-------------------------------+----------+ | Debian GNU/Linux 12 | PASS | +-------------------------------+----------+ | Fedora Linux 40 | PASS | +-------------------------------+----------+ | Ubuntu 24.04 | PASS | +-------------------------------+----------+ | Fedora Linux 41 | PASS | +-------------------------------+----------+ | openSUSE Leap 15.6 | PASS | +-------------------------------+----------+ | Red Hat Enterprise Linux 8.10 | PASS | +-------------------------------+----------+ | Red Hat Enterprise Linux 9.5 | PASS | +-------------------------------+----------+ | Ubuntu 22.04 | PASS | +-------------------------------+----------+ CentOS Stream 9 Kernel: 5.15 Compiler: gcc gcc (GCC) 11.5.0 20240719 (Red Hat 11.5.0-7) CentOS Stream 10 Kernel: 5.15 Compiler: gcc gcc (GCC) 14.2.1 20250110 (Red Hat 14.2.1-8) Debian GNU/Linux 12 Kernel: 5.15 Compiler: gcc gcc (Debian 12.2.0-14+deb12u1) 12.2.0 Fedora Linux 40 Kernel: 5.15 Compiler: clang gcc (GCC) 14.2.1 20240912 (Red Hat 14.2.1-3) Ubuntu 24.04 Kernel: 5.15 Compiler: gcc gcc (Ubuntu 13.3.0-6ubuntu2~24.04) 13.3.0 Fedora Linux 41 Kernel: 5.15 Compiler: clang gcc (GCC) 14.3.1 20250523 (Red Hat 14.3.1-1) openSUSE Leap 15.6 Kernel: 5.15 Compiler: gcc gcc (SUSE Linux) 7.5.0 Red Hat Enterprise Linux 8.10 Kernel: 5.15 Compiler: gcc gcc (GCC) 8.5.0 20210514 (Red Hat 8.5.0-22) Red Hat Enterprise Linux 9.5 Kernel: 5.15 Compiler: gcc gcc (GCC) 11.5.0 20240719 (Red Hat 11.5.0-2) Ubuntu 22.04 Kernel: 5.15 Compiler: gcc gcc (Ubuntu 11.4.0-1ubuntu1~22.04) 11.4.0 To view detailed results, visit: https://lab.dpdk.org/results/dashboard/patchsets/33604/ UNH-IOL DPDK Community Lab To manage your email subscriptions, visit: https://lab.dpdk.org/results/dashboard/preferences/subscriptions/