From mboxrd@z Thu Jan 1 00:00:00 1970 Return-Path: Received: from mails.dpdk.org (mails.dpdk.org [217.70.189.124]) by inbox.dpdk.org (Postfix) with ESMTP id C4C8446B30 for ; Wed, 9 Jul 2025 20:19:31 +0200 (CEST) Received: from mails.dpdk.org (localhost [127.0.0.1]) by mails.dpdk.org (Postfix) with ESMTP id BEF7140E26; Wed, 9 Jul 2025 20:19:31 +0200 (CEST) Received: from mail-pl1-f228.google.com (mail-pl1-f228.google.com [209.85.214.228]) by mails.dpdk.org (Postfix) with ESMTP id 883E440A7D for ; Wed, 9 Jul 2025 20:19:30 +0200 (CEST) Received: by mail-pl1-f228.google.com with SMTP id d9443c01a7336-23c8f179e1bso2847815ad.1 for ; Wed, 09 Jul 2025 11:19:30 -0700 (PDT) DKIM-Signature: v=1; a=rsa-sha256; c=relaxed/relaxed; d=iol.unh.edu; s=unh-iol; t=1752085170; x=1752689970; darn=dpdk.org; h=references:in-reply-to:cc:to:from:subject:message-id:date:from:to :cc:subject:date:message-id:reply-to; bh=9IsTsSC+Kjpi+H9iF87m0rI/9YL82xzVv2o9rSedPps=; b=IQb+DBjhqJKK64L+E3jwgIUdlZWI7VGaBs8PmglV2G2F8ge7gwvZ5thBT/T9mcfHY9 qtz3Jod9fBGRdJhQP6hB5uJ0DDzTu0Ct4d9AO0SYK7GpZCV8hFRn403mNwbUe5PKFY2S KCHyrwwSDS33SZIwDrukibEbg9YQbI6/zXq6g= X-Google-DKIM-Signature: v=1; a=rsa-sha256; c=relaxed/relaxed; d=1e100.net; s=20230601; t=1752085170; x=1752689970; h=references:in-reply-to:cc:to:from:subject:message-id:date :x-gm-message-state:from:to:cc:subject:date:message-id:reply-to; bh=9IsTsSC+Kjpi+H9iF87m0rI/9YL82xzVv2o9rSedPps=; b=H6CAxtvAcOlJHK+TWEvLJI7wIVGEZK+nUvClJmceYfmNHEQE0wq7HT6X7FrOig4jpu uh/Y7y01XXE3XZs3mfQg7Lx8v+csg16eidLWnDRk/hLML4CcerJu5MP9dSjyCLAM/8wv iBDbRbqYlxsZ4jAwbxkOR//r02xy3hrfWoHnGwu28DUf+R1dalCF58F0g9PoOpSuSnT7 rC/1BOFStAN4ao7sWgP0XPq7/VDBZ7EvrO0FePdq51quiw/G4eAFpmtKXkt9PbCyjfeU NlOfvmTVQAMeZLPzoSfY0CsX2bAVVlR4D1sf4UTX3eCc8htt5PIbLLzS32UO2Q4gqDr3 GoMQ== X-Gm-Message-State: AOJu0YywiXmnW4dhZSX39wNP/FHH7/P7m0UuUYHsEdtF0rcTYWOQ1hDk WoTLBQV1l2oCFEZlJFkmViiH4ZD4k99eeqN8Py349oQ7dGLus8qXSd2rRLKvpByCchzHBubNGRB YM7irXn0IUcSO5suNOmPJHnvsnj5cazUYRBLEuheiOaoWKhEYQ8C79b51/N5k X-Gm-Gg: ASbGnctHGAjqLBzQ68+GeSNMTNISPfhZ3MkebQymEbBQdtuh1n3kbrZQ1V7BGk8Tr4M LP/WhosxhwwtYPHMC7RX4zxg+f2yh6M+WbIUf2Qs61sGJNQp32ZKK1F3JN8GGCQ+pCRxnKJ5AlP C4ovBvLSApBsQoY6KA4c9HUgi18/U3SZVS2cLL3YXLUBU9ZK+2TzhtXJUAdgGw2hxn+bztw0GMP j4mq4LwatzIFQ42CwR2cyP4AIIYGEZ6fZ9gITB0u0M9hYorvKUUIrAhuX3Ch518rVC0CVclI+4n mWU1paf3sJqm7dZouaBBYspaVxPRzw4YK8o0goCMYBkdpPk= X-Google-Smtp-Source: AGHT+IGXIHLTzTUVAIMJas0VkutQ04syVhuAD5LnjCca5vmAykNeNOf82wz6Y1oXmLL0P9sxuje0Ka+B6HU/ X-Received: by 2002:a17:902:ebc3:b0:235:1b91:9079 with SMTP id d9443c01a7336-23ddb34f981mr56538235ad.32.1752085169542; Wed, 09 Jul 2025 11:19:29 -0700 (PDT) Received: from postal.iol.unh.edu (postal.iol.unh.edu. [2606:4100:3880:1234::84]) by smtp-relay.gmail.com with ESMTPS id d9443c01a7336-23c842d2a60sm6484635ad.52.2025.07.09.11.19.29 (version=TLS1_2 cipher=ECDHE-ECDSA-AES128-GCM-SHA256 bits=128/128); Wed, 09 Jul 2025 11:19:29 -0700 (PDT) X-Relaying-Domain: iol.unh.edu Date: Wed, 09 Jul 2025 11:19:29 -0700 (PDT) Message-ID: <686eb2b1.170a0220.291fc9.20a7SMTPIN_ADDED_MISSING@mx.google.com> Received: from [172.21.0.22] (unknown [172.18.0.240]) by postal.iol.unh.edu (Postfix) with ESMTP id BE48A604D420; Wed, 9 Jul 2025 14:19:28 -0400 (EDT) Subject: |SUCCESS| pw155106 [PATCH] net/mlx5: fix panic for non template age From: dpdklab@iol.unh.edu To: Test Report Cc: dpdk-test-reports@iol.unh.edu In-Reply-To: <20250709102508.229287-1-mkashani@nvidia.com> References: <20250709102508.229287-1-mkashani@nvidia.com> Content-Type: text/plain X-BeenThere: test-report@dpdk.org X-Mailman-Version: 2.1.29 Precedence: list List-Id: automatic DPDK test reports List-Unsubscribe: , List-Archive: List-Post: List-Help: List-Subscribe: , Errors-To: test-report-bounces@dpdk.org Test-Label: iol-abi-testing Test-Status: SUCCESS http://dpdk.org/patch/155106 _Testing PASS_ Submitter: Maayan Kashani Date: Wednesday, July 09 2025 10:25:07 DPDK git baseline: Repo:dpdk Branch: master CommitID:6d828a3e774829165137aa2713e3040edd7f46bf 155106 --> testing pass Upstream job id: Generic-DPDK-Compile-ABI#133832 Test environment and result as below: +-------------------------------+----------+ | Environment | abi_test | +===============================+==========+ | CentOS Stream 9 | PASS | +-------------------------------+----------+ | CentOS Stream 10 | PASS | +-------------------------------+----------+ | Debian GNU/Linux 12 | PASS | +-------------------------------+----------+ | Fedora Linux 41 | PASS | +-------------------------------+----------+ | Fedora Linux 40 | PASS | +-------------------------------+----------+ | openSUSE Leap 15.6 | PASS | +-------------------------------+----------+ | Red Hat Enterprise Linux 8.10 | PASS | +-------------------------------+----------+ | Red Hat Enterprise Linux 9.5 | PASS | +-------------------------------+----------+ | Ubuntu 22.04 | PASS | +-------------------------------+----------+ | Ubuntu 24.04 | PASS | +-------------------------------+----------+ CentOS Stream 9 Kernel: 5.15 Compiler: gcc gcc (GCC) 11.5.0 20240719 (Red Hat 11.5.0-7) CentOS Stream 10 Kernel: 5.15 Compiler: gcc gcc (GCC) 14.2.1 20250110 (Red Hat 14.2.1-8) Debian GNU/Linux 12 Kernel: 5.15 Compiler: gcc gcc (Debian 12.2.0-14+deb12u1) 12.2.0 Fedora Linux 41 Kernel: 5.15 Compiler: clang gcc (GCC) 14.3.1 20250523 (Red Hat 14.3.1-1) Fedora Linux 40 Kernel: 5.15 Compiler: clang gcc (GCC) 14.2.1 20240912 (Red Hat 14.2.1-3) openSUSE Leap 15.6 Kernel: 5.15 Compiler: gcc gcc (SUSE Linux) 7.5.0 Red Hat Enterprise Linux 8.10 Kernel: 5.15 Compiler: gcc gcc (GCC) 8.5.0 20210514 (Red Hat 8.5.0-22) Red Hat Enterprise Linux 9.5 Kernel: 5.15 Compiler: gcc gcc (GCC) 11.5.0 20240719 (Red Hat 11.5.0-2) Ubuntu 22.04 Kernel: 5.15 Compiler: gcc gcc (Ubuntu 11.4.0-1ubuntu1~22.04) 11.4.0 Ubuntu 24.04 Kernel: 5.15 Compiler: gcc gcc (Ubuntu 13.3.0-6ubuntu2~24.04) 13.3.0 To view detailed results, visit: https://lab.dpdk.org/results/dashboard/patchsets/33625/ UNH-IOL DPDK Community Lab To manage your email subscriptions, visit: https://lab.dpdk.org/results/dashboard/preferences/subscriptions/