From mboxrd@z Thu Jan 1 00:00:00 1970 Return-Path: Received: from mails.dpdk.org (mails.dpdk.org [217.70.189.124]) by inbox.dpdk.org (Postfix) with ESMTP id DA7B246B30 for ; Wed, 9 Jul 2025 20:19:52 +0200 (CEST) Received: from mails.dpdk.org (localhost [127.0.0.1]) by mails.dpdk.org (Postfix) with ESMTP id D5BAD40A7D; Wed, 9 Jul 2025 20:19:52 +0200 (CEST) Received: from mail-pf1-f228.google.com (mail-pf1-f228.google.com [209.85.210.228]) by mails.dpdk.org (Postfix) with ESMTP id C7F1140A7D for ; Wed, 9 Jul 2025 20:19:51 +0200 (CEST) Received: by mail-pf1-f228.google.com with SMTP id d2e1a72fcca58-74ad4533ac5so1164204b3a.0 for ; Wed, 09 Jul 2025 11:19:51 -0700 (PDT) DKIM-Signature: v=1; a=rsa-sha256; c=relaxed/relaxed; d=iol.unh.edu; s=unh-iol; t=1752085191; x=1752689991; darn=dpdk.org; h=references:in-reply-to:cc:to:from:subject:message-id:date:from:to :cc:subject:date:message-id:reply-to; bh=GRrbW2byhC1O+elcO6Nw1RKNSsESuqOeHObpF4zmCKA=; b=TTCNDjJFHcSpT9E5oP0E4RaRJGEqIrHky4J0mO0TGAEbriEHx2Msrd27mq3H7MkOvi yTeCgy0FR0vnc89U2aqm2N5+ZigmnVc/YjD59geuUMmSchk7uOA670ye2Tau2i4Irlh8 sYuRmbBO+Zd7Ve3Lz3wYTdslsWAi7H5HyW2xc= X-Google-DKIM-Signature: v=1; a=rsa-sha256; c=relaxed/relaxed; d=1e100.net; s=20230601; t=1752085191; x=1752689991; h=references:in-reply-to:cc:to:from:subject:message-id:date :x-gm-message-state:from:to:cc:subject:date:message-id:reply-to; bh=GRrbW2byhC1O+elcO6Nw1RKNSsESuqOeHObpF4zmCKA=; b=HJZBA5EzbIBprzyb+IGL+aHfmxQehXgmW0GvFNGZreTbPZsxX2XszadEtkJsw7RpkH u6nOejbYMwQY2N9ifH316jCS5fKJ2/2Vbz2WOtqqL53WHVOToSQldGTg41aOxQUrXmyj MKDppBFnz393l7xBwPuLaG4h4kyTTGdge3siknBMqcr+x1EoyzPzPAI8w1oDao0B64c/ mIW28mqCt7MAw2n077nYBJvdRGEzUZhKfIjJhWW0cubCD2uLUsr1TxDNolUL16hGkFNS E88VD6m5H0tl3laiW78Uj+iJ9Cv//iDw6QgAJJ6ts3uCwpQ01scW5HSF1MgejQSTF9C6 al7Q== X-Gm-Message-State: AOJu0Yzlie0hQwqrNIU1D9IHL9WlP4wN+CJYThem54QUjtvqIrbYFC3H tExUD6OuIj9AFfxJuBNTdlglBiq1F090rw1b22igy0gsxUXlQMmlY33nfGIMppGTccF2w+cXCZy xMbna9WKFp9o4jJDxcRwo0IDk2JilPw4SbVIehAZYf6YN X-Gm-Gg: ASbGncu34PAg52moMJmrCKS8yG8GwkLjYpgeGKF0ZOhE10RbgJsETeQ4mkZ1cFYN4Rh SZFBkJkq/yjaycxi0v7qjIl8Bkk607JlMS46uE+GROJ3xcRtbEjqMr9plbG8W7uGBXpKEUzli5a Wc/gJwSyKw7k0RvugViH3JIWEl3/yvkEJiZENRT1wY4DZsdlitMmxODgVGS/neBuKl4X+RPz/sb aJ+Ur+kmM/rMrXd4kIc4m0luPwiTwdxsv5LHLPnw6WwORsaYi/EtR305eivCe1r/OUGloQ8BAaB hX9e+u+6wEVu7u4YASdDXAoh4Jp0/hJITmqpKEuVASPaNruM+J+SiiH+Dv8d6/2oiUr+QQ== X-Google-Smtp-Source: AGHT+IE5VW7me7knWGgUuRwMtkN5RKJz2dS94wKwFABAh+la9w6+PZwoxvcdShRJEreSqvLuqiUYpFoHRxX1 X-Received: by 2002:a05:6a20:6a25:b0:22d:89b:eea4 with SMTP id adf61e73a8af0-22fc2345a34mr820710637.2.1752085190760; Wed, 09 Jul 2025 11:19:50 -0700 (PDT) Received: from postal.iol.unh.edu (postal.iol.unh.edu. [132.177.123.84]) by smtp-relay.gmail.com with ESMTPS id 41be03b00d2f7-b38ee3e2567sm387949a12.1.2025.07.09.11.19.50 (version=TLS1_2 cipher=ECDHE-ECDSA-AES128-GCM-SHA256 bits=128/128); Wed, 09 Jul 2025 11:19:50 -0700 (PDT) X-Relaying-Domain: iol.unh.edu Date: Wed, 09 Jul 2025 11:19:50 -0700 (PDT) Message-ID: <686eb2c6.650a0220.105cde.3f15SMTPIN_ADDED_MISSING@mx.google.com> Received: from [172.21.0.20] (unknown [172.18.0.240]) by postal.iol.unh.edu (Postfix) with ESMTP id EF45D604D420; Wed, 9 Jul 2025 14:19:49 -0400 (EDT) Subject: |WARNING| pw155029-155031 [PATCH] [v3,3/3] app/testpmd: improve outp From: dpdklab@iol.unh.edu To: Test Report Cc: dpdk-test-reports@iol.unh.edu In-Reply-To: <20250707111751.183469-4-bruce.richardson@intel.com> References: <20250707111751.183469-4-bruce.richardson@intel.com> Content-Type: text/plain X-BeenThere: test-report@dpdk.org X-Mailman-Version: 2.1.29 Precedence: list List-Id: automatic DPDK test reports List-Unsubscribe: , List-Archive: List-Post: List-Help: List-Subscribe: , Errors-To: test-report-bounces@dpdk.org Test-Label: iol-compile-amd64-testing Test-Status: WARNING http://dpdk.org/patch/155031 _Testing issues_ Submitter: Bruce Richardson Date: Monday, July 07 2025 11:17:51 DPDK git baseline: Repo:dpdk Branch: master CommitID:ba982f9a1ca9b96ed0394b764f1523d482e963a2 155029-155031 --> testing issues Upstream job id: Generic-DPDK-Compile-Meson#407340 Test environment and result as below: +-------------------------------+--------------------+-------------------+------------------+-------------------+ | Environment | dpdk_meson_compile | dpdk_compile_spdk | dpdk_compile_ovs | dpdk_msvc_compile | +===============================+====================+===================+==================+===================+ | CentOS Stream 9 | PASS | PASS | SKIPPED | SKIPPED | +-------------------------------+--------------------+-------------------+------------------+-------------------+ | CentOS Stream 10 | PASS | SKIPPED | SKIPPED | SKIPPED | +-------------------------------+--------------------+-------------------+------------------+-------------------+ | Debian GNU/Linux 12 | PEND | PEND | SKIPPED | SKIPPED | +-------------------------------+--------------------+-------------------+------------------+-------------------+ | Fedora Linux 40 | PASS | PASS | SKIPPED | SKIPPED | +-------------------------------+--------------------+-------------------+------------------+-------------------+ | Fedora Linux 41 | PEND | PEND | PEND | SKIPPED | +-------------------------------+--------------------+-------------------+------------------+-------------------+ | openSUSE Leap 15.6 | PASS | SKIPPED | SKIPPED | SKIPPED | +-------------------------------+--------------------+-------------------+------------------+-------------------+ | Red Hat Enterprise Linux 8.10 | PASS | SKIPPED | SKIPPED | SKIPPED | +-------------------------------+--------------------+-------------------+------------------+-------------------+ | Red Hat Enterprise Linux 9.5 | PASS | SKIPPED | SKIPPED | SKIPPED | +-------------------------------+--------------------+-------------------+------------------+-------------------+ | Ubuntu 20.04 | PASS | SKIPPED | SKIPPED | SKIPPED | +-------------------------------+--------------------+-------------------+------------------+-------------------+ | Ubuntu 22.04 | PASS | PASS | SKIPPED | SKIPPED | +-------------------------------+--------------------+-------------------+------------------+-------------------+ | Ubuntu 24.04 | PASS | PASS | PASS | SKIPPED | +-------------------------------+--------------------+-------------------+------------------+-------------------+ | Alpine Linux 3.22.0 | PASS | SKIPPED | SKIPPED | SKIPPED | +-------------------------------+--------------------+-------------------+------------------+-------------------+ | FreeBSD 14.2 | PASS | SKIPPED | SKIPPED | SKIPPED | +-------------------------------+--------------------+-------------------+------------------+-------------------+ | Windows Server 2022 | SKIPPED | SKIPPED | SKIPPED | PASS | +-------------------------------+--------------------+-------------------+------------------+-------------------+ CentOS Stream 9 Kernel: 5.15 Compiler: gcc gcc (GCC) 11.5.0 20240719 (Red Hat 11.5.0-7) CentOS Stream 10 Kernel: 5.15 Compiler: gcc gcc (GCC) 14.2.1 20250110 (Red Hat 14.2.1-8) Debian GNU/Linux 12 Kernel: 5.15 Compiler: gcc gcc (Debian 12.2.0-14+deb12u1) 12.2.0 Fedora Linux 40 Kernel: 5.15 Compiler: clang gcc (GCC) 14.2.1 20240912 (Red Hat 14.2.1-3) Fedora Linux 41 Kernel: 5.15 Compiler: clang gcc (GCC) 14.3.1 20250523 (Red Hat 14.3.1-1) openSUSE Leap 15.6 Kernel: 5.15 Compiler: gcc gcc (SUSE Linux) 7.5.0 Red Hat Enterprise Linux 8.10 Kernel: 5.15 Compiler: gcc gcc (GCC) 8.5.0 20210514 (Red Hat 8.5.0-22) Red Hat Enterprise Linux 9.5 Kernel: 5.15 Compiler: gcc gcc (GCC) 11.5.0 20240719 (Red Hat 11.5.0-2) Ubuntu 20.04 Kernel: 5.15 Compiler: gcc gcc (Ubuntu 9.4.0-1ubuntu1~20.04.2) 9.4.0 Ubuntu 22.04 Kernel: 5.15 Compiler: gcc gcc (Ubuntu 11.4.0-1ubuntu1~22.04) 11.4.0 Ubuntu 24.04 Kernel: 5.15 Compiler: gcc gcc (Ubuntu 13.3.0-6ubuntu2~24.04) 13.3.0 Alpine Linux 3.22.0 Kernel: 5.15 Compiler: gcc gcc (Alpine 14.2.0) 14.2.0 FreeBSD 14.2 Kernel: 14.2-RELEASE Compiler: clang 18.1.6 Windows Server 2022 Kernel: 10.0.20348.2031 Compiler: clang 15.0.7, gcc 14.1.0 (MinGW), and MSVC VS 19.39.33521 To view detailed results, visit: https://lab.dpdk.org/results/dashboard/patchsets/33604/ UNH-IOL DPDK Community Lab To manage your email subscriptions, visit: https://lab.dpdk.org/results/dashboard/preferences/subscriptions/