From mboxrd@z Thu Jan 1 00:00:00 1970 Return-Path: Received: from mails.dpdk.org (mails.dpdk.org [217.70.189.124]) by inbox.dpdk.org (Postfix) with ESMTP id F33B846B30 for ; Wed, 9 Jul 2025 20:20:15 +0200 (CEST) Received: from mails.dpdk.org (localhost [127.0.0.1]) by mails.dpdk.org (Postfix) with ESMTP id EBA5E40A7D; Wed, 9 Jul 2025 20:20:15 +0200 (CEST) Received: from mail-io1-f98.google.com (mail-io1-f98.google.com [209.85.166.98]) by mails.dpdk.org (Postfix) with ESMTP id D5D3740A7D for ; Wed, 9 Jul 2025 20:20:14 +0200 (CEST) Received: by mail-io1-f98.google.com with SMTP id ca18e2360f4ac-872886ed65aso17504739f.1 for ; Wed, 09 Jul 2025 11:20:14 -0700 (PDT) DKIM-Signature: v=1; a=rsa-sha256; c=relaxed/relaxed; d=iol.unh.edu; s=unh-iol; t=1752085214; x=1752690014; darn=dpdk.org; h=references:in-reply-to:cc:to:from:subject:message-id:date:from:to :cc:subject:date:message-id:reply-to; bh=H6i39pIddBMujlTwFAW8FxgKabKT0Lf5JbTCnMo55BU=; b=hMk1uApChM9G1hZtcAf6sT+glyvWi0h/tylrbD2qImSB5GvwPwkb7X9Rrmu1M5HBfM f2yDocRkTwPBBtD/RpuKFRN9lryRwSTcStDvzxnYaRhjTAK2vVIc+VWwoHE01RJedxN0 /Mq0G7H3kjgMx7Xime4cJBNj1Ghk83gaupC70= X-Google-DKIM-Signature: v=1; a=rsa-sha256; c=relaxed/relaxed; d=1e100.net; s=20230601; t=1752085214; x=1752690014; h=references:in-reply-to:cc:to:from:subject:message-id:date :x-gm-message-state:from:to:cc:subject:date:message-id:reply-to; bh=H6i39pIddBMujlTwFAW8FxgKabKT0Lf5JbTCnMo55BU=; b=VyybEpvNSQFt3LxHjV1UMJ02NTyl8WDzxizSfQqnbRqCW0FC5Ai2b6o2trGdc6HPna N/nFQB3LJR6gmup0hEWtg7Jyx3lMYr8laYuM+JkHZZ9n8/Nc+fkSTJOAL0FQNKh8isuU 4zUPvIEnFfJSLfGS38xa7IKwB0B/PDlBPds8Kbg8qwFxSexHygqILgLKr6i58PD9DP9q sq8uHlwu5xZbyQuCQPRc9pDw51I5EoBg0if8SJECCMcm9tftrlcXEA6l+TAD+lYCNXfG vi2JHtMHlhlj2GN0zeJGQz+neKZ+orC8ESgXt9DW1KuMOYZmldTcTtOACEjEWcYtHRFi qpeA== X-Gm-Message-State: AOJu0Yw1vJpBSnvQpzXDVDqfveTF+bJdSBKPz86ipKD0DTm0a4f3JEw7 VvHLN2wLp/gWC3v/RlLazYdPSlUOnnR+scIVg5FHMsOtPckm7zNJP85O6c1HHY6wYRofdodC/AJ zIA/Xn0R6Krb8egxLRYBqQgeVijLbXxI80q1+n9y5yw8E X-Gm-Gg: ASbGncufHpqLw5AtLko/grYxD/hlfZN6baO0/icshBAFb4jjMH+ENCm8MJ8vWid84qh vo8Ka1OJHGpJmJ6ccl5/khz1pEGMo6i7yNLU1J8LkVvO9fCSsPDwkZ7HTl4+dSYel0wyTufZOhL VLlYsCTxoB0NHG9j0/DIrY4bH5jMqN/1uPrLZi8ZaIHz8qJ5cbdtGx/xbZYRANlCOsL1AQsey2b JbPq7YB1vjVEFDfpxbhgLXDbcgqDMPMxzqjJjpfqLSGYq9xaNnFCbd13S4/R7KWGdeaa/9OwNP/ /cN37diS2NmBqtGZ7t4UdN85ZLYRggLjkuMuSD0S3K58oQuYM0DZYKM0dPKQROk3AWvWtg== X-Google-Smtp-Source: AGHT+IHnMiGlyXyGG94j2JxuruUD1PgtVFWOmgAkYPhmMmRXw8oOAppMJwrjOjKyaCieiI4frW8ZStc7ZN+W X-Received: by 2002:a05:6602:14d5:b0:873:1cc0:4e10 with SMTP id ca18e2360f4ac-8795b08ff8amr404945639f.3.1752085214033; Wed, 09 Jul 2025 11:20:14 -0700 (PDT) Received: from postal.iol.unh.edu (postal.iol.unh.edu. [132.177.123.84]) by smtp-relay.gmail.com with ESMTPS id 8926c6da1cb9f-503b5be9b55sm500181173.73.2025.07.09.11.20.13 (version=TLS1_2 cipher=ECDHE-ECDSA-AES128-GCM-SHA256 bits=128/128); Wed, 09 Jul 2025 11:20:14 -0700 (PDT) X-Relaying-Domain: iol.unh.edu Date: Wed, 09 Jul 2025 11:20:14 -0700 (PDT) Message-ID: <686eb2de.050a0220.f9c6c.adedSMTPIN_ADDED_MISSING@mx.google.com> Received: from [172.21.0.9] (unknown [172.18.0.240]) by postal.iol.unh.edu (Postfix) with ESMTP id A7846604D420; Wed, 9 Jul 2025 14:20:13 -0400 (EDT) Subject: |WARNING| pw155029-155031 [PATCH] [v3,3/3] app/testpmd: improve outp From: dpdklab@iol.unh.edu To: Test Report Cc: dpdk-test-reports@iol.unh.edu In-Reply-To: <20250707111751.183469-4-bruce.richardson@intel.com> References: <20250707111751.183469-4-bruce.richardson@intel.com> Content-Type: text/plain X-BeenThere: test-report@dpdk.org X-Mailman-Version: 2.1.29 Precedence: list List-Id: automatic DPDK test reports List-Unsubscribe: , List-Archive: List-Post: List-Help: List-Subscribe: , Errors-To: test-report-bounces@dpdk.org Test-Label: iol-compile-amd64-testing Test-Status: WARNING http://dpdk.org/patch/155031 _Testing issues_ Submitter: Bruce Richardson Date: Monday, July 07 2025 11:17:51 DPDK git baseline: Repo:dpdk Branch: master CommitID:ba982f9a1ca9b96ed0394b764f1523d482e963a2 155029-155031 --> testing issues Upstream job id: Generic-DPDK-Compile-Meson#407337 Test environment and result as below: +-------------------------------+--------------------+-------------------+------------------+-------------------+ | Environment | dpdk_meson_compile | dpdk_compile_spdk | dpdk_compile_ovs | dpdk_msvc_compile | +===============================+====================+===================+==================+===================+ | CentOS Stream 9 | PASS | PASS | SKIPPED | SKIPPED | +-------------------------------+--------------------+-------------------+------------------+-------------------+ | CentOS Stream 10 | PASS | SKIPPED | SKIPPED | SKIPPED | +-------------------------------+--------------------+-------------------+------------------+-------------------+ | Debian GNU/Linux 12 | PEND | PEND | SKIPPED | SKIPPED | +-------------------------------+--------------------+-------------------+------------------+-------------------+ | Fedora Linux 40 | PASS | PASS | SKIPPED | SKIPPED | +-------------------------------+--------------------+-------------------+------------------+-------------------+ | Fedora Linux 41 | PEND | PEND | PEND | SKIPPED | +-------------------------------+--------------------+-------------------+------------------+-------------------+ | openSUSE Leap 15.6 | PASS | SKIPPED | SKIPPED | SKIPPED | +-------------------------------+--------------------+-------------------+------------------+-------------------+ | Red Hat Enterprise Linux 8.10 | PASS | SKIPPED | SKIPPED | SKIPPED | +-------------------------------+--------------------+-------------------+------------------+-------------------+ | Red Hat Enterprise Linux 9.5 | PASS | SKIPPED | SKIPPED | SKIPPED | +-------------------------------+--------------------+-------------------+------------------+-------------------+ | Ubuntu 20.04 | PASS | SKIPPED | SKIPPED | SKIPPED | +-------------------------------+--------------------+-------------------+------------------+-------------------+ | Ubuntu 22.04 | PASS | PASS | SKIPPED | SKIPPED | +-------------------------------+--------------------+-------------------+------------------+-------------------+ | Ubuntu 24.04 | PASS | PASS | PASS | SKIPPED | +-------------------------------+--------------------+-------------------+------------------+-------------------+ | Alpine Linux 3.22.0 | PASS | SKIPPED | SKIPPED | SKIPPED | +-------------------------------+--------------------+-------------------+------------------+-------------------+ | FreeBSD 14.2 | PASS | SKIPPED | SKIPPED | SKIPPED | +-------------------------------+--------------------+-------------------+------------------+-------------------+ | Windows Server 2022 | SKIPPED | SKIPPED | SKIPPED | PASS | +-------------------------------+--------------------+-------------------+------------------+-------------------+ CentOS Stream 9 Kernel: 5.15 Compiler: gcc gcc (GCC) 11.5.0 20240719 (Red Hat 11.5.0-7) CentOS Stream 10 Kernel: 5.15 Compiler: gcc gcc (GCC) 14.2.1 20250110 (Red Hat 14.2.1-8) Debian GNU/Linux 12 Kernel: 5.15 Compiler: gcc gcc (Debian 12.2.0-14+deb12u1) 12.2.0 Fedora Linux 40 Kernel: 5.15 Compiler: clang gcc (GCC) 14.2.1 20240912 (Red Hat 14.2.1-3) Fedora Linux 41 Kernel: 5.15 Compiler: clang gcc (GCC) 14.3.1 20250523 (Red Hat 14.3.1-1) openSUSE Leap 15.6 Kernel: 5.15 Compiler: gcc gcc (SUSE Linux) 7.5.0 Red Hat Enterprise Linux 8.10 Kernel: 5.15 Compiler: gcc gcc (GCC) 8.5.0 20210514 (Red Hat 8.5.0-22) Red Hat Enterprise Linux 9.5 Kernel: 5.15 Compiler: gcc gcc (GCC) 11.5.0 20240719 (Red Hat 11.5.0-2) Ubuntu 20.04 Kernel: 5.15 Compiler: gcc gcc (Ubuntu 9.4.0-1ubuntu1~20.04.2) 9.4.0 Ubuntu 22.04 Kernel: 5.15 Compiler: gcc gcc (Ubuntu 11.4.0-1ubuntu1~22.04) 11.4.0 Ubuntu 24.04 Kernel: 5.15 Compiler: gcc gcc (Ubuntu 13.3.0-6ubuntu2~24.04) 13.3.0 Alpine Linux 3.22.0 Kernel: 5.15 Compiler: gcc gcc (Alpine 14.2.0) 14.2.0 FreeBSD 14.2 Kernel: 14.2-RELEASE Compiler: clang 18.1.6 Windows Server 2022 Kernel: 10.0.20348.2031 Compiler: clang 15.0.7, gcc 14.1.0 (MinGW), and MSVC VS 19.39.33521 To view detailed results, visit: https://lab.dpdk.org/results/dashboard/patchsets/33604/ UNH-IOL DPDK Community Lab To manage your email subscriptions, visit: https://lab.dpdk.org/results/dashboard/preferences/subscriptions/