From mboxrd@z Thu Jan 1 00:00:00 1970 Return-Path: Received: from mails.dpdk.org (mails.dpdk.org [217.70.189.124]) by inbox.dpdk.org (Postfix) with ESMTP id 0494A46B30 for ; Wed, 9 Jul 2025 20:30:18 +0200 (CEST) Received: from mails.dpdk.org (localhost [127.0.0.1]) by mails.dpdk.org (Postfix) with ESMTP id E7A094064A; Wed, 9 Jul 2025 20:30:17 +0200 (CEST) Received: from mail-yb1-f227.google.com (mail-yb1-f227.google.com [209.85.219.227]) by mails.dpdk.org (Postfix) with ESMTP id 652CA4064A for ; Wed, 9 Jul 2025 20:30:16 +0200 (CEST) Received: by mail-yb1-f227.google.com with SMTP id 3f1490d57ef6-e82278e3889so87977276.2 for ; Wed, 09 Jul 2025 11:30:16 -0700 (PDT) DKIM-Signature: v=1; a=rsa-sha256; c=relaxed/relaxed; d=iol.unh.edu; s=unh-iol; t=1752085815; x=1752690615; darn=dpdk.org; h=references:in-reply-to:cc:to:from:subject:message-id:date:from:to :cc:subject:date:message-id:reply-to; bh=1KCVluYD+jMkOOV0b8vvL4gfMuJKmAMyvkgKUiuUQrE=; b=dTZdPcWaZgjb/126VK9cFJQZN3G6Mracob+UxAmMCQv/jByeHy80VyjhKtVQr9Fn6k bWRbwM7k0NIp0B/Cx3ceuL8Lyx04fpWcbm64W2mVFKJd+cyROsFVjsgLSc0y7rOCj5jp gX06IFryNvJhA3pTCIfAAKAJD1IPO3loL9pmI= X-Google-DKIM-Signature: v=1; a=rsa-sha256; c=relaxed/relaxed; d=1e100.net; s=20230601; t=1752085815; x=1752690615; h=references:in-reply-to:cc:to:from:subject:message-id:date :x-gm-message-state:from:to:cc:subject:date:message-id:reply-to; bh=1KCVluYD+jMkOOV0b8vvL4gfMuJKmAMyvkgKUiuUQrE=; b=Oig6vFd0wR250hvkzDFxO8EuHEX2aKcK5HrFfb8aiPCvQX/OsS2Lks4ViZEspdSNlH HRIItv1egLdhLyH2IQcrWZsaW71bl9FQg1eaBB1WaRTRz86+K5iBPQjsmEHDR1j5LQKX k6ZLQXeKGq/zW5HiYYL7vnRs3FT4dFTy4xLXeoAks6ac/7plWrNzWY+vqksF2oUPCGKK e+hujMeOADAWFnBwJ0YTuL36LPiSU+U3t13CrD3HWG/wVT0awQzuB1QPKG5LBjS/hLKO tawL+J6riH7uqfY4uo7udWe+gzmNLbAlLGxITh42BeVUbxc5/TgNc9aSMqfaReG0QQtx fxbg== X-Gm-Message-State: AOJu0YwadUkFrBLVuswT8Wnii8Fr5+XflYeQeAtCwxbX5ylN0MmhPuOB M5YjXir42tLnHdAGl6paL4e5mr/mQePP0zwRYuGAyqF7gcTIXfBvIQXnnklbPmZD3QRt+RzUh44 KethlmhvRT2ToKv6/NAilnC0347eKbZTEx/FAw4hNwRwwcWW+XFGKQh0Amlu+ X-Gm-Gg: ASbGncvTiBahIjE7yLE10aPlYZavTDyfR2bf+pkr+FZUYwmd9vMiMHuxe6wyP/acltl yG6UebQAUBn12J2SVH9dNH/4PcM0Gbv561B1hXV5ajyHG+3FluZBUX4nLCCJgOyMU+D4gLVAmGK g4tE6spREeYS3FK01ldWnd3Y4vt/Ex67g7C2eGDFtNaGaPxhRNM3OGKsu3B5U27dRHUXurj2E4e Y9DDBjmDXTfHNCwV7p20Vm9VovtYDwHIcrPDNDuGAWARZIHjtTamzAdOYOrJo6VNtmqicPTX4Z6 WmawUXF6jOMDdfX61M9lZKEnW14Hl5f5WeahKrqBjFl8+gM= X-Google-Smtp-Source: AGHT+IHlP+NxLNHpQNcDeqGLyCcnlIsMW2r8EvYw+uqT4hb11WqppXmZN6H2QFunQlpgmQEoEZBGjL+vkl4h X-Received: by 2002:a05:690c:ed0:b0:715:969:ce31 with SMTP id 00721157ae682-717b1a8bfd6mr57005047b3.35.1752085815542; Wed, 09 Jul 2025 11:30:15 -0700 (PDT) Received: from postal.iol.unh.edu (postal.iol.unh.edu. [2606:4100:3880:1234::84]) by smtp-relay.gmail.com with ESMTPS id 00721157ae682-716659b607asm3628227b3.14.2025.07.09.11.30.15 (version=TLS1_2 cipher=ECDHE-ECDSA-AES128-GCM-SHA256 bits=128/128); Wed, 09 Jul 2025 11:30:15 -0700 (PDT) X-Relaying-Domain: iol.unh.edu Date: Wed, 09 Jul 2025 11:30:15 -0700 (PDT) Message-ID: <686eb537.050a0220.3a4c92.3101SMTPIN_ADDED_MISSING@mx.google.com> Received: from [172.21.0.10] (unknown [172.18.0.240]) by postal.iol.unh.edu (Postfix) with ESMTP id 3654A604D420; Wed, 9 Jul 2025 14:30:15 -0400 (EDT) Subject: |SUCCESS| pw155029-155031 [PATCH] [v3,3/3] app/testpmd: improve outp From: dpdklab@iol.unh.edu To: Test Report Cc: dpdk-test-reports@iol.unh.edu In-Reply-To: <20250707111751.183469-4-bruce.richardson@intel.com> References: <20250707111751.183469-4-bruce.richardson@intel.com> Content-Type: text/plain X-BeenThere: test-report@dpdk.org X-Mailman-Version: 2.1.29 Precedence: list List-Id: automatic DPDK test reports List-Unsubscribe: , List-Archive: List-Post: List-Help: List-Subscribe: , Errors-To: test-report-bounces@dpdk.org Test-Label: iol-unit-arm64-testing Test-Status: SUCCESS http://dpdk.org/patch/155031 _Testing PASS_ Submitter: Bruce Richardson Date: Monday, July 07 2025 11:17:51 DPDK git baseline: Repo:dpdk Branch: master CommitID:ba982f9a1ca9b96ed0394b764f1523d482e963a2 155029-155031 --> testing pass Upstream job id: Generic-Unit-Test-DPDK#354264 Test environment and result as below: +------------------------------+------------------------------+---------------------------+--------------+----------------+ | Environment | cryptodev_sw_snow3g_autotest | cryptodev_sw_zuc_autotest | lpm_autotest | dpdk_unit_test | +==============================+==============================+===========================+==============+================+ | Debian 12 (arm) | PASS | PASS | SKIPPED | SKIPPED | +------------------------------+------------------------------+---------------------------+--------------+----------------+ | Ubuntu 20.04 | SKIPPED | SKIPPED | PASS | PASS | +------------------------------+------------------------------+---------------------------+--------------+----------------+ | Fedora Linux 40 | SKIPPED | SKIPPED | SKIPPED | PASS | +------------------------------+------------------------------+---------------------------+--------------+----------------+ | Debian GNU/Linux 12 | SKIPPED | SKIPPED | SKIPPED | PASS | +------------------------------+------------------------------+---------------------------+--------------+----------------+ | CentOS Stream 10 | SKIPPED | SKIPPED | SKIPPED | PASS | +------------------------------+------------------------------+---------------------------+--------------+----------------+ | CentOS Stream 9 | SKIPPED | SKIPPED | SKIPPED | PASS | +------------------------------+------------------------------+---------------------------+--------------+----------------+ | Ubuntu 22.04 | SKIPPED | SKIPPED | SKIPPED | PASS | +------------------------------+------------------------------+---------------------------+--------------+----------------+ | Red Hat Enterprise Linux 9.5 | SKIPPED | SKIPPED | SKIPPED | PASS | +------------------------------+------------------------------+---------------------------+--------------+----------------+ | Fedora Linux 41 | SKIPPED | SKIPPED | SKIPPED | PASS | +------------------------------+------------------------------+---------------------------+--------------+----------------+ | Ubuntu 24.04 | SKIPPED | SKIPPED | SKIPPED | PASS | +------------------------------+------------------------------+---------------------------+--------------+----------------+ Debian 12 (arm) Kernel: Depends on container host Compiler: gcc (Debian 12.2.0-14) 12.2.0 Ubuntu 20.04 Kernel: 5.4 Compiler: gcc gcc (Ubuntu 9.4.0-1ubuntu1~20.04.2) 9.4.0 Fedora Linux 40 Kernel: 5.4 Compiler: clang gcc (GCC) 14.2.1 20240912 (Red Hat 14.2.1-3) Debian GNU/Linux 12 Kernel: 5.4 Compiler: gcc gcc (Debian 12.2.0-14+deb12u1) 12.2.0 CentOS Stream 10 Kernel: 5.4 Compiler: gcc gcc (GCC) 14.2.1 20250110 (Red Hat 14.2.1-8) CentOS Stream 9 Kernel: 5.4 Compiler: gcc gcc (GCC) 11.5.0 20240719 (Red Hat 11.5.0-7) Ubuntu 22.04 Kernel: 5.4 Compiler: gcc gcc (Ubuntu 11.4.0-1ubuntu1~22.04) 11.4.0 Red Hat Enterprise Linux 9.5 Kernel: 5.4 Compiler: gcc gcc (GCC) 11.5.0 20240719 (Red Hat 11.5.0-2) Fedora Linux 41 Kernel: 5.4 Compiler: gcc gcc (GCC) 14.3.1 20250523 (Red Hat 14.3.1-1) Ubuntu 24.04 Kernel: 5.4 Compiler: gcc gcc (Ubuntu 13.3.0-6ubuntu2~24.04) 13.3.0 To view detailed results, visit: https://lab.dpdk.org/results/dashboard/patchsets/33604/ UNH-IOL DPDK Community Lab To manage your email subscriptions, visit: https://lab.dpdk.org/results/dashboard/preferences/subscriptions/