From mboxrd@z Thu Jan 1 00:00:00 1970 Return-Path: Received: from mails.dpdk.org (mails.dpdk.org [217.70.189.124]) by inbox.dpdk.org (Postfix) with ESMTP id 0AA3046B30 for ; Wed, 9 Jul 2025 20:30:39 +0200 (CEST) Received: from mails.dpdk.org (localhost [127.0.0.1]) by mails.dpdk.org (Postfix) with ESMTP id 052174064A; Wed, 9 Jul 2025 20:30:39 +0200 (CEST) Received: from mail-pl1-f226.google.com (mail-pl1-f226.google.com [209.85.214.226]) by mails.dpdk.org (Postfix) with ESMTP id 4A99E4064A for ; Wed, 9 Jul 2025 20:30:37 +0200 (CEST) Received: by mail-pl1-f226.google.com with SMTP id d9443c01a7336-23c8a505177so2215605ad.2 for ; Wed, 09 Jul 2025 11:30:37 -0700 (PDT) DKIM-Signature: v=1; a=rsa-sha256; c=relaxed/relaxed; d=iol.unh.edu; s=unh-iol; t=1752085836; x=1752690636; darn=dpdk.org; h=references:in-reply-to:cc:to:from:subject:message-id:date:from:to :cc:subject:date:message-id:reply-to; bh=2x/i7oAzhsxyaBePuIPRWZjWk1snVeZSxwrq7jV91Pg=; b=NVIHDIlXhC/IMtDBpT+VL2hFdfU6cOYIQlqAJAOeWZ8sAaGZVYPS3dbNbKR/cEMFYx lMQkMlW9SNL1Jh3c6tRjol5AJBSZlX0qYyQfz2ATtYm7JQELjefRUmqGNP6tiz1QH0aq wb9+OVSHMKcWzFWg3cPCmYeeF8afC6nFKPHOo= X-Google-DKIM-Signature: v=1; a=rsa-sha256; c=relaxed/relaxed; d=1e100.net; s=20230601; t=1752085836; x=1752690636; h=references:in-reply-to:cc:to:from:subject:message-id:date :x-gm-message-state:from:to:cc:subject:date:message-id:reply-to; bh=2x/i7oAzhsxyaBePuIPRWZjWk1snVeZSxwrq7jV91Pg=; b=jCMma4k99Cn/sZl8In8H5TMSRpvPNyi3oZGpdjo3OYHuEZP0RHKYsY9gWTGXSeHOLf QE9froJU2ScbaOsDqkzOF3vU4qVHdiyAMEISeQKQ0tFl+9IMIzBTjFPHhd5U405j7mm6 NRhhI+OJYNCvv1GPHob8O9Qa2UcRrtDj+zdNjaKdhRYK2IX0Sl8bJXXMH0gBDrcaogVV Tns07S2ZkbL63XDWovvRD9jTRr/HUBkIN6h/ykOE7FE1LAhqx7SihgL0eGErJBSBajnO LKQ2EkjZJg0OaZd0t1Llvrc60RpnAlz/2QX/1dI7S8Afqvijz/lFu7oReMFdDes4l5KX tFqQ== X-Gm-Message-State: AOJu0YyaSFfL2DPREIMNVFtE8hwtfr+UcJauIv4l8Lzacj0NG0XVDt0S oC+UJZQGjqybvs4pRvIlH83WYspGDQq85r9CnKSZ9JxPA+gkuQazrve6HY9Lp/qyUrp+7YEeJk1 KClWJCoh0rXQ9kGx76kp3qiFVkkMEGecMtjczw7M4rOUPb9S0OZpSFgDpyXrO X-Gm-Gg: ASbGncvWKJDWycWh09KUOg+8aY8RjWQSAqGPtevS2ikO08FG7+kyQQODJ1FuvGZA1tR 55DgFaR/KlbeTatx/LVljnJAJklU4Gaf6Erx/jsncXoTpkDYd/Q83wnZH7NRSdw0u9dmgHEY9Nq 6eI+syon0XSviyRQu0W4yoMpy+1UJKkxexzwRB1IZn/LL/CFTflnSXzJ9SFyM7yNEPyZbnDQlnW nDTssxSGFHp7JTgZ+jTt498Tw4IBtsZhlaDsSLcuQ9eL96XLmimuFC64MRXTbLQTyPruTDxGd3x /7QaNsznM+dlroor2bzUMwCm6RJegOwFsSuuWKkTuc+k3/Q= X-Google-Smtp-Source: AGHT+IHCmOEfq2CFSuh9yE2XWYE2n2ayJFznEmmmWk4SRhFDqgyh08niR8xHO3NeTBV8196f+IEgelKIydas X-Received: by 2002:a17:903:41d2:b0:234:c65f:6c0c with SMTP id d9443c01a7336-23de245f630mr12390205ad.15.1752085836244; Wed, 09 Jul 2025 11:30:36 -0700 (PDT) Received: from postal.iol.unh.edu (postal.iol.unh.edu. [2606:4100:3880:1234::84]) by smtp-relay.gmail.com with ESMTPS id d9443c01a7336-23c842d11dcsm6444605ad.45.2025.07.09.11.30.36 (version=TLS1_2 cipher=ECDHE-ECDSA-AES128-GCM-SHA256 bits=128/128); Wed, 09 Jul 2025 11:30:36 -0700 (PDT) X-Relaying-Domain: iol.unh.edu Date: Wed, 09 Jul 2025 11:30:36 -0700 (PDT) Message-ID: <686eb54c.170a0220.2b94cc.2c55SMTPIN_ADDED_MISSING@mx.google.com> Received: from [172.21.0.5] (unknown [172.18.0.240]) by postal.iol.unh.edu (Postfix) with ESMTP id 6923F604D420; Wed, 9 Jul 2025 14:30:35 -0400 (EDT) Subject: |WARNING| pw155087 [PATCH] maintainers: update for dlb2 From: dpdklab@iol.unh.edu To: Test Report Cc: dpdk-test-reports@iol.unh.edu In-Reply-To: <20250709050434.1296690-1-tirthendu.sarkar@intel.com> References: <20250709050434.1296690-1-tirthendu.sarkar@intel.com> Content-Type: text/plain X-BeenThere: test-report@dpdk.org X-Mailman-Version: 2.1.29 Precedence: list List-Id: automatic DPDK test reports List-Unsubscribe: , List-Archive: List-Post: List-Help: List-Subscribe: , Errors-To: test-report-bounces@dpdk.org Test-Label: iol-compile-amd64-testing Test-Status: WARNING http://dpdk.org/patch/155087 _Testing issues_ Submitter: Tirthendu Sarkar Date: Wednesday, July 09 2025 05:04:34 DPDK git baseline: Repo:dpdk Branch: master CommitID:e90979eebbea093f6bab2d7c222fc5f5c9a85eff 155087 --> testing issues Upstream job id: Windows-Compile-DPDK-Native#29684 Test environment and result as below: +-------------------------------+--------------------+-------------------+-------------------+------------------+-------------------------+ | Environment | dpdk_meson_compile | dpdk_msvc_compile | dpdk_compile_spdk | dpdk_compile_ovs | dpdk_llvm_clang_compile | +===============================+====================+===================+===================+==================+=========================+ | Ubuntu 20.04 | PASS | SKIPPED | SKIPPED | SKIPPED | SKIPPED | +-------------------------------+--------------------+-------------------+-------------------+------------------+-------------------------+ | FreeBSD 14.2 | PASS | SKIPPED | SKIPPED | SKIPPED | SKIPPED | +-------------------------------+--------------------+-------------------+-------------------+------------------+-------------------------+ | CentOS Stream 9 | PASS | SKIPPED | PASS | SKIPPED | SKIPPED | +-------------------------------+--------------------+-------------------+-------------------+------------------+-------------------------+ | CentOS Stream 10 | PASS | SKIPPED | SKIPPED | SKIPPED | SKIPPED | +-------------------------------+--------------------+-------------------+-------------------+------------------+-------------------------+ | Fedora Linux 40 | PASS | SKIPPED | PASS | SKIPPED | SKIPPED | +-------------------------------+--------------------+-------------------+-------------------+------------------+-------------------------+ | Fedora Linux 41 | PASS | SKIPPED | PASS | PASS | SKIPPED | +-------------------------------+--------------------+-------------------+-------------------+------------------+-------------------------+ | openSUSE Leap 15.6 | PASS | SKIPPED | SKIPPED | SKIPPED | SKIPPED | +-------------------------------+--------------------+-------------------+-------------------+------------------+-------------------------+ | Red Hat Enterprise Linux 8.10 | PASS | SKIPPED | SKIPPED | SKIPPED | SKIPPED | +-------------------------------+--------------------+-------------------+-------------------+------------------+-------------------------+ | Red Hat Enterprise Linux 9.5 | PASS | SKIPPED | SKIPPED | SKIPPED | SKIPPED | +-------------------------------+--------------------+-------------------+-------------------+------------------+-------------------------+ | Ubuntu 22.04 | PASS | SKIPPED | PASS | SKIPPED | SKIPPED | +-------------------------------+--------------------+-------------------+-------------------+------------------+-------------------------+ | Ubuntu 24.04 | PASS | SKIPPED | PASS | PASS | SKIPPED | +-------------------------------+--------------------+-------------------+-------------------+------------------+-------------------------+ | Alpine Linux 3.22.0 | PASS | SKIPPED | SKIPPED | SKIPPED | SKIPPED | +-------------------------------+--------------------+-------------------+-------------------+------------------+-------------------------+ | Debian GNU/Linux 12 | PASS | SKIPPED | PASS | SKIPPED | SKIPPED | +-------------------------------+--------------------+-------------------+-------------------+------------------+-------------------------+ | Windows Server 2022 | SKIPPED | PASS | SKIPPED | SKIPPED | PASS | +-------------------------------+--------------------+-------------------+-------------------+------------------+-------------------------+ Ubuntu 20.04 Kernel: 4.19 Compiler: gcc gcc (Ubuntu 9.4.0-1ubuntu1~20.04.2) 9.4.0 FreeBSD 14.2 Kernel: 14.2-RELEASE Compiler: clang 18.1.6 CentOS Stream 9 Kernel: 5.15 Compiler: gcc gcc (GCC) 11.5.0 20240719 (Red Hat 11.5.0-7) CentOS Stream 10 Kernel: 5.15 Compiler: gcc gcc (GCC) 14.2.1 20250110 (Red Hat 14.2.1-8) Fedora Linux 40 Kernel: 5.15 Compiler: clang gcc (GCC) 14.2.1 20240912 (Red Hat 14.2.1-3) Fedora Linux 41 Kernel: 5.15 Compiler: clang gcc (GCC) 14.3.1 20250523 (Red Hat 14.3.1-1) openSUSE Leap 15.6 Kernel: 5.15 Compiler: gcc gcc (SUSE Linux) 7.5.0 Red Hat Enterprise Linux 8.10 Kernel: 5.15 Compiler: gcc gcc (GCC) 8.5.0 20210514 (Red Hat 8.5.0-22) Red Hat Enterprise Linux 9.5 Kernel: 5.15 Compiler: gcc gcc (GCC) 11.5.0 20240719 (Red Hat 11.5.0-2) Ubuntu 22.04 Kernel: 5.15 Compiler: gcc gcc (Ubuntu 11.4.0-1ubuntu1~22.04) 11.4.0 Ubuntu 24.04 Kernel: 5.15 Compiler: gcc gcc (Ubuntu 13.3.0-6ubuntu2~24.04) 13.3.0 Alpine Linux 3.22.0 Kernel: 5.15 Compiler: gcc gcc (Alpine 14.2.0) 14.2.0 Debian GNU/Linux 12 Kernel: 5.15 Compiler: gcc gcc (Debian 12.2.0-14+deb12u1) 12.2.0 Windows Server 2022 Kernel: 10.0.20348.2031 Compiler: clang 15.0.7, gcc 14.1.0 (MinGW), and MSVC VS 19.39.33521 To view detailed results, visit: https://lab.dpdk.org/results/dashboard/patchsets/33620/ UNH-IOL DPDK Community Lab To manage your email subscriptions, visit: https://lab.dpdk.org/results/dashboard/preferences/subscriptions/