From mboxrd@z Thu Jan 1 00:00:00 1970 Return-Path: Received: from mails.dpdk.org (mails.dpdk.org [217.70.189.124]) by inbox.dpdk.org (Postfix) with ESMTP id 1894C46B30 for ; Wed, 9 Jul 2025 20:30:50 +0200 (CEST) Received: from mails.dpdk.org (localhost [127.0.0.1]) by mails.dpdk.org (Postfix) with ESMTP id 13D7E4064A; Wed, 9 Jul 2025 20:30:50 +0200 (CEST) Received: from mail-il1-f228.google.com (mail-il1-f228.google.com [209.85.166.228]) by mails.dpdk.org (Postfix) with ESMTP id 2CD8D4064A for ; Wed, 9 Jul 2025 20:30:48 +0200 (CEST) Received: by mail-il1-f228.google.com with SMTP id e9e14a558f8ab-3d948ce7d9dso747695ab.2 for ; Wed, 09 Jul 2025 11:30:48 -0700 (PDT) DKIM-Signature: v=1; a=rsa-sha256; c=relaxed/relaxed; d=iol.unh.edu; s=unh-iol; t=1752085847; x=1752690647; darn=dpdk.org; h=references:in-reply-to:cc:to:from:subject:message-id:date:from:to :cc:subject:date:message-id:reply-to; bh=X+cBUdIGuXz2JhcaOCh2Qpz7Xw3w5nMPk5l6ZfzibKQ=; b=RQzsLP1ZTLo11D3J3BBfGcn2bcLsNrAL6+dcYr6OecV8ZjOvBagJJOCZZF7Rv6lKDT ++A9WSIiLgh7vmY/R9GGFEFLyPfVaTuBf+xlDjzZGuZVst/+sm5yN7A3c9BW2BvjfO8k BPYXknW0xomBL7rTKHzEl0mqj+nj3Rjw4YaW8= X-Google-DKIM-Signature: v=1; a=rsa-sha256; c=relaxed/relaxed; d=1e100.net; s=20230601; t=1752085847; x=1752690647; h=references:in-reply-to:cc:to:from:subject:message-id:date :x-gm-message-state:from:to:cc:subject:date:message-id:reply-to; bh=X+cBUdIGuXz2JhcaOCh2Qpz7Xw3w5nMPk5l6ZfzibKQ=; b=fDxNfov19/lDozqKesLaKEQM5b6THkSWn10L12pYNkJXeA4v+nLvMi+AqQHU0rTugJ wjQzGfu0Mxb2olx6+vu1kzbB3klv/V+CAyfBab4TQgowGBRIvFxQWzxBas2xW5R/EgML v/b8/9B/y/ywPxQBQsSXdtuWbkLfNT0aOAlKIF1VUCkD+kzGS+X19I0xbglODIevtnr7 xhPPCP1S17GW7Dy49SGtFKdXPzfpmbG9iMIUCSkP5hnYHqAnaeEiR5QT15i0DvUKfEOY fS0F0OTCUuwOGc+tSkhMBRhdO6scGb0ztA36sadiE5woUUZsuUwRuFA8Sp5TxKl072NP Doiw== X-Gm-Message-State: AOJu0YyEL+q+AYHjfNln0j5Kf+mr3FNXjsD6EGTP3ByvU1BrkKD3y7sB ERJ3VpBzz1nUrqQGWHw3MXldGVn2zCD5Nt84OR76xCgH56ChOs5M/JeqLppl7RW+PHj3ehZHDnr WF593O+bWv9mQBgzMBvESY7CglD19XPf6RpbNAkwSqMoj4g6RfjWXiRetGaMA X-Gm-Gg: ASbGncuyvklNFJqw3/YoePmljvpc+9k3F3/w4uoOgRDGJY08vHKfzoOhb2AgcS9S4k9 xLP4V7KCO7wphOX6OxN8FTUvavY+rycaB/3mpwOh3PgqnJz7hkSrikxO2TTR/9gBLk4ydOFi8jR fXZfv8Tc8h6Bery+Zv2eNUZ60fRSYCWOuBgatCONSRKs/aemebfdgrnmDu8vZBLRCkAxn607r8D YRLGENFEW46nroqv34qk/YOXRCmtoYfLyE4GywSWkbgSuK3E8T6ma9m3WfbWkS5bl5Szh8V4q21 j/JJ/UFtB9dlMP324d9Sb3kZ/Am6kFle+gCGDc5WgBGr0zw= X-Google-Smtp-Source: AGHT+IGdJEjD5N6AV+THOcv9exdAkuxYF3TEjoGz8zLCDhrfH+c/YNULtsC+K1bV0KhMl9XPC5gmOjqCREp9 X-Received: by 2002:a05:6e02:3191:b0:3de:119f:5261 with SMTP id e9e14a558f8ab-3e166ff4ec4mr39185635ab.3.1752085847428; Wed, 09 Jul 2025 11:30:47 -0700 (PDT) Received: from postal.iol.unh.edu (postal.iol.unh.edu. [2606:4100:3880:1234::84]) by smtp-relay.gmail.com with ESMTPS id 8926c6da1cb9f-503b59bdb8fsm505406173.10.2025.07.09.11.30.47 (version=TLS1_2 cipher=ECDHE-ECDSA-AES128-GCM-SHA256 bits=128/128); Wed, 09 Jul 2025 11:30:47 -0700 (PDT) X-Relaying-Domain: iol.unh.edu Date: Wed, 09 Jul 2025 11:30:47 -0700 (PDT) Message-ID: <686eb557.050a0220.4b63f.b0abSMTPIN_ADDED_MISSING@mx.google.com> Received: from [172.21.0.10] (unknown [172.18.0.240]) by postal.iol.unh.edu (Postfix) with ESMTP id 0EAF3604D420; Wed, 9 Jul 2025 14:30:47 -0400 (EDT) Subject: |SUCCESS| pw155029-155031 [PATCH] [v3,3/3] app/testpmd: improve outp From: dpdklab@iol.unh.edu To: Test Report Cc: dpdk-test-reports@iol.unh.edu In-Reply-To: <20250707111751.183469-4-bruce.richardson@intel.com> References: <20250707111751.183469-4-bruce.richardson@intel.com> Content-Type: text/plain X-BeenThere: test-report@dpdk.org X-Mailman-Version: 2.1.29 Precedence: list List-Id: automatic DPDK test reports List-Unsubscribe: , List-Archive: List-Post: List-Help: List-Subscribe: , Errors-To: test-report-bounces@dpdk.org Test-Label: iol-unit-arm64-testing Test-Status: SUCCESS http://dpdk.org/patch/155031 _Testing PASS_ Submitter: Bruce Richardson Date: Monday, July 07 2025 11:17:51 DPDK git baseline: Repo:dpdk Branch: master CommitID:ba982f9a1ca9b96ed0394b764f1523d482e963a2 155029-155031 --> testing pass Upstream job id: Generic-Unit-Test-DPDK#354260 Test environment and result as below: +------------------------------+------------------------------+---------------------------+--------------+----------------+ | Environment | cryptodev_sw_snow3g_autotest | cryptodev_sw_zuc_autotest | lpm_autotest | dpdk_unit_test | +==============================+==============================+===========================+==============+================+ | Debian 12 (arm) | PASS | PASS | SKIPPED | SKIPPED | +------------------------------+------------------------------+---------------------------+--------------+----------------+ | Ubuntu 20.04 | SKIPPED | SKIPPED | PASS | PASS | +------------------------------+------------------------------+---------------------------+--------------+----------------+ | Fedora Linux 40 | SKIPPED | SKIPPED | SKIPPED | PASS | +------------------------------+------------------------------+---------------------------+--------------+----------------+ | Debian GNU/Linux 12 | SKIPPED | SKIPPED | SKIPPED | PASS | +------------------------------+------------------------------+---------------------------+--------------+----------------+ | CentOS Stream 10 | SKIPPED | SKIPPED | SKIPPED | PASS | +------------------------------+------------------------------+---------------------------+--------------+----------------+ | CentOS Stream 9 | SKIPPED | SKIPPED | SKIPPED | PASS | +------------------------------+------------------------------+---------------------------+--------------+----------------+ | Ubuntu 22.04 | SKIPPED | SKIPPED | SKIPPED | PASS | +------------------------------+------------------------------+---------------------------+--------------+----------------+ | Red Hat Enterprise Linux 9.5 | SKIPPED | SKIPPED | SKIPPED | PASS | +------------------------------+------------------------------+---------------------------+--------------+----------------+ | Fedora Linux 41 | SKIPPED | SKIPPED | SKIPPED | PASS | +------------------------------+------------------------------+---------------------------+--------------+----------------+ | Ubuntu 24.04 | SKIPPED | SKIPPED | SKIPPED | PASS | +------------------------------+------------------------------+---------------------------+--------------+----------------+ Debian 12 (arm) Kernel: Depends on container host Compiler: gcc (Debian 12.2.0-14) 12.2.0 Ubuntu 20.04 Kernel: 5.4 Compiler: gcc gcc (Ubuntu 9.4.0-1ubuntu1~20.04.2) 9.4.0 Fedora Linux 40 Kernel: 5.4 Compiler: clang gcc (GCC) 14.2.1 20240912 (Red Hat 14.2.1-3) Debian GNU/Linux 12 Kernel: 5.4 Compiler: gcc gcc (Debian 12.2.0-14+deb12u1) 12.2.0 CentOS Stream 10 Kernel: 5.4 Compiler: gcc gcc (GCC) 14.2.1 20250110 (Red Hat 14.2.1-8) CentOS Stream 9 Kernel: 5.4 Compiler: gcc gcc (GCC) 11.5.0 20240719 (Red Hat 11.5.0-7) Ubuntu 22.04 Kernel: 5.4 Compiler: gcc gcc (Ubuntu 11.4.0-1ubuntu1~22.04) 11.4.0 Red Hat Enterprise Linux 9.5 Kernel: 5.4 Compiler: gcc gcc (GCC) 11.5.0 20240719 (Red Hat 11.5.0-2) Fedora Linux 41 Kernel: 5.4 Compiler: gcc gcc (GCC) 14.3.1 20250523 (Red Hat 14.3.1-1) Ubuntu 24.04 Kernel: 5.4 Compiler: gcc gcc (Ubuntu 13.3.0-6ubuntu2~24.04) 13.3.0 To view detailed results, visit: https://lab.dpdk.org/results/dashboard/patchsets/33604/ UNH-IOL DPDK Community Lab To manage your email subscriptions, visit: https://lab.dpdk.org/results/dashboard/preferences/subscriptions/