From mboxrd@z Thu Jan 1 00:00:00 1970 Return-Path: Received: from mails.dpdk.org (mails.dpdk.org [217.70.189.124]) by inbox.dpdk.org (Postfix) with ESMTP id 6561F46B30 for ; Wed, 9 Jul 2025 20:33:13 +0200 (CEST) Received: from mails.dpdk.org (localhost [127.0.0.1]) by mails.dpdk.org (Postfix) with ESMTP id 5E5E94064A; Wed, 9 Jul 2025 20:33:13 +0200 (CEST) Received: from mail-pl1-f225.google.com (mail-pl1-f225.google.com [209.85.214.225]) by mails.dpdk.org (Postfix) with ESMTP id 713CA4064A for ; Wed, 9 Jul 2025 20:33:11 +0200 (CEST) Received: by mail-pl1-f225.google.com with SMTP id d9443c01a7336-2349f096605so2420465ad.3 for ; Wed, 09 Jul 2025 11:33:11 -0700 (PDT) DKIM-Signature: v=1; a=rsa-sha256; c=relaxed/relaxed; d=iol.unh.edu; s=unh-iol; t=1752085990; x=1752690790; darn=dpdk.org; h=references:in-reply-to:cc:to:from:subject:message-id:date:from:to :cc:subject:date:message-id:reply-to; bh=5usTngsxYVHbLGkDRJn2istgRP6hsXYwGE0GpBaZ5O8=; b=FujcUzRYVEUbQ9v6/ni9mdgCQruMC2lkLNMPV6TEC0Hl8nS1FatJpmYyykL3xc3zFy 32+L+q6ErkrERCSZrCpT55ToeK3BY9CD/0zyr0Wq1AD+qSZ6v4f7DegcVQQmjnPZu3bL lKxQbIUpa2584upzHeaniL2QaLE0fujQ9rL90= X-Google-DKIM-Signature: v=1; a=rsa-sha256; c=relaxed/relaxed; d=1e100.net; s=20230601; t=1752085990; x=1752690790; h=references:in-reply-to:cc:to:from:subject:message-id:date :x-gm-message-state:from:to:cc:subject:date:message-id:reply-to; bh=5usTngsxYVHbLGkDRJn2istgRP6hsXYwGE0GpBaZ5O8=; b=NtpHHNOSS5tXWmJ2osi6c5kYQnPpFU6eiQ6ZKaqR1SW3K36MhWs7ezhU2toNeKKjxI sZ2QCT/CsNKypV9oWmI04HpdoRXnVuUsZRMTt5LvaUecyHFIqnFosckOuPdnfR+0lNnW NSJ3OeALMuAIPD6SP+AYINR06U5ANdgZnzKEpLtYZugrv7EJ6Y51EKBNUGBLZ3vLYORN MGuyqhcySR4gX+7pRUKaXpuqYDddeuw1IxMvljyQvoUWlE76GZo7T7kljEfO1rWEKGhm 7psbF0M2TmMu4w4IIaGdY/FsnE8xLpMIIOXOPxkRW6YFKnvpqydKvan9si9idW/fKdKD IQwA== X-Gm-Message-State: AOJu0Yz3hkZzivOKkiE9Yvvw25QXQl5SWFfwP40gPOtfBAR3N1y4VTQf 8ySRNxini0NNJHgKrJ15v4W/KHI4SUK4848ooO4jrljP4fqh19bsltTID6o2KOaJ3l5OzQCcFYx zRSH18B6awxUEOgRcdDYxvDpVEpQ/T8OsjUK9f7mHlYwy X-Gm-Gg: ASbGncso1buB9qNLfz87fgwTpOM1l65RN1I0tgaF171KCG6a/aFlN8EUlxgm6wh4k2A TeVHQOhAO7MP599TJUjCAU0XvmKOCwfWcjXGgMdkKDz63Wkiuz7RKzMYTL1BZxeK23YcyHJpCcJ kJT2WUckrhOYEQ5ysep18etEBXdH2NASW6edeDtsauy1//e5vMyxsHb0bZEWoSiQRJTNPI//q72 /DzRkdUZssV7e33gEB8WzL0suC/BNUf/sxB0x+wbDQpf3N8QMuXDJwpYpGlNPPtTW7HUYdyG9KJ BiOhmyaxvmGBHlAQDiMeRybm5p6N1w/aAg5y/ZR7cSZ1o5/s8T5pTC6SfaUWfEPlq5Oyrg== X-Google-Smtp-Source: AGHT+IHUs65doqDaSnoLmty+PUsyRiCkZ+nEjExlbtlCQWIKwTG30+I+bJfLwELQv3BLbGt46S6IJNa9sTD0 X-Received: by 2002:a17:902:ef0b:b0:235:cb94:1399 with SMTP id d9443c01a7336-23ddb1dc490mr66352815ad.6.1752085990439; Wed, 09 Jul 2025 11:33:10 -0700 (PDT) Received: from postal.iol.unh.edu (postal.iol.unh.edu. [132.177.123.84]) by smtp-relay.gmail.com with ESMTPS id d9443c01a7336-23c842b5494sm6853295ad.13.2025.07.09.11.33.10 (version=TLS1_2 cipher=ECDHE-ECDSA-AES128-GCM-SHA256 bits=128/128); Wed, 09 Jul 2025 11:33:10 -0700 (PDT) X-Relaying-Domain: iol.unh.edu Date: Wed, 09 Jul 2025 11:33:10 -0700 (PDT) Message-ID: <686eb5e6.170a0220.16fa49.513cSMTPIN_ADDED_MISSING@mx.google.com> Received: from [172.21.0.6] (unknown [172.18.0.240]) by postal.iol.unh.edu (Postfix) with ESMTP id E5088604D420; Wed, 9 Jul 2025 14:33:09 -0400 (EDT) Subject: |WARNING| pw155108 [PATCH] [v1,1/1] net/iavf: fix order of inclusion From: dpdklab@iol.unh.edu To: Test Report Cc: dpdk-test-reports@iol.unh.edu In-Reply-To: <552f8241f4f65fce0c8b43797612a97dec5d9ebc.1752066381.git.anatoly.burakov@intel.com> References: <552f8241f4f65fce0c8b43797612a97dec5d9ebc.1752066381.git.anatoly.burakov@intel.com> Content-Type: text/plain X-BeenThere: test-report@dpdk.org X-Mailman-Version: 2.1.29 Precedence: list List-Id: automatic DPDK test reports List-Unsubscribe: , List-Archive: List-Post: List-Help: List-Subscribe: , Errors-To: test-report-bounces@dpdk.org Test-Label: iol-compile-amd64-testing Test-Status: WARNING http://dpdk.org/patch/155108 _Testing issues_ Submitter: Burakov, Anatoly Date: Wednesday, July 09 2025 13:06:29 DPDK git baseline: Repo:dpdk Branch: master CommitID:f1853a0cc95eaae5842b88be0cbcd5becc2e94b7 155108 --> testing issues Upstream job id: Generic-DPDK-Compile-Meson#407302 Test environment and result as below: +-------------------------------+--------------------+-------------------+-------------------+------------------+ | Environment | dpdk_meson_compile | dpdk_msvc_compile | dpdk_compile_spdk | dpdk_compile_ovs | +===============================+====================+===================+===================+==================+ | FreeBSD 14.2 | PASS | SKIPPED | SKIPPED | SKIPPED | +-------------------------------+--------------------+-------------------+-------------------+------------------+ | Ubuntu 20.04 | PASS | SKIPPED | SKIPPED | SKIPPED | +-------------------------------+--------------------+-------------------+-------------------+------------------+ | CentOS Stream 9 | PASS | SKIPPED | PASS | SKIPPED | +-------------------------------+--------------------+-------------------+-------------------+------------------+ | CentOS Stream 10 | PASS | SKIPPED | SKIPPED | SKIPPED | +-------------------------------+--------------------+-------------------+-------------------+------------------+ | Debian GNU/Linux 12 | PASS | SKIPPED | PASS | SKIPPED | +-------------------------------+--------------------+-------------------+-------------------+------------------+ | Fedora Linux 40 | PASS | SKIPPED | PASS | SKIPPED | +-------------------------------+--------------------+-------------------+-------------------+------------------+ | Fedora Linux 41 | PASS | SKIPPED | PASS | PASS | +-------------------------------+--------------------+-------------------+-------------------+------------------+ | openSUSE Leap 15.6 | PASS | SKIPPED | SKIPPED | SKIPPED | +-------------------------------+--------------------+-------------------+-------------------+------------------+ | Red Hat Enterprise Linux 8.10 | PASS | SKIPPED | SKIPPED | SKIPPED | +-------------------------------+--------------------+-------------------+-------------------+------------------+ | Red Hat Enterprise Linux 9.5 | PASS | SKIPPED | SKIPPED | SKIPPED | +-------------------------------+--------------------+-------------------+-------------------+------------------+ | Ubuntu 22.04 | PASS | SKIPPED | PASS | SKIPPED | +-------------------------------+--------------------+-------------------+-------------------+------------------+ | Ubuntu 24.04 | PASS | SKIPPED | PASS | PASS | +-------------------------------+--------------------+-------------------+-------------------+------------------+ | Alpine Linux 3.22.0 | PASS | SKIPPED | SKIPPED | SKIPPED | +-------------------------------+--------------------+-------------------+-------------------+------------------+ | Windows Server 2022 | SKIPPED | PASS | SKIPPED | SKIPPED | +-------------------------------+--------------------+-------------------+-------------------+------------------+ FreeBSD 14.2 Kernel: 14.2-RELEASE Compiler: clang 18.1.6 Ubuntu 20.04 Kernel: 4.19 Compiler: gcc gcc (Ubuntu 9.4.0-1ubuntu1~20.04.2) 9.4.0 CentOS Stream 9 Kernel: 5.15 Compiler: gcc gcc (GCC) 11.5.0 20240719 (Red Hat 11.5.0-7) CentOS Stream 10 Kernel: 5.15 Compiler: gcc gcc (GCC) 14.2.1 20250110 (Red Hat 14.2.1-8) Debian GNU/Linux 12 Kernel: 5.15 Compiler: gcc gcc (Debian 12.2.0-14+deb12u1) 12.2.0 Fedora Linux 40 Kernel: 5.15 Compiler: clang gcc (GCC) 14.2.1 20240912 (Red Hat 14.2.1-3) Fedora Linux 41 Kernel: 5.15 Compiler: clang gcc (GCC) 14.3.1 20250523 (Red Hat 14.3.1-1) openSUSE Leap 15.6 Kernel: 5.15 Compiler: gcc gcc (SUSE Linux) 7.5.0 Red Hat Enterprise Linux 8.10 Kernel: 5.15 Compiler: gcc gcc (GCC) 8.5.0 20210514 (Red Hat 8.5.0-22) Red Hat Enterprise Linux 9.5 Kernel: 5.15 Compiler: gcc gcc (GCC) 11.5.0 20240719 (Red Hat 11.5.0-2) Ubuntu 22.04 Kernel: 5.15 Compiler: gcc gcc (Ubuntu 11.4.0-1ubuntu1~22.04) 11.4.0 Ubuntu 24.04 Kernel: 5.15 Compiler: gcc gcc (Ubuntu 13.3.0-6ubuntu2~24.04) 13.3.0 Alpine Linux 3.22.0 Kernel: 5.15 Compiler: gcc gcc (Alpine 14.2.0) 14.2.0 Windows Server 2022 Kernel: 10.0.20348.2031 Compiler: clang 15.0.7, gcc 14.1.0 (MinGW), and MSVC VS 19.39.33521 To view detailed results, visit: https://lab.dpdk.org/results/dashboard/patchsets/33627/ UNH-IOL DPDK Community Lab To manage your email subscriptions, visit: https://lab.dpdk.org/results/dashboard/preferences/subscriptions/