From mboxrd@z Thu Jan 1 00:00:00 1970 Return-Path: Received: from mails.dpdk.org (mails.dpdk.org [217.70.189.124]) by inbox.dpdk.org (Postfix) with ESMTP id ED4BD46B30 for ; Wed, 9 Jul 2025 20:36:20 +0200 (CEST) Received: from mails.dpdk.org (localhost [127.0.0.1]) by mails.dpdk.org (Postfix) with ESMTP id C46A94064A; Wed, 9 Jul 2025 20:36:20 +0200 (CEST) Received: from mail-io1-f100.google.com (mail-io1-f100.google.com [209.85.166.100]) by mails.dpdk.org (Postfix) with ESMTP id E26F54064A for ; Wed, 9 Jul 2025 20:36:19 +0200 (CEST) Received: by mail-io1-f100.google.com with SMTP id ca18e2360f4ac-875b52a09d1so8776939f.0 for ; Wed, 09 Jul 2025 11:36:19 -0700 (PDT) DKIM-Signature: v=1; a=rsa-sha256; c=relaxed/relaxed; d=iol.unh.edu; s=unh-iol; t=1752086179; x=1752690979; darn=dpdk.org; h=references:in-reply-to:cc:to:from:subject:message-id:date:from:to :cc:subject:date:message-id:reply-to; bh=I6ARhyNv86Bqa3NXdZAWn0aP6zsTXXq7mylkGfvYNq8=; b=HIbKdnsdI42vE0lk57mOkj6LEY44Wjn02AnqxdNxFc92dK3gsyMcJiD4cCqTj7EjQC leyxiyCisnQCrP0BUFEktdKj10Bt0/qkycimHrC4kwa+r2+LKnX0dWKve6cv4WkTziOD 4vHt7KCRaZURvcCgCU/eX72wbOyBRg+gMlhqI= X-Google-DKIM-Signature: v=1; a=rsa-sha256; c=relaxed/relaxed; d=1e100.net; s=20230601; t=1752086179; x=1752690979; h=references:in-reply-to:cc:to:from:subject:message-id:date :x-gm-message-state:from:to:cc:subject:date:message-id:reply-to; bh=I6ARhyNv86Bqa3NXdZAWn0aP6zsTXXq7mylkGfvYNq8=; b=OKe4BA3PUlapmI+XgqTOnLCDnHomXYemAojdFgNSB/OrD6gIwseRiADjJYwNqrewXy fbgXmcnTu0bhOccWAXtrQid2+ld6x+2geu3gJtNeHwFG9AY1a75o1lpp1zFZU8RVSG6O Zgr3GZNxduQb/pl2WCtOK447UGv91q8UBZAKRnmjO724fvz+5qBtxmvzmsEzXgUiRmxL vuvkHNC6XBKrNdzrIxmSkVpB6xxDD8t2zy9O/c9WzK1qDUmV9WG6+AyerNRvxVOjo2LL pYC5UAIztmC5klQE2BwS2vtpEGvW7yIwkvwxzYORqm0VF0GHie2FsoO1ZoyVwWptydaS gJ9w== X-Gm-Message-State: AOJu0YycOjM2eqJKGTGm5k70Mdtqb1FB8VaOz4DHTVClp3liLIKBuNU0 xyYxuenj3GKo9Y6CrYZIfnnaP1y4N5aTXjhYeSHCr41newUXBKqMb3ETbPjjyb+o5MpLKRcwEyQ 8kXEnkT4mbgQ/7gdTKxdSdoKxNsDIIbeNm5lo9bT8Hbu6 X-Gm-Gg: ASbGncsSUriAqTqDmgsVj7HOX50vf3JVL4nZ0Q350IuzM6C7y6KEY9wiJB8V+mKQ4+k LAVjMd1aC+eWl3HGdSVbik3eDp8VN+US2yIMa1kj8q8pKBMhxRBILABieuV8NqtOeP+jOSwk4PX stdB6+Xy+Gp4WRM7h+R8V+u68P5AADJoo/VUyqLCNbzzJOZmqFhy8XCYVnNEcwbDbG+LGC1WRle jQZkzCMxkaEFZbhKJHKQKsDYL+Bh+LjhJmePLw4kBRUdmjTp2HoukHTsbidW0s4XFY2WKxgxZ63 FqLsfiTDdHIo02V/jko+evGKfzIvbdSpPq8kcHf/CorTBQTWIEn2PAqOf7ZKi6TKou83Fg== X-Google-Smtp-Source: AGHT+IF8aCQ/f0MDoO7F/C1FiByxPTkUZYSPyDsw/HEK7RG2gk1WU83fzOjs7wMtk9a7HjYZR/hB96Gfz9XS X-Received: by 2002:a5e:8d14:0:b0:873:f22:92fb with SMTP id ca18e2360f4ac-8795b08f382mr310157839f.1.1752086179094; Wed, 09 Jul 2025 11:36:19 -0700 (PDT) Received: from postal.iol.unh.edu (postal.iol.unh.edu. [132.177.123.84]) by smtp-relay.gmail.com with ESMTPS id ca18e2360f4ac-876e07b3e88sm65233739f.8.2025.07.09.11.36.19 (version=TLS1_2 cipher=ECDHE-ECDSA-AES128-GCM-SHA256 bits=128/128); Wed, 09 Jul 2025 11:36:19 -0700 (PDT) X-Relaying-Domain: iol.unh.edu Date: Wed, 09 Jul 2025 11:36:19 -0700 (PDT) Message-ID: <686eb6a3.5d0a0220.f9b5.2d6dSMTPIN_ADDED_MISSING@mx.google.com> Received: from [172.21.0.5] (unknown [172.18.0.240]) by postal.iol.unh.edu (Postfix) with ESMTP id 9194E604D420; Wed, 9 Jul 2025 14:36:18 -0400 (EDT) Subject: |WARNING| pw155029-155031 [PATCH] [v3,3/3] app/testpmd: improve outp From: dpdklab@iol.unh.edu To: Test Report Cc: dpdk-test-reports@iol.unh.edu In-Reply-To: <20250707111751.183469-4-bruce.richardson@intel.com> References: <20250707111751.183469-4-bruce.richardson@intel.com> Content-Type: text/plain X-BeenThere: test-report@dpdk.org X-Mailman-Version: 2.1.29 Precedence: list List-Id: automatic DPDK test reports List-Unsubscribe: , List-Archive: List-Post: List-Help: List-Subscribe: , Errors-To: test-report-bounces@dpdk.org Test-Label: iol-compile-amd64-testing Test-Status: WARNING http://dpdk.org/patch/155031 _Testing issues_ Submitter: Bruce Richardson Date: Monday, July 07 2025 11:17:51 DPDK git baseline: Repo:dpdk Branch: master CommitID:ba982f9a1ca9b96ed0394b764f1523d482e963a2 155029-155031 --> testing issues Upstream job id: Generic-DPDK-Compile-Meson#407339 Test environment and result as below: +-------------------------------+--------------------+-------------------+------------------+-------------------+ | Environment | dpdk_meson_compile | dpdk_compile_spdk | dpdk_compile_ovs | dpdk_msvc_compile | +===============================+====================+===================+==================+===================+ | CentOS Stream 9 | PASS | PASS | SKIPPED | SKIPPED | +-------------------------------+--------------------+-------------------+------------------+-------------------+ | CentOS Stream 10 | PASS | SKIPPED | SKIPPED | SKIPPED | +-------------------------------+--------------------+-------------------+------------------+-------------------+ | Debian GNU/Linux 12 | PASS | PASS | SKIPPED | SKIPPED | +-------------------------------+--------------------+-------------------+------------------+-------------------+ | Fedora Linux 40 | PASS | PASS | SKIPPED | SKIPPED | +-------------------------------+--------------------+-------------------+------------------+-------------------+ | Fedora Linux 41 | PASS | PASS | PASS | SKIPPED | +-------------------------------+--------------------+-------------------+------------------+-------------------+ | openSUSE Leap 15.6 | PASS | SKIPPED | SKIPPED | SKIPPED | +-------------------------------+--------------------+-------------------+------------------+-------------------+ | Red Hat Enterprise Linux 8.10 | PASS | SKIPPED | SKIPPED | SKIPPED | +-------------------------------+--------------------+-------------------+------------------+-------------------+ | Red Hat Enterprise Linux 9.5 | PASS | SKIPPED | SKIPPED | SKIPPED | +-------------------------------+--------------------+-------------------+------------------+-------------------+ | Ubuntu 20.04 | PASS | SKIPPED | SKIPPED | SKIPPED | +-------------------------------+--------------------+-------------------+------------------+-------------------+ | Ubuntu 22.04 | PASS | PASS | SKIPPED | SKIPPED | +-------------------------------+--------------------+-------------------+------------------+-------------------+ | Ubuntu 24.04 | PASS | PASS | PASS | SKIPPED | +-------------------------------+--------------------+-------------------+------------------+-------------------+ | Alpine Linux 3.22.0 | PASS | SKIPPED | SKIPPED | SKIPPED | +-------------------------------+--------------------+-------------------+------------------+-------------------+ | FreeBSD 14.2 | PASS | SKIPPED | SKIPPED | SKIPPED | +-------------------------------+--------------------+-------------------+------------------+-------------------+ | Windows Server 2022 | SKIPPED | SKIPPED | SKIPPED | PASS | +-------------------------------+--------------------+-------------------+------------------+-------------------+ CentOS Stream 9 Kernel: 5.15 Compiler: gcc gcc (GCC) 11.5.0 20240719 (Red Hat 11.5.0-7) CentOS Stream 10 Kernel: 5.15 Compiler: gcc gcc (GCC) 14.2.1 20250110 (Red Hat 14.2.1-8) Debian GNU/Linux 12 Kernel: 5.15 Compiler: gcc gcc (Debian 12.2.0-14+deb12u1) 12.2.0 Fedora Linux 40 Kernel: 5.15 Compiler: clang gcc (GCC) 14.2.1 20240912 (Red Hat 14.2.1-3) Fedora Linux 41 Kernel: 5.15 Compiler: clang gcc (GCC) 14.3.1 20250523 (Red Hat 14.3.1-1) openSUSE Leap 15.6 Kernel: 5.15 Compiler: gcc gcc (SUSE Linux) 7.5.0 Red Hat Enterprise Linux 8.10 Kernel: 5.15 Compiler: gcc gcc (GCC) 8.5.0 20210514 (Red Hat 8.5.0-22) Red Hat Enterprise Linux 9.5 Kernel: 5.15 Compiler: gcc gcc (GCC) 11.5.0 20240719 (Red Hat 11.5.0-2) Ubuntu 20.04 Kernel: 5.15 Compiler: gcc gcc (Ubuntu 9.4.0-1ubuntu1~20.04.2) 9.4.0 Ubuntu 22.04 Kernel: 5.15 Compiler: gcc gcc (Ubuntu 11.4.0-1ubuntu1~22.04) 11.4.0 Ubuntu 24.04 Kernel: 5.15 Compiler: gcc gcc (Ubuntu 13.3.0-6ubuntu2~24.04) 13.3.0 Alpine Linux 3.22.0 Kernel: 5.15 Compiler: gcc gcc (Alpine 14.2.0) 14.2.0 FreeBSD 14.2 Kernel: 14.2-RELEASE Compiler: clang 18.1.6 Windows Server 2022 Kernel: 10.0.20348.2031 Compiler: clang 15.0.7, gcc 14.1.0 (MinGW), and MSVC VS 19.39.33521 To view detailed results, visit: https://lab.dpdk.org/results/dashboard/patchsets/33604/ UNH-IOL DPDK Community Lab To manage your email subscriptions, visit: https://lab.dpdk.org/results/dashboard/preferences/subscriptions/