From mboxrd@z Thu Jan 1 00:00:00 1970 Return-Path: Received: from mails.dpdk.org (mails.dpdk.org [217.70.189.124]) by inbox.dpdk.org (Postfix) with ESMTP id A95A646B30 for ; Wed, 9 Jul 2025 20:41:41 +0200 (CEST) Received: from mails.dpdk.org (localhost [127.0.0.1]) by mails.dpdk.org (Postfix) with ESMTP id 961CB4064A; Wed, 9 Jul 2025 20:41:41 +0200 (CEST) Received: from mail-oi1-f228.google.com (mail-oi1-f228.google.com [209.85.167.228]) by mails.dpdk.org (Postfix) with ESMTP id 121A84064A for ; Wed, 9 Jul 2025 20:41:40 +0200 (CEST) Received: by mail-oi1-f228.google.com with SMTP id 5614622812f47-40b32b6af9eso141775b6e.1 for ; Wed, 09 Jul 2025 11:41:39 -0700 (PDT) DKIM-Signature: v=1; a=rsa-sha256; c=relaxed/relaxed; d=iol.unh.edu; s=unh-iol; t=1752086499; x=1752691299; darn=dpdk.org; h=references:in-reply-to:cc:to:from:subject:message-id:date:from:to :cc:subject:date:message-id:reply-to; bh=Zuj+JRofdv7cm5gu9ZciOljtwamp4DyzmobTu3ZmXjo=; b=TuyYFRvk5wfWFlPRgRW7qD1ooEXjI6Oar6fAm2zqGsKngmw1+ybLzGdtpnatB1GTHH VBIi+DynOaR+suKz/ipVMxUCLv2SKWdw7mdhFnKcHy4MfMv0TmyYsEguoHkvOD5jFO+G 04SdqDOqTrlc4XgzSxSUA1oMZBkpwxK1JtQKc= X-Google-DKIM-Signature: v=1; a=rsa-sha256; c=relaxed/relaxed; d=1e100.net; s=20230601; t=1752086499; x=1752691299; h=references:in-reply-to:cc:to:from:subject:message-id:date :x-gm-message-state:from:to:cc:subject:date:message-id:reply-to; bh=Zuj+JRofdv7cm5gu9ZciOljtwamp4DyzmobTu3ZmXjo=; b=RqK8O9GzIcL0jux7vqNn1dPvwDulFynMjs3qfjJvpCT1B5K5yQDm+p5qkBRk+sLkhv ddOvpTCAR3PvQPgcq8loaSufFAhvf9v82eEniPAzvKuJHD2TceOYT0gAc2tvUoCzYTC8 1MUBelebR4DE+3QtiLf2AIMXrHDEaHvQcii6JL7AQSPFmI1ofdagQCLT9I/U+RcNPNAO inuFOBoDFnzykuVuM6eSIQLLUYB+u+vLz16uuM8ts3vrPOQCSkB8miKtnZUa0GlZKpnT L2erROYHphojoX50JN2Yd3xUxw3BV45//dzME++pPtk4b3ojVtTtHz12aqBbs/Dhgap6 XGjQ== X-Gm-Message-State: AOJu0YzbeOsYEdOOw4g8Abd2c36Gv2vf45BG8HitPNxE0/ujWJbC+zeq qcahzsXBKmiPEn+aDH3mV7eMg+AbEkTDSIzJ+eWnVJGeFAiPMPZLBga8D/ARe21xASea8v4AUqW z8xtVMsW1NI5lrGLd7TLwPQOd4iVChWp83WC9Nm+k+RlZ X-Gm-Gg: ASbGncvenYUriaqGKg9TlTC6Uqll/iwi5zKrm2JRjCbJxbzk8UOHKP3EyrcEDy6ctKG EJ/05gdlqtSFjfyP7GbiALA6fQYdqGQJ465QCsI/JT8jNqpyUNST4Dj5MW64fWYgJQKS3O11w8h HNQM2QgjUb7IgeMIvt1+hwDzfh58rQhM0dYbRft2Rq4VV8QTnJHBzMVdxfFZLEJqkyITtbvoNeC VhjxEDreFgGGCkJkWMb4LYAHO26TuYIFmG7Tq7TpQs6bdjEkxlKRlIeWUN1YEpDKp5kj8LhJiZL Yk+VOL37KiKGuGS667sTbzaeKbz44eFOJSVHBKwWwDlTVGL4TqU+rIlcg2Rq7WEO8dd1CA== X-Google-Smtp-Source: AGHT+IHarD9CluZH9yKhpYgVydUuuEeU0TnxFd9ovb5yEpcu7qxJc1HJd+Ualexia3SjyZELRXNAj+2kyzFI X-Received: by 2002:a05:6808:e89:b0:40a:bba3:f660 with SMTP id 5614622812f47-412bc764203mr2580243b6e.30.1752086499253; Wed, 09 Jul 2025 11:41:39 -0700 (PDT) Received: from postal.iol.unh.edu (postal.iol.unh.edu. [132.177.123.84]) by smtp-relay.gmail.com with ESMTPS id 006d021491bc7-6138e475571sm325405eaf.2.2025.07.09.11.41.39 (version=TLS1_2 cipher=ECDHE-ECDSA-AES128-GCM-SHA256 bits=128/128); Wed, 09 Jul 2025 11:41:39 -0700 (PDT) X-Relaying-Domain: iol.unh.edu Date: Wed, 09 Jul 2025 11:41:39 -0700 (PDT) Message-ID: <686eb7e3.050a0220.1d3d71.0782SMTPIN_ADDED_MISSING@mx.google.com> Received: from [172.21.0.5] (unknown [172.18.0.240]) by postal.iol.unh.edu (Postfix) with ESMTP id BB9DD6051830; Wed, 9 Jul 2025 14:41:38 -0400 (EDT) Subject: |SUCCESS| pw155029-155031 [PATCH] [v3,3/3] app/testpmd: improve outp From: dpdklab@iol.unh.edu To: Test Report Cc: dpdk-test-reports@iol.unh.edu In-Reply-To: <20250707111751.183469-4-bruce.richardson@intel.com> References: <20250707111751.183469-4-bruce.richardson@intel.com> Content-Type: text/plain X-BeenThere: test-report@dpdk.org X-Mailman-Version: 2.1.29 Precedence: list List-Id: automatic DPDK test reports List-Unsubscribe: , List-Archive: List-Post: List-Help: List-Subscribe: , Errors-To: test-report-bounces@dpdk.org Test-Label: iol-unit-amd64-testing Test-Status: SUCCESS http://dpdk.org/patch/155031 _Testing PASS_ Submitter: Bruce Richardson Date: Monday, July 07 2025 11:17:51 DPDK git baseline: Repo:dpdk Branch: master CommitID:ba982f9a1ca9b96ed0394b764f1523d482e963a2 155029-155031 --> testing pass Upstream job id: Generic-Unit-Test-DPDK#354263 Test environment and result as below: +-------------------------------+----------------+ | Environment | dpdk_unit_test | +===============================+================+ | CentOS Stream 9 | PASS | +-------------------------------+----------------+ | Fedora Linux 40 | PASS | +-------------------------------+----------------+ | Fedora Linux 41 | PASS | +-------------------------------+----------------+ | CentOS Stream 10 | PASS | +-------------------------------+----------------+ | Debian GNU/Linux 12 | PASS | +-------------------------------+----------------+ | Red Hat Enterprise Linux 8.10 | PASS | +-------------------------------+----------------+ | Ubuntu 22.04 | PASS | +-------------------------------+----------------+ | Ubuntu 20.04 | PASS | +-------------------------------+----------------+ | Red Hat Enterprise Linux 9.5 | PASS | +-------------------------------+----------------+ | Ubuntu 24.04 | PASS | +-------------------------------+----------------+ CentOS Stream 9 Kernel: 5.15 Compiler: gcc gcc (GCC) 11.5.0 20240719 (Red Hat 11.5.0-7) Fedora Linux 40 Kernel: 5.15 Compiler: gcc gcc (GCC) 14.2.1 20240912 (Red Hat 14.2.1-3) Fedora Linux 41 Kernel: 5.15 Compiler: gcc gcc (GCC) 14.3.1 20250523 (Red Hat 14.3.1-1) CentOS Stream 10 Kernel: 5.15 Compiler: gcc gcc (GCC) 14.2.1 20250110 (Red Hat 14.2.1-8) Debian GNU/Linux 12 Kernel: 5.15 Compiler: gcc gcc (Debian 12.2.0-14+deb12u1) 12.2.0 Red Hat Enterprise Linux 8.10 Kernel: 5.15 Compiler: gcc gcc (GCC) 8.5.0 20210514 (Red Hat 8.5.0-22) Ubuntu 22.04 Kernel: 5.15 Compiler: gcc gcc (Ubuntu 11.4.0-1ubuntu1~22.04) 11.4.0 Ubuntu 20.04 Kernel: 5.15 Compiler: gcc gcc (Ubuntu 9.4.0-1ubuntu1~20.04.2) 9.4.0 Red Hat Enterprise Linux 9.5 Kernel: 5.15 Compiler: gcc gcc (GCC) 11.5.0 20240719 (Red Hat 11.5.0-2) Ubuntu 24.04 Kernel: 5.15 Compiler: gcc gcc (Ubuntu 13.3.0-6ubuntu2~24.04) 13.3.0 To view detailed results, visit: https://lab.dpdk.org/results/dashboard/patchsets/33604/ UNH-IOL DPDK Community Lab To manage your email subscriptions, visit: https://lab.dpdk.org/results/dashboard/preferences/subscriptions/