From mboxrd@z Thu Jan 1 00:00:00 1970 Return-Path: Received: from mails.dpdk.org (mails.dpdk.org [217.70.189.124]) by inbox.dpdk.org (Postfix) with ESMTP id C5BB646B30 for ; Wed, 9 Jul 2025 20:42:36 +0200 (CEST) Received: from mails.dpdk.org (localhost [127.0.0.1]) by mails.dpdk.org (Postfix) with ESMTP id C12404064A; Wed, 9 Jul 2025 20:42:36 +0200 (CEST) Received: from mail-oa1-f97.google.com (mail-oa1-f97.google.com [209.85.160.97]) by mails.dpdk.org (Postfix) with ESMTP id B501940A7D for ; Wed, 9 Jul 2025 20:42:35 +0200 (CEST) Received: by mail-oa1-f97.google.com with SMTP id 586e51a60fabf-2efb0b03e40so67631fac.0 for ; Wed, 09 Jul 2025 11:42:35 -0700 (PDT) DKIM-Signature: v=1; a=rsa-sha256; c=relaxed/relaxed; d=iol.unh.edu; s=unh-iol; t=1752086555; x=1752691355; darn=dpdk.org; h=references:in-reply-to:cc:to:from:subject:message-id:date:from:to :cc:subject:date:message-id:reply-to; bh=idCoCprZvLKrHEIwyohVPgWZyi1hWQQI+TdWWnD5Ybg=; b=WvXD9CYhUcKaG7GePsoA93Ulg4iW7pOQQE3aPLiFIOEOSegU5X3a1tMP5YB4Dhp4pH AcvAZcquLBMbOxFwrkD0ibBXYhbzRzxpZ/ED2EgdFiaKyGoGsUnJndQLkFTyXNTgBJfn zQ1zlA4BkFaK/LbR9sqc86nk45Xse3/YZfDBM= X-Google-DKIM-Signature: v=1; a=rsa-sha256; c=relaxed/relaxed; d=1e100.net; s=20230601; t=1752086555; x=1752691355; h=references:in-reply-to:cc:to:from:subject:message-id:date :x-gm-message-state:from:to:cc:subject:date:message-id:reply-to; bh=idCoCprZvLKrHEIwyohVPgWZyi1hWQQI+TdWWnD5Ybg=; b=NVZj7Ex+b08aHc3xiujtScJd0Q5gMleYGUCdIA2RnYjnY1t/9B4SLefgnIpWUOlKvz F51UelGh+TQD/3g44T/xZUVShtkBYG2waF2ZLITJPW3qzykeDwyd2shnjHePG7BRyT5F +yVq6R++VcFJ6L1Aowq9rExXcGg9ruskiVExQgdfqGnWBw5hvdg4hBh+lSPz8tC4tuJB pfUOQSAjf5o8nloC+8kUqTgAuHmK2Sec0W3jwuDL4E2pRmqea0Mz0L+kJVgpHd9GACA0 qETfe7qnizCDU8R+QdS2zfXKknHAVJyDmDa/Btovrs+p3MIbdZ6cXG0MBRA6EVGKj1u4 MELQ== X-Gm-Message-State: AOJu0Yw2H2LDfG+BW0lkmCOE7hIG7DybnS5cGBe4QVXtsYqIEP1IYGBB 8qmIqWPsYOuDKg9KkSDt60EFjiAaPiPNJnBXswacgnDFuu4Vj4w6OLdNBPpmMLh1Xu7f6omltOv s05rs5DNqmRRl1VwR18P6Vui3S1HNQwQTazteQV0H8ZHi X-Gm-Gg: ASbGncsCDMS3VDFmG6mjcwxXq9c0WRDPMqUOMXAkLXf0hbLGU5OFmJaBg2D0PmV0pST I1DLonZr7yUoRyhAcyebxTtBx7NOCEiDwWlkMU9YFD6FLm/NP8iCEMDPSpCTdsckgstcSnVJiWc OlhAEMAEbE8kxIgZR4AkhoIs8uVabCnJSMPbDtRdNLznjwlBMlXBtG5ux4XqarHQLjRRgis+Pum u3boajTvi1A/A0/G3O2zhhNc4TNaToISG+pOmXvo9XaKQkiVEe/9kjHDyuAZ+VDrWEjq6/TaT5Q pZ/loj7Qk69pzBQVsbY8hKDcUdwnGCRygUEd6UodtDLTHEmT17LcSJ1fr9Nf1+gsuenNrA== X-Google-Smtp-Source: AGHT+IGbnILqMu1wBpA0Ib5X3QxyBKurGcaTjMwpt3kEKBx0yzsbqZl1vfYxc9sXNRF1t+3KtLAxMbv7FjbB X-Received: by 2002:a05:6870:b60f:b0:2d5:2955:aa66 with SMTP id 586e51a60fabf-2fef8476442mr2192823fac.1.1752086554993; Wed, 09 Jul 2025 11:42:34 -0700 (PDT) Received: from postal.iol.unh.edu (postal.iol.unh.edu. [132.177.123.84]) by smtp-relay.gmail.com with ESMTPS id 586e51a60fabf-2f790150de3sm838108fac.37.2025.07.09.11.42.34 (version=TLS1_2 cipher=ECDHE-ECDSA-AES128-GCM-SHA256 bits=128/128); Wed, 09 Jul 2025 11:42:34 -0700 (PDT) X-Relaying-Domain: iol.unh.edu Date: Wed, 09 Jul 2025 11:42:34 -0700 (PDT) Message-ID: <686eb81a.050a0220.1d3655.bae6SMTPIN_ADDED_MISSING@mx.google.com> Received: from [172.21.0.5] (unknown [172.18.0.240]) by postal.iol.unh.edu (Postfix) with ESMTP id 78A086050A61; Wed, 9 Jul 2025 14:42:34 -0400 (EDT) Subject: |SUCCESS| pw155106 [PATCH] net/mlx5: fix panic for non template age From: dpdklab@iol.unh.edu To: Test Report Cc: dpdk-test-reports@iol.unh.edu In-Reply-To: <20250709102508.229287-1-mkashani@nvidia.com> References: <20250709102508.229287-1-mkashani@nvidia.com> Content-Type: text/plain X-BeenThere: test-report@dpdk.org X-Mailman-Version: 2.1.29 Precedence: list List-Id: automatic DPDK test reports List-Unsubscribe: , List-Archive: List-Post: List-Help: List-Subscribe: , Errors-To: test-report-bounces@dpdk.org Test-Label: iol-compile-arm64-testing Test-Status: SUCCESS http://dpdk.org/patch/155106 _Testing PASS_ Submitter: Maayan Kashani Date: Wednesday, July 09 2025 10:25:07 DPDK git baseline: Repo:dpdk Branch: master CommitID:6d828a3e774829165137aa2713e3040edd7f46bf 155106 --> testing pass Upstream job id: Generic-DPDK-Compile-Meson#407293 Test environment and result as below: +------------------------------+--------------------+ | Environment | dpdk_meson_compile | +==============================+====================+ | Ubuntu 20.04 | PASS | +------------------------------+--------------------+ | Red Hat Enterprise Linux 9.5 | PASS | +------------------------------+--------------------+ | Fedora Linux 40 | PASS | +------------------------------+--------------------+ | Debian GNU/Linux 12 | PASS | +------------------------------+--------------------+ | Fedora Linux 41 | PASS | +------------------------------+--------------------+ | Ubuntu 22.04 | PASS | +------------------------------+--------------------+ | Ubuntu 24.04 | PASS | +------------------------------+--------------------+ | CentOS Stream 9 | PASS | +------------------------------+--------------------+ | CentOS Stream 10 | PASS | +------------------------------+--------------------+ Ubuntu 20.04 Kernel: 5.15 Compiler: aarch64-linux-gnu-gcc gcc (Ubuntu 9.4.0-1ubuntu1~20.04.2) 9.4.0 Red Hat Enterprise Linux 9.5 Kernel: 5.4 Compiler: gcc gcc (GCC) 11.5.0 20240719 (Red Hat 11.5.0-2) Fedora Linux 40 Kernel: 5.4 Compiler: clang gcc (GCC) 14.2.1 20240912 (Red Hat 14.2.1-3) Debian GNU/Linux 12 Kernel: 5.4 Compiler: gcc gcc (Debian 12.2.0-14+deb12u1) 12.2.0 Fedora Linux 41 Kernel: 5.4 Compiler: gcc gcc (GCC) 14.3.1 20250523 (Red Hat 14.3.1-1) Ubuntu 22.04 Kernel: 5.4 Compiler: gcc gcc (Ubuntu 11.4.0-1ubuntu1~22.04) 11.4.0 Ubuntu 24.04 Kernel: 5.4 Compiler: gcc gcc (Ubuntu 13.3.0-6ubuntu2~24.04) 13.3.0 CentOS Stream 9 Kernel: 5.4 Compiler: gcc gcc (GCC) 11.5.0 20240719 (Red Hat 11.5.0-7) CentOS Stream 10 Kernel: 5.4 Compiler: gcc gcc (GCC) 14.2.1 20250110 (Red Hat 14.2.1-8) To view detailed results, visit: https://lab.dpdk.org/results/dashboard/patchsets/33625/ UNH-IOL DPDK Community Lab To manage your email subscriptions, visit: https://lab.dpdk.org/results/dashboard/preferences/subscriptions/