From mboxrd@z Thu Jan 1 00:00:00 1970 Return-Path: Received: from mails.dpdk.org (mails.dpdk.org [217.70.189.124]) by inbox.dpdk.org (Postfix) with ESMTP id DE34546B30 for ; Wed, 9 Jul 2025 20:43:19 +0200 (CEST) Received: from mails.dpdk.org (localhost [127.0.0.1]) by mails.dpdk.org (Postfix) with ESMTP id D727E4064A; Wed, 9 Jul 2025 20:43:19 +0200 (CEST) Received: from mail-pg1-f226.google.com (mail-pg1-f226.google.com [209.85.215.226]) by mails.dpdk.org (Postfix) with ESMTP id D88B94064A for ; Wed, 9 Jul 2025 20:43:18 +0200 (CEST) Received: by mail-pg1-f226.google.com with SMTP id 41be03b00d2f7-b31e076f714so1126321a12.0 for ; Wed, 09 Jul 2025 11:43:18 -0700 (PDT) DKIM-Signature: v=1; a=rsa-sha256; c=relaxed/relaxed; d=iol.unh.edu; s=unh-iol; t=1752086598; x=1752691398; darn=dpdk.org; h=references:in-reply-to:cc:to:from:subject:message-id:date:from:to :cc:subject:date:message-id:reply-to; bh=2yIrkJfFKyVVEBbfk5kOKMpIVtgZKY5Dt2W+P6qFT1U=; b=cLv0/vOyu0l4SilF1DWZ6iUg+fr/zqxEfDS8vg3/14UAahRLB7FLsXmhP+sqBcPJ5u gbbC5jnHxqaFQqtUoo04Jz/83jAuwHqld/ioMHUWwkdXH//wIsba6h7FO+R/pOD/sQ8u DZZDhAoy5JV2bSEhMr6ev7WvH3i88y1XvNxmA= X-Google-DKIM-Signature: v=1; a=rsa-sha256; c=relaxed/relaxed; d=1e100.net; s=20230601; t=1752086598; x=1752691398; h=references:in-reply-to:cc:to:from:subject:message-id:date :x-gm-message-state:from:to:cc:subject:date:message-id:reply-to; bh=2yIrkJfFKyVVEBbfk5kOKMpIVtgZKY5Dt2W+P6qFT1U=; b=cFaImx8YAnl5R0V3BcyGEief2O+lD75XrfDzcRubyGvuBPEGyF259GQChpM0x95MOT hhhs1y+WhgWuqkrQPKQENKuSDeks8blYKTdcglWb2b4X7EqEJT9eCs88LmhND10XlV++ Iz53/f1YIGsQAciolfpltdwFmXYioL/eQloP4IomqJ3sxiYv6bhN4IZxXnbS9MakpkZG b/wGchmLjXMvWQVsEb0o0jR6k14kVrJ1j9NOD/kf9eyjngC7flFteIUlurLP/txeym9v jlNzU7nxpgHNq7WIT3YM/XcAF1+CBdghwlkS8BqEXqH4dMOG+zyUQPpMPvqkc0jvQMRM SuwA== X-Gm-Message-State: AOJu0YxAEzzfZI7keAIfkJxmYPKN8sUQhW5AAU6WR2+A8XPFvTvvoG2x KnIO+0XQEP4lH1nFOCDL6ApuGUUocbaf2+MOCE4E8L4Alsjumak+Fdz7VxhSkvhvOMNNyPGBbvT mfpO+IqmLZlC/T/26CmWgn5lki+k9afZLCZYx4x5j6N2IaTaFWrXeqvVgt+ro X-Gm-Gg: ASbGncuX2z3n0MJReto8hp5/fl+YPMGELYl7UlLcSPbrp975TYGWjSGxWi7G3hnTKSD pRcQ4ajYjwGsJtz68/afEr5qGP9ssdiDHrjxYqw4CK4JeJr8RrYyf9hVXHrGg3ndRVZl4LiHTt5 Suxpe4bt1HzIy5dd0Bsb6PE15jRF6Vf9N2yhunEvHGfQIAkLcTjsl/b7KjmelfqBMmo8fKm30Yz Md0PY9oT7Mxm6q7zUxYV8iuB5mO0Xi0StMULGwOYRlVRPHAZ7KtTwbnIwwLpIbvMLSR4U2C62Gl ontWgZ+5DAGexNv8lSg+L35hotGZ2Sd00VuLSLY0sntsOMw= X-Google-Smtp-Source: AGHT+IEcZzejEBGfteQU0TebSeLy+b2GwYy8LqnYy/W7IB5tr1Rv7bKOTRPmGKfFrp+gVZCw3V9UH829Ely3 X-Received: by 2002:a17:90b:4a8b:b0:313:d342:448c with SMTP id 98e67ed59e1d1-31c3cfb55ffmr730664a91.17.1752086597709; Wed, 09 Jul 2025 11:43:17 -0700 (PDT) Received: from postal.iol.unh.edu (postal.iol.unh.edu. [2606:4100:3880:1234::84]) by smtp-relay.gmail.com with ESMTPS id 98e67ed59e1d1-31c3005fc0bsm100251a91.3.2025.07.09.11.43.17 (version=TLS1_2 cipher=ECDHE-ECDSA-AES128-GCM-SHA256 bits=128/128); Wed, 09 Jul 2025 11:43:17 -0700 (PDT) X-Relaying-Domain: iol.unh.edu Date: Wed, 09 Jul 2025 11:43:17 -0700 (PDT) Message-ID: <686eb845.170a0220.53baa.5927SMTPIN_ADDED_MISSING@mx.google.com> Received: from [172.21.0.5] (unknown [172.18.0.240]) by postal.iol.unh.edu (Postfix) with ESMTP id E3CC66050A61; Wed, 9 Jul 2025 14:43:16 -0400 (EDT) Subject: |SUCCESS| pw155106 [PATCH] net/mlx5: fix panic for non template age From: dpdklab@iol.unh.edu To: Test Report Cc: dpdk-test-reports@iol.unh.edu In-Reply-To: <20250709102508.229287-1-mkashani@nvidia.com> References: <20250709102508.229287-1-mkashani@nvidia.com> Content-Type: text/plain X-BeenThere: test-report@dpdk.org X-Mailman-Version: 2.1.29 Precedence: list List-Id: automatic DPDK test reports List-Unsubscribe: , List-Archive: List-Post: List-Help: List-Subscribe: , Errors-To: test-report-bounces@dpdk.org Test-Label: iol-compile-arm64-testing Test-Status: SUCCESS http://dpdk.org/patch/155106 _Testing PASS_ Submitter: Maayan Kashani Date: Wednesday, July 09 2025 10:25:07 DPDK git baseline: Repo:dpdk Branch: master CommitID:6d828a3e774829165137aa2713e3040edd7f46bf 155106 --> testing pass Upstream job id: Generic-DPDK-Compile-Meson#407291 Test environment and result as below: +------------------------------+--------------------+ | Environment | dpdk_meson_compile | +==============================+====================+ | Ubuntu 20.04 | PASS | +------------------------------+--------------------+ | Red Hat Enterprise Linux 9.5 | PASS | +------------------------------+--------------------+ | Fedora Linux 40 | PASS | +------------------------------+--------------------+ | Debian GNU/Linux 12 | PASS | +------------------------------+--------------------+ | Fedora Linux 41 | PASS | +------------------------------+--------------------+ | Ubuntu 22.04 | PASS | +------------------------------+--------------------+ | Ubuntu 24.04 | PASS | +------------------------------+--------------------+ | CentOS Stream 9 | PASS | +------------------------------+--------------------+ | CentOS Stream 10 | PASS | +------------------------------+--------------------+ Ubuntu 20.04 Kernel: 5.15 Compiler: aarch64-linux-gnu-gcc gcc (Ubuntu 9.4.0-1ubuntu1~20.04.2) 9.4.0 Red Hat Enterprise Linux 9.5 Kernel: 5.4 Compiler: gcc gcc (GCC) 11.5.0 20240719 (Red Hat 11.5.0-2) Fedora Linux 40 Kernel: 5.4 Compiler: clang gcc (GCC) 14.2.1 20240912 (Red Hat 14.2.1-3) Debian GNU/Linux 12 Kernel: 5.4 Compiler: gcc gcc (Debian 12.2.0-14+deb12u1) 12.2.0 Fedora Linux 41 Kernel: 5.4 Compiler: gcc gcc (GCC) 14.3.1 20250523 (Red Hat 14.3.1-1) Ubuntu 22.04 Kernel: 5.4 Compiler: gcc gcc (Ubuntu 11.4.0-1ubuntu1~22.04) 11.4.0 Ubuntu 24.04 Kernel: 5.4 Compiler: gcc gcc (Ubuntu 13.3.0-6ubuntu2~24.04) 13.3.0 CentOS Stream 9 Kernel: 5.4 Compiler: gcc gcc (GCC) 11.5.0 20240719 (Red Hat 11.5.0-7) CentOS Stream 10 Kernel: 5.4 Compiler: gcc gcc (GCC) 14.2.1 20250110 (Red Hat 14.2.1-8) To view detailed results, visit: https://lab.dpdk.org/results/dashboard/patchsets/33625/ UNH-IOL DPDK Community Lab To manage your email subscriptions, visit: https://lab.dpdk.org/results/dashboard/preferences/subscriptions/