From mboxrd@z Thu Jan 1 00:00:00 1970 Return-Path: Received: from mails.dpdk.org (mails.dpdk.org [217.70.189.124]) by inbox.dpdk.org (Postfix) with ESMTP id 030C846B30 for ; Wed, 9 Jul 2025 21:05:19 +0200 (CEST) Received: from mails.dpdk.org (localhost [127.0.0.1]) by mails.dpdk.org (Postfix) with ESMTP id F09574029E; Wed, 9 Jul 2025 21:05:18 +0200 (CEST) Received: from mail-il1-f227.google.com (mail-il1-f227.google.com [209.85.166.227]) by mails.dpdk.org (Postfix) with ESMTP id 4E3A94029E for ; Wed, 9 Jul 2025 21:05:17 +0200 (CEST) Received: by mail-il1-f227.google.com with SMTP id e9e14a558f8ab-3df2f937370so821465ab.3 for ; Wed, 09 Jul 2025 12:05:17 -0700 (PDT) DKIM-Signature: v=1; a=rsa-sha256; c=relaxed/relaxed; d=iol.unh.edu; s=unh-iol; t=1752087916; x=1752692716; darn=dpdk.org; h=references:in-reply-to:cc:to:from:subject:message-id:date:from:to :cc:subject:date:message-id:reply-to; bh=mWxA7E05z2wQapHUUcNwc7fdpJk2LkPrxeIxQ/YZ/do=; b=CwWUvGrPct1X60VwRhfEyG+X5pJIqzLw8UVkpy1CJgphNX7+9MBrTBb/Xql7QWYiyg /TPE8VZmGXt0QafXXSnefhP2WDDPiP58REslI1dC+FE2NGPhT8chuj4dRHC9eD70OEer FPTeoe1pG/+nUuqvW0XsPwHwCm2gLHR0K8h48= X-Google-DKIM-Signature: v=1; a=rsa-sha256; c=relaxed/relaxed; d=1e100.net; s=20230601; t=1752087916; x=1752692716; h=references:in-reply-to:cc:to:from:subject:message-id:date :x-gm-message-state:from:to:cc:subject:date:message-id:reply-to; bh=mWxA7E05z2wQapHUUcNwc7fdpJk2LkPrxeIxQ/YZ/do=; b=lwhkfeRW3TAVeoszOBsYcPmesXvZVxd0fDIfazyI56+EQqvFYop0kjYHwbWtWac1Jf zRHJznCwZyihEa0EaaFb2fdTEqyKNVEs+khoa3yUxMx2fZzwWv4V9tyK72Cs9RSZfxnm 9uvhKB4HQEtTeAQOY9nwjYrRGHPj18CMalmpBhcOr1ZFdBL9e/2ii5eyYO5Sy+ceNmOg aHPH3ZIGHvUIvQxkB8jI70qYsh00K+h1jRun2XEJBk0hrJ7KW5id83Y049hy4PLkLXPr I+F1UqIWYg8ROh8XOzo/sXnwkEYQiAr8p7G0n2HrAp9eQwBESA7TWPfvcZuXABnI+qHx igAQ== X-Gm-Message-State: AOJu0Yxoip8DhkB6Zt9o4B/+AijDtkf//y52tzo5IhSjr1dZHS8iX63r NKQ/vq7CXe7lSwHVU+Uh93GAMEt291+4lnI8x3mzjphrD7kLJEltJgn12rxZZyzH/A+qxa3aA8P W5oTEYuuFqgmE+sJBEOTYW0ct1ovDKFpoxSlPhNx6LLVY X-Gm-Gg: ASbGncvD1LmbvCl6O5oOre+Jx5WTlL6dKAWGBQmj3ax4LFgz24fm5TJDMphe1+txwPw yfI4in3AF6l0Dg5hQEH9DvF7TI4B/5ZocMULQLHBBA042CDz7fxpkpAT/kFiSHbh41eO6z2Oc+8 7cJgAFJxYxShko2o9mMVV1i9waDHTOfrxdvd+mTFGkTHVXfzNHy1oSgTtcW40YnflfRb1LyytFy d7ZcGZyt5l1j2WRjRIYeCq9kYQSz2u31TP9XqPYfMKp5S887nZvaNixH2zngR0bCW8GvtZTcyIL 7nfn4Hbwzo6hDoBhIjXXA8c76HGepqtnw1GncMbgHNBVs9tXxC2RSNyF0YRWJMRq7vf3Ug== X-Google-Smtp-Source: AGHT+IEKnY8IVZBFtQeWB9/mElh5230YV/tSRsxFInZYBNAuWO6NT1T3x8eD4tiistxwHF+PbxF6XN3Jpjyr X-Received: by 2002:a05:6e02:214d:b0:3dd:d194:f72d with SMTP id e9e14a558f8ab-3e16701abd2mr41121245ab.8.1752087916600; Wed, 09 Jul 2025 12:05:16 -0700 (PDT) Received: from postal.iol.unh.edu (postal.iol.unh.edu. [132.177.123.84]) by smtp-relay.gmail.com with ESMTPS id e9e14a558f8ab-3e0f9b559d5sm7973575ab.16.2025.07.09.12.05.16 (version=TLS1_2 cipher=ECDHE-ECDSA-AES128-GCM-SHA256 bits=128/128); Wed, 09 Jul 2025 12:05:16 -0700 (PDT) X-Relaying-Domain: iol.unh.edu Date: Wed, 09 Jul 2025 12:05:16 -0700 (PDT) Message-ID: <686ebd6c.050a0220.27c42a.a224SMTPIN_ADDED_MISSING@mx.google.com> Received: from [172.21.0.9] (unknown [172.18.0.240]) by postal.iol.unh.edu (Postfix) with ESMTP id 1F7A7604D420; Wed, 9 Jul 2025 15:05:16 -0400 (EDT) Subject: |SUCCESS| pw155006 [PATCH] ethdev: fix shadow variable definition From: dpdklab@iol.unh.edu To: Test Report Cc: dpdk-test-reports@iol.unh.edu In-Reply-To: <20250703172407.116249-1-stephen@networkplumber.org> References: <20250703172407.116249-1-stephen@networkplumber.org> Content-Type: text/plain X-BeenThere: test-report@dpdk.org X-Mailman-Version: 2.1.29 Precedence: list List-Id: automatic DPDK test reports List-Unsubscribe: , List-Archive: List-Post: List-Help: List-Subscribe: , Errors-To: test-report-bounces@dpdk.org Test-Label: iol-abi-testing Test-Status: SUCCESS http://dpdk.org/patch/155006 _Testing PASS_ Submitter: Stephen Hemminger Date: Thursday, July 03 2025 17:24:07 DPDK git baseline: Repo:dpdk Branch: master CommitID:ba982f9a1ca9b96ed0394b764f1523d482e963a2 155006 --> testing pass Upstream job id: Generic-DPDK-Compile-ABI#133834 Test environment and result as below: +-------------------------------+----------+ | Environment | abi_test | +===============================+==========+ | CentOS Stream 10 | PASS | +-------------------------------+----------+ | Debian GNU/Linux 12 | PASS | +-------------------------------+----------+ | Fedora Linux 40 | PASS | +-------------------------------+----------+ | Fedora Linux 41 | PASS | +-------------------------------+----------+ | Red Hat Enterprise Linux 8.10 | PASS | +-------------------------------+----------+ | openSUSE Leap 15.6 | PASS | +-------------------------------+----------+ | Red Hat Enterprise Linux 9.5 | PASS | +-------------------------------+----------+ | Ubuntu 24.04 | PASS | +-------------------------------+----------+ | Ubuntu 22.04 | PASS | +-------------------------------+----------+ | CentOS Stream 9 | PASS | +-------------------------------+----------+ CentOS Stream 10 Kernel: 5.15 Compiler: gcc gcc (GCC) 14.2.1 20250110 (Red Hat 14.2.1-8) Debian GNU/Linux 12 Kernel: 5.15 Compiler: gcc gcc (Debian 12.2.0-14+deb12u1) 12.2.0 Fedora Linux 40 Kernel: 5.15 Compiler: clang gcc (GCC) 14.2.1 20240912 (Red Hat 14.2.1-3) Fedora Linux 41 Kernel: 5.15 Compiler: clang gcc (GCC) 14.3.1 20250523 (Red Hat 14.3.1-1) Red Hat Enterprise Linux 8.10 Kernel: 5.15 Compiler: gcc gcc (GCC) 8.5.0 20210514 (Red Hat 8.5.0-22) openSUSE Leap 15.6 Kernel: 5.15 Compiler: gcc gcc (SUSE Linux) 7.5.0 Red Hat Enterprise Linux 9.5 Kernel: 5.15 Compiler: gcc gcc (GCC) 11.5.0 20240719 (Red Hat 11.5.0-2) Ubuntu 24.04 Kernel: 5.15 Compiler: gcc gcc (Ubuntu 13.3.0-6ubuntu2~24.04) 13.3.0 Ubuntu 22.04 Kernel: 5.15 Compiler: gcc gcc (Ubuntu 11.4.0-1ubuntu1~22.04) 11.4.0 CentOS Stream 9 Kernel: 5.15 Compiler: gcc gcc (GCC) 11.5.0 20240719 (Red Hat 11.5.0-7) To view detailed results, visit: https://lab.dpdk.org/results/dashboard/patchsets/33589/ UNH-IOL DPDK Community Lab To manage your email subscriptions, visit: https://lab.dpdk.org/results/dashboard/preferences/subscriptions/