From mboxrd@z Thu Jan 1 00:00:00 1970 Return-Path: Received: from mails.dpdk.org (mails.dpdk.org [217.70.189.124]) by inbox.dpdk.org (Postfix) with ESMTP id 260EB46B30 for ; Wed, 9 Jul 2025 21:06:44 +0200 (CEST) Received: from mails.dpdk.org (localhost [127.0.0.1]) by mails.dpdk.org (Postfix) with ESMTP id 208964029E; Wed, 9 Jul 2025 21:06:44 +0200 (CEST) Received: from mail-yw1-f227.google.com (mail-yw1-f227.google.com [209.85.128.227]) by mails.dpdk.org (Postfix) with ESMTP id 3537D4029E for ; Wed, 9 Jul 2025 21:06:42 +0200 (CEST) Received: by mail-yw1-f227.google.com with SMTP id 00721157ae682-70e64b430daso3352877b3.3 for ; Wed, 09 Jul 2025 12:06:42 -0700 (PDT) DKIM-Signature: v=1; a=rsa-sha256; c=relaxed/relaxed; d=iol.unh.edu; s=unh-iol; t=1752088001; x=1752692801; darn=dpdk.org; h=references:in-reply-to:cc:to:from:subject:message-id:date:from:to :cc:subject:date:message-id:reply-to; bh=yfFI0aHrdzQasEKMG/K4RYv2YIYLQkO1AYo2u1xKnNk=; b=GOft3goXL2hGyf6wrJmZaH/yhxXYmXq0Szu5TIo9keBW9+6OndIzPX9ftULKTinHuD 5bMh7To57IQ3RXaqrhOUwRNzCu0iemNZnwoevqtvOtdm0Rz/XcJNwITpLIn5wQx2GZ2j dhhbgRNwV94BR6ieZh626bSy0GPZkCWhcz0Wg= X-Google-DKIM-Signature: v=1; a=rsa-sha256; c=relaxed/relaxed; d=1e100.net; s=20230601; t=1752088001; x=1752692801; h=references:in-reply-to:cc:to:from:subject:message-id:date :x-gm-message-state:from:to:cc:subject:date:message-id:reply-to; bh=yfFI0aHrdzQasEKMG/K4RYv2YIYLQkO1AYo2u1xKnNk=; b=a708+K09nOwH5lx/d+TuW6kKS1e43Uvv8wZYzfaYz9COKSnNfKac1CgcGVOoE0IXbT LEZB6nJF3U826w+cf9bqdPeygtBbX04bg4BEH8ydGXNinjjOMA4mE/4pd9ZDv6EAZ6VO elo02j+GEAc+INK6K5yafsUK02pxOJ/uiuZ1pnBt93i3tPAZm6MhAOaXN5d2YAz1616a aKytDkCH8vudqF6It8aIzK5lejYcNdiCV7SDfy2C/co637ftZPrafZg4kzLqalk+y4+i KjBS8KSeXQdJ/wxIHL3CNr0LZyRooOF6/4RYlVWJecU9M3mrfY5CL5jQc+nwC+r4I7b8 i+Zw== X-Gm-Message-State: AOJu0YxZcDgN3tV+ylp9foq/HQXSREqnlmVquqvnXGoCgBI2calN6Rbj 8jYw8+gKefmBe4YnO3LsK9BjwYJpFLCzL8jVLAmIjxBuy9WeN29FDTpEyDeHYm7dXbM1CXGSVJx wtAYJOMnUhdraZR53Y+cIQZVV9tBncJKd+nFqZZ0XD84f X-Gm-Gg: ASbGncuD7axV1yMERYXbJr3xqmBjJtOYOXzZB0FjxkqkljKxAGl1xH9w2m+ojmT9V4T /t9cpRJ5mS/Ntn0wwSj6f6J/tRr1bw2l6AX8EAToGIG3oXCnDd8vroBHUtNkZpd8rBv3CWx5HyS 23AI8X+QByTn75mp3OBPMRSMuGkHa+Ge665gvspH15NOIuIdjBGIWF4Q+tPsSM/mXW9Ziwxtyf7 zwfdCNVF+DYKDM/7EAQJo7kpLh0RDxtl0JTwNlSYvDWiG+uW+0Y8qhAZAOln1vtot2Jhu22mfuZ KfZuxVJEtycgou/UfCt8blOb1hhOtYXvISdey+1p6yccfX/KiDq2pWL7hNRAAyohYITeFg== X-Google-Smtp-Source: AGHT+IER62c6e90L546fT3zYQw5xneXAg0fbW2rWImnC6P2ci289DeOkYfw4ozzl7Cvrv6GlS/EQ2aSbMpwC X-Received: by 2002:a05:690c:86:b0:714:115:712f with SMTP id 00721157ae682-717b1682eb4mr61361157b3.6.1752088001493; Wed, 09 Jul 2025 12:06:41 -0700 (PDT) Received: from postal.iol.unh.edu (postal.iol.unh.edu. [132.177.123.84]) by smtp-relay.gmail.com with ESMTPS id 00721157ae682-7176af2c0casm2800287b3.70.2025.07.09.12.06.41 (version=TLS1_2 cipher=ECDHE-ECDSA-AES128-GCM-SHA256 bits=128/128); Wed, 09 Jul 2025 12:06:41 -0700 (PDT) X-Relaying-Domain: iol.unh.edu Date: Wed, 09 Jul 2025 12:06:41 -0700 (PDT) Message-ID: <686ebdc1.050a0220.3ff94.e9baSMTPIN_ADDED_MISSING@mx.google.com> Received: from [172.21.0.7] (unknown [172.18.0.240]) by postal.iol.unh.edu (Postfix) with ESMTP id 2A14C604D420; Wed, 9 Jul 2025 15:06:41 -0400 (EDT) Subject: |SUCCESS| pw155006 [PATCH] ethdev: fix shadow variable definition From: dpdklab@iol.unh.edu To: Test Report Cc: dpdk-test-reports@iol.unh.edu In-Reply-To: <20250703172407.116249-1-stephen@networkplumber.org> References: <20250703172407.116249-1-stephen@networkplumber.org> Content-Type: text/plain X-BeenThere: test-report@dpdk.org X-Mailman-Version: 2.1.29 Precedence: list List-Id: automatic DPDK test reports List-Unsubscribe: , List-Archive: List-Post: List-Help: List-Subscribe: , Errors-To: test-report-bounces@dpdk.org Test-Label: iol-abi-testing Test-Status: SUCCESS http://dpdk.org/patch/155006 _Testing PASS_ Submitter: Stephen Hemminger Date: Thursday, July 03 2025 17:24:07 DPDK git baseline: Repo:dpdk Branch: master CommitID:ba982f9a1ca9b96ed0394b764f1523d482e963a2 155006 --> testing pass Upstream job id: Generic-DPDK-Compile-ABI#133837 Test environment and result as below: +-------------------------------+----------+ | Environment | abi_test | +===============================+==========+ | CentOS Stream 10 | PASS | +-------------------------------+----------+ | Debian GNU/Linux 12 | PASS | +-------------------------------+----------+ | Fedora Linux 40 | PASS | +-------------------------------+----------+ | Fedora Linux 41 | PASS | +-------------------------------+----------+ | Red Hat Enterprise Linux 8.10 | PASS | +-------------------------------+----------+ | openSUSE Leap 15.6 | PASS | +-------------------------------+----------+ | Red Hat Enterprise Linux 9.5 | PASS | +-------------------------------+----------+ | Ubuntu 24.04 | PASS | +-------------------------------+----------+ | Ubuntu 22.04 | PASS | +-------------------------------+----------+ | CentOS Stream 9 | PASS | +-------------------------------+----------+ CentOS Stream 10 Kernel: 5.15 Compiler: gcc gcc (GCC) 14.2.1 20250110 (Red Hat 14.2.1-8) Debian GNU/Linux 12 Kernel: 5.15 Compiler: gcc gcc (Debian 12.2.0-14+deb12u1) 12.2.0 Fedora Linux 40 Kernel: 5.15 Compiler: clang gcc (GCC) 14.2.1 20240912 (Red Hat 14.2.1-3) Fedora Linux 41 Kernel: 5.15 Compiler: clang gcc (GCC) 14.3.1 20250523 (Red Hat 14.3.1-1) Red Hat Enterprise Linux 8.10 Kernel: 5.15 Compiler: gcc gcc (GCC) 8.5.0 20210514 (Red Hat 8.5.0-22) openSUSE Leap 15.6 Kernel: 5.15 Compiler: gcc gcc (SUSE Linux) 7.5.0 Red Hat Enterprise Linux 9.5 Kernel: 5.15 Compiler: gcc gcc (GCC) 11.5.0 20240719 (Red Hat 11.5.0-2) Ubuntu 24.04 Kernel: 5.15 Compiler: gcc gcc (Ubuntu 13.3.0-6ubuntu2~24.04) 13.3.0 Ubuntu 22.04 Kernel: 5.15 Compiler: gcc gcc (Ubuntu 11.4.0-1ubuntu1~22.04) 11.4.0 CentOS Stream 9 Kernel: 5.15 Compiler: gcc gcc (GCC) 11.5.0 20240719 (Red Hat 11.5.0-7) To view detailed results, visit: https://lab.dpdk.org/results/dashboard/patchsets/33589/ UNH-IOL DPDK Community Lab To manage your email subscriptions, visit: https://lab.dpdk.org/results/dashboard/preferences/subscriptions/