From mboxrd@z Thu Jan 1 00:00:00 1970 Return-Path: Received: from mails.dpdk.org (mails.dpdk.org [217.70.189.124]) by inbox.dpdk.org (Postfix) with ESMTP id 3075246B30 for ; Wed, 9 Jul 2025 21:06:52 +0200 (CEST) Received: from mails.dpdk.org (localhost [127.0.0.1]) by mails.dpdk.org (Postfix) with ESMTP id 2B26D4029E; Wed, 9 Jul 2025 21:06:52 +0200 (CEST) Received: from mail-qk1-f225.google.com (mail-qk1-f225.google.com [209.85.222.225]) by mails.dpdk.org (Postfix) with ESMTP id EA5E04029E for ; Wed, 9 Jul 2025 21:06:50 +0200 (CEST) Received: by mail-qk1-f225.google.com with SMTP id af79cd13be357-7d7f0fcef86so21027885a.1 for ; Wed, 09 Jul 2025 12:06:50 -0700 (PDT) DKIM-Signature: v=1; a=rsa-sha256; c=relaxed/relaxed; d=iol.unh.edu; s=unh-iol; t=1752088010; x=1752692810; darn=dpdk.org; h=references:in-reply-to:cc:to:from:subject:message-id:date:from:to :cc:subject:date:message-id:reply-to; bh=yGYPw3NtctYMaO6mdgz6HstU+DSKOUnWppzf8nbprTE=; b=KJTw3DbR0SrbHN85wD7nFLQAT8lAd/0gzULlUmQOJ+BOtkyq3dnhO/BnNS4tdbnwFm ao4BJRKFm0pbr9xwpSam60nTeGdQe1gVC44HvwMjYtSPpZtJtBsiJFls7EZ7XTzAixro 1BCE/wEnwoclP4JrsbhZyOS8X4dnIZBCZAQhc= X-Google-DKIM-Signature: v=1; a=rsa-sha256; c=relaxed/relaxed; d=1e100.net; s=20230601; t=1752088010; x=1752692810; h=references:in-reply-to:cc:to:from:subject:message-id:date :x-gm-message-state:from:to:cc:subject:date:message-id:reply-to; bh=yGYPw3NtctYMaO6mdgz6HstU+DSKOUnWppzf8nbprTE=; b=xKoJAIeFPV+SJ/Yl5uQsIDYtmnAW0Da0cBRmvr3kWrR0GuLAmHP45peDEhKhXi1EX+ TiL2oBbKKlC476hpBLxZAa3yW62kF3QI8LYAD+Igsfi8EEB+aE/Qg2dYeJZgh7bHVbiR 5HL0Ym1RvQz53Q+JQOfjENlnRgNxUQgAc4tMCPtoTMiEEKxezdW4H/ZhkEeT7z5mJ2fk NwbrmK67o/3/B4f3/xgVRx2MbTzqys/wwHpD1qlrNLIpd0xETK/rtV8vPTfKI/I31Ibg dl1LmHIvL2ltHoNjENGn5qHgsoQ1cegnr81AskF52Apa3g7+4+oMZFCKmNGm5O8i715K jbEA== X-Gm-Message-State: AOJu0Yx2mam2LFwB1+soNziHd2RT9ex+fkiyh0bv8IoFoQ6reYo4dcg7 LyUNnGHPGjVGNmCIToYF1qiOkzDtwWFos4iqWMtMXJTN2bdaRqZOCPjATVsahzVp8K4MxNPoPtX +vfd5xUwwIAAzw684cAxV0FtQ+JVfUekAvObkUcNXag0T X-Gm-Gg: ASbGncuQ9XQ31z47X7DWkoyRuzb7DiYS8qbGckxTRcr0N2rrOos2yssgF7rzVRlqyaj nYOLFmQUDUnBHY3lDXTKK/89ObUEKk+m73GDJnAQpqvS1rkql2jJQo+t2xeR6Iy51ftDwAlP9cY nT1bdJnhg6GFixqZ/YYcDu6imTulxS0AlD8YgiErXxmZcTeOg6sIX3AGba6/65g+oq2wKUAMWez Wx0dKj00vgE//K7MxNNj5nNbDqVIIiyTkdkcTrK3DcrDwD/71u+gnWGqXv9U4OWtVXWuNEUq2tF hij/waqZyEd+kJwQLzEAKoWWyYgWmM15wS0KArs8T2UaqJV2WxpTAx3ztL7nFS1WHpgymw== X-Google-Smtp-Source: AGHT+IH7MTttISICAXSJqnuM9L0VOlNskA2UYrl1xotZW1Lijh5phlTzi2Y97EU8bzSuR4JiGz2BUaHiBM3W X-Received: by 2002:a05:620a:2481:b0:7d0:a1c9:65a7 with SMTP id af79cd13be357-7dc99f7e143mr89358785a.6.1752088010280; Wed, 09 Jul 2025 12:06:50 -0700 (PDT) Received: from postal.iol.unh.edu (postal.iol.unh.edu. [132.177.123.84]) by smtp-relay.gmail.com with ESMTPS id 6a1803df08f44-702c4d53e9bsm6837526d6.55.2025.07.09.12.06.50 (version=TLS1_2 cipher=ECDHE-ECDSA-AES128-GCM-SHA256 bits=128/128); Wed, 09 Jul 2025 12:06:50 -0700 (PDT) X-Relaying-Domain: iol.unh.edu Date: Wed, 09 Jul 2025 12:06:50 -0700 (PDT) Message-ID: <686ebdca.050a0220.393097.431eSMTPIN_ADDED_MISSING@mx.google.com> Received: from [172.21.0.5] (unknown [172.18.0.240]) by postal.iol.unh.edu (Postfix) with ESMTP id 00575604D420; Wed, 9 Jul 2025 15:06:49 -0400 (EDT) Subject: |SUCCESS| pw155006 [PATCH] ethdev: fix shadow variable definition From: dpdklab@iol.unh.edu To: Test Report Cc: dpdk-test-reports@iol.unh.edu In-Reply-To: <20250703172407.116249-1-stephen@networkplumber.org> References: <20250703172407.116249-1-stephen@networkplumber.org> Content-Type: text/plain X-BeenThere: test-report@dpdk.org X-Mailman-Version: 2.1.29 Precedence: list List-Id: automatic DPDK test reports List-Unsubscribe: , List-Archive: List-Post: List-Help: List-Subscribe: , Errors-To: test-report-bounces@dpdk.org Test-Label: iol-abi-testing Test-Status: SUCCESS http://dpdk.org/patch/155006 _Testing PASS_ Submitter: Stephen Hemminger Date: Thursday, July 03 2025 17:24:07 DPDK git baseline: Repo:dpdk Branch: master CommitID:ba982f9a1ca9b96ed0394b764f1523d482e963a2 155006 --> testing pass Upstream job id: Generic-DPDK-Compile-ABI#133839 Test environment and result as below: +-------------------------------+----------+ | Environment | abi_test | +===============================+==========+ | CentOS Stream 10 | PASS | +-------------------------------+----------+ | Debian GNU/Linux 12 | PASS | +-------------------------------+----------+ | Fedora Linux 40 | PASS | +-------------------------------+----------+ | Fedora Linux 41 | PASS | +-------------------------------+----------+ | Red Hat Enterprise Linux 8.10 | PASS | +-------------------------------+----------+ | openSUSE Leap 15.6 | PASS | +-------------------------------+----------+ | Red Hat Enterprise Linux 9.5 | PASS | +-------------------------------+----------+ | Ubuntu 24.04 | PASS | +-------------------------------+----------+ | Ubuntu 22.04 | PASS | +-------------------------------+----------+ | CentOS Stream 9 | PASS | +-------------------------------+----------+ CentOS Stream 10 Kernel: 5.15 Compiler: gcc gcc (GCC) 14.2.1 20250110 (Red Hat 14.2.1-8) Debian GNU/Linux 12 Kernel: 5.15 Compiler: gcc gcc (Debian 12.2.0-14+deb12u1) 12.2.0 Fedora Linux 40 Kernel: 5.15 Compiler: clang gcc (GCC) 14.2.1 20240912 (Red Hat 14.2.1-3) Fedora Linux 41 Kernel: 5.15 Compiler: clang gcc (GCC) 14.3.1 20250523 (Red Hat 14.3.1-1) Red Hat Enterprise Linux 8.10 Kernel: 5.15 Compiler: gcc gcc (GCC) 8.5.0 20210514 (Red Hat 8.5.0-22) openSUSE Leap 15.6 Kernel: 5.15 Compiler: gcc gcc (SUSE Linux) 7.5.0 Red Hat Enterprise Linux 9.5 Kernel: 5.15 Compiler: gcc gcc (GCC) 11.5.0 20240719 (Red Hat 11.5.0-2) Ubuntu 24.04 Kernel: 5.15 Compiler: gcc gcc (Ubuntu 13.3.0-6ubuntu2~24.04) 13.3.0 Ubuntu 22.04 Kernel: 5.15 Compiler: gcc gcc (Ubuntu 11.4.0-1ubuntu1~22.04) 11.4.0 CentOS Stream 9 Kernel: 5.15 Compiler: gcc gcc (GCC) 11.5.0 20240719 (Red Hat 11.5.0-7) To view detailed results, visit: https://lab.dpdk.org/results/dashboard/patchsets/33589/ UNH-IOL DPDK Community Lab To manage your email subscriptions, visit: https://lab.dpdk.org/results/dashboard/preferences/subscriptions/