From mboxrd@z Thu Jan 1 00:00:00 1970 Return-Path: Received: from mails.dpdk.org (mails.dpdk.org [217.70.189.124]) by inbox.dpdk.org (Postfix) with ESMTP id 9E5A946B30 for ; Wed, 9 Jul 2025 21:11:25 +0200 (CEST) Received: from mails.dpdk.org (localhost [127.0.0.1]) by mails.dpdk.org (Postfix) with ESMTP id 97C2A4029E; Wed, 9 Jul 2025 21:11:25 +0200 (CEST) Received: from mail-oa1-f97.google.com (mail-oa1-f97.google.com [209.85.160.97]) by mails.dpdk.org (Postfix) with ESMTP id 490034029E for ; Wed, 9 Jul 2025 21:11:24 +0200 (CEST) Received: by mail-oa1-f97.google.com with SMTP id 586e51a60fabf-2eb6c422828so740745fac.1 for ; Wed, 09 Jul 2025 12:11:24 -0700 (PDT) DKIM-Signature: v=1; a=rsa-sha256; c=relaxed/relaxed; d=iol.unh.edu; s=unh-iol; t=1752088283; x=1752693083; darn=dpdk.org; h=references:in-reply-to:cc:to:from:subject:message-id:date:from:to :cc:subject:date:message-id:reply-to; bh=SRbcp/8FarkUjPdF7eg+QrCFDAIeVJZ8ozr5TC/lzM0=; b=IG5OEpjxZ5lgnExlaB2VHuHZIrnhWrA1kF9pMJRIvmBtInME6Sv/vWJDf9w9bx/u4x i9VaIHR6MkV80brXnuGC2JoyrXp2MhYUVUgG3Az4Eg5Pi+nnYWvGxrFEujyOlu9PUWmb JpyJ7GfAwN6mEA8Huqbd2rskuZmp8ddVPzbZI= X-Google-DKIM-Signature: v=1; a=rsa-sha256; c=relaxed/relaxed; d=1e100.net; s=20230601; t=1752088283; x=1752693083; h=references:in-reply-to:cc:to:from:subject:message-id:date :x-gm-message-state:from:to:cc:subject:date:message-id:reply-to; bh=SRbcp/8FarkUjPdF7eg+QrCFDAIeVJZ8ozr5TC/lzM0=; b=YEcJyBTzn5aqj/NyMTTfiBTxa20ueFlimpfhGmrNAcXEUiGMANj+J80YbEOD5mbPYr owi+xjFTaPedsi5+29kClawT99Qpn+JKgQje9tECrIo/1lrylmMzyK/QYNl4+nMv7bek yUB45fjhI9umRbTnRmWf//C5IWr/X0GwNRSW63zRGXFGybz/WmOAa70p6GisiTIhrv3N ooVjGwYYJ7yzp02aHMPd91+6Z5t96GSFPGgNJG/tl82UFafneDA0cqGsfbQrJTvQmBYb EIht4LNKBAzj7nSccLZNuXU2Sdcl90fMcCfbQQm36Iq2YSKhWn9aK6hI7065zhQrG3aY df5Q== X-Gm-Message-State: AOJu0YzA2rSi0JommQ+zM7qmU6yosnFHq7gOaJzDhktUIB1WQXgjs5JN ArQUEMXY3L/sAFR7cZu0SOgR0vIUMZWAuHP0b6Und4UwvfOydXDcHq80xzrt/23UqLrLzQTGVmA qEUG72ulsi8888ux8E3j9Z6I4UxdIYovtNsiQHRAeFakQ X-Gm-Gg: ASbGncvfmJh5/PWh+cCCsjuW5EegC0dX/OcntMwMMUcCHQSsZ/XAwsCMNo2BUXu158W vk+/rGwkLwtWCjG46LVaGG0jc1dutrFZU+SwyfjLd8u+WiMGoQJH9fKS+XzjrPdfSI0N6eeUp39 VZU9YN/fLN2C+fOscTVOngSzL4Ogpz9hMeLAgdAodoNPCZz+zj2qfXHSpVeaG6Z+jjVmH6qDiec sE5iWt/7DiAypm4O/Mvguqhtew3UTe9YFVOZYZ/8zZAGS9KCsALTXDp+MAqSeNEBnxK57bmkSPn dcBLCNq91IyQs76aHBBJGypTUDDnu5cg6HO+Q5hDQQEGrlCHQGh+E9vdzTy5AOj66u89aQ== X-Google-Smtp-Source: AGHT+IFMKK5b6qmmMeK78sUwr880qS6cXiyKqJ8QXrdIppAj1N6MkwqhVDp7PrJitzOJR99Gd+DXcEtzxK8F X-Received: by 2002:a05:6870:c48:b0:2ea:1e58:7a69 with SMTP id 586e51a60fabf-2ff0c7b7825mr586351fac.15.1752088283406; Wed, 09 Jul 2025 12:11:23 -0700 (PDT) Received: from postal.iol.unh.edu (postal.iol.unh.edu. [132.177.123.84]) by smtp-relay.gmail.com with ESMTPS id 586e51a60fabf-2f7900505fasm882313fac.20.2025.07.09.12.11.23 (version=TLS1_2 cipher=ECDHE-ECDSA-AES128-GCM-SHA256 bits=128/128); Wed, 09 Jul 2025 12:11:23 -0700 (PDT) X-Relaying-Domain: iol.unh.edu Date: Wed, 09 Jul 2025 12:11:23 -0700 (PDT) Message-ID: <686ebedb.050a0220.31df67.001eSMTPIN_ADDED_MISSING@mx.google.com> Received: from [172.21.0.8] (unknown [172.18.0.240]) by postal.iol.unh.edu (Postfix) with ESMTP id 06F05604D420; Wed, 9 Jul 2025 15:11:23 -0400 (EDT) Subject: |WARNING| pw155087 [PATCH] maintainers: update for dlb2 From: dpdklab@iol.unh.edu To: Test Report Cc: dpdk-test-reports@iol.unh.edu In-Reply-To: <20250709050434.1296690-1-tirthendu.sarkar@intel.com> References: <20250709050434.1296690-1-tirthendu.sarkar@intel.com> Content-Type: text/plain X-BeenThere: test-report@dpdk.org X-Mailman-Version: 2.1.29 Precedence: list List-Id: automatic DPDK test reports List-Unsubscribe: , List-Archive: List-Post: List-Help: List-Subscribe: , Errors-To: test-report-bounces@dpdk.org Test-Label: iol-compile-amd64-testing Test-Status: WARNING http://dpdk.org/patch/155087 _Testing issues_ Submitter: Tirthendu Sarkar Date: Wednesday, July 09 2025 05:04:34 DPDK git baseline: Repo:dpdk Branch: master CommitID:e90979eebbea093f6bab2d7c222fc5f5c9a85eff 155087 --> testing issues Upstream job id: Windows-Compile-DPDK-Native#29685 Test environment and result as below: +-------------------------------+--------------------+-------------------+-------------------+------------------+-------------------------+----------------------+ | Environment | dpdk_meson_compile | dpdk_msvc_compile | dpdk_compile_spdk | dpdk_compile_ovs | dpdk_llvm_clang_compile | dpdk_mingw64_compile | +===============================+====================+===================+===================+==================+=========================+======================+ | Ubuntu 20.04 | PASS | SKIPPED | SKIPPED | SKIPPED | SKIPPED | SKIPPED | +-------------------------------+--------------------+-------------------+-------------------+------------------+-------------------------+----------------------+ | FreeBSD 14.2 | PASS | SKIPPED | SKIPPED | SKIPPED | SKIPPED | SKIPPED | +-------------------------------+--------------------+-------------------+-------------------+------------------+-------------------------+----------------------+ | CentOS Stream 9 | PASS | SKIPPED | PASS | SKIPPED | SKIPPED | SKIPPED | +-------------------------------+--------------------+-------------------+-------------------+------------------+-------------------------+----------------------+ | CentOS Stream 10 | PASS | SKIPPED | SKIPPED | SKIPPED | SKIPPED | SKIPPED | +-------------------------------+--------------------+-------------------+-------------------+------------------+-------------------------+----------------------+ | Fedora Linux 40 | PASS | SKIPPED | PASS | SKIPPED | SKIPPED | SKIPPED | +-------------------------------+--------------------+-------------------+-------------------+------------------+-------------------------+----------------------+ | Fedora Linux 41 | PASS | SKIPPED | PASS | PASS | SKIPPED | SKIPPED | +-------------------------------+--------------------+-------------------+-------------------+------------------+-------------------------+----------------------+ | openSUSE Leap 15.6 | PASS | SKIPPED | SKIPPED | SKIPPED | SKIPPED | SKIPPED | +-------------------------------+--------------------+-------------------+-------------------+------------------+-------------------------+----------------------+ | Red Hat Enterprise Linux 8.10 | PASS | SKIPPED | SKIPPED | SKIPPED | SKIPPED | SKIPPED | +-------------------------------+--------------------+-------------------+-------------------+------------------+-------------------------+----------------------+ | Red Hat Enterprise Linux 9.5 | PASS | SKIPPED | SKIPPED | SKIPPED | SKIPPED | SKIPPED | +-------------------------------+--------------------+-------------------+-------------------+------------------+-------------------------+----------------------+ | Ubuntu 22.04 | PASS | SKIPPED | PASS | SKIPPED | SKIPPED | SKIPPED | +-------------------------------+--------------------+-------------------+-------------------+------------------+-------------------------+----------------------+ | Ubuntu 24.04 | PASS | SKIPPED | PASS | PASS | SKIPPED | SKIPPED | +-------------------------------+--------------------+-------------------+-------------------+------------------+-------------------------+----------------------+ | Alpine Linux 3.22.0 | PASS | SKIPPED | SKIPPED | SKIPPED | SKIPPED | SKIPPED | +-------------------------------+--------------------+-------------------+-------------------+------------------+-------------------------+----------------------+ | Debian GNU/Linux 12 | PASS | SKIPPED | PASS | SKIPPED | SKIPPED | SKIPPED | +-------------------------------+--------------------+-------------------+-------------------+------------------+-------------------------+----------------------+ | Windows Server 2022 | SKIPPED | PASS | SKIPPED | SKIPPED | PASS | PASS | +-------------------------------+--------------------+-------------------+-------------------+------------------+-------------------------+----------------------+ Ubuntu 20.04 Kernel: 4.19 Compiler: gcc gcc (Ubuntu 9.4.0-1ubuntu1~20.04.2) 9.4.0 FreeBSD 14.2 Kernel: 14.2-RELEASE Compiler: clang 18.1.6 CentOS Stream 9 Kernel: 5.15 Compiler: gcc gcc (GCC) 11.5.0 20240719 (Red Hat 11.5.0-7) CentOS Stream 10 Kernel: 5.15 Compiler: gcc gcc (GCC) 14.2.1 20250110 (Red Hat 14.2.1-8) Fedora Linux 40 Kernel: 5.15 Compiler: clang gcc (GCC) 14.2.1 20240912 (Red Hat 14.2.1-3) Fedora Linux 41 Kernel: 5.15 Compiler: clang gcc (GCC) 14.3.1 20250523 (Red Hat 14.3.1-1) openSUSE Leap 15.6 Kernel: 5.15 Compiler: gcc gcc (SUSE Linux) 7.5.0 Red Hat Enterprise Linux 8.10 Kernel: 5.15 Compiler: gcc gcc (GCC) 8.5.0 20210514 (Red Hat 8.5.0-22) Red Hat Enterprise Linux 9.5 Kernel: 5.15 Compiler: gcc gcc (GCC) 11.5.0 20240719 (Red Hat 11.5.0-2) Ubuntu 22.04 Kernel: 5.15 Compiler: gcc gcc (Ubuntu 11.4.0-1ubuntu1~22.04) 11.4.0 Ubuntu 24.04 Kernel: 5.15 Compiler: gcc gcc (Ubuntu 13.3.0-6ubuntu2~24.04) 13.3.0 Alpine Linux 3.22.0 Kernel: 5.15 Compiler: gcc gcc (Alpine 14.2.0) 14.2.0 Debian GNU/Linux 12 Kernel: 5.15 Compiler: gcc gcc (Debian 12.2.0-14+deb12u1) 12.2.0 Windows Server 2022 Kernel: 10.0.20348.2031 Compiler: clang 15.0.7, gcc 14.1.0 (MinGW), and MSVC VS 19.39.33521 To view detailed results, visit: https://lab.dpdk.org/results/dashboard/patchsets/33620/ UNH-IOL DPDK Community Lab To manage your email subscriptions, visit: https://lab.dpdk.org/results/dashboard/preferences/subscriptions/