From mboxrd@z Thu Jan 1 00:00:00 1970 Return-Path: Received: from mails.dpdk.org (mails.dpdk.org [217.70.189.124]) by inbox.dpdk.org (Postfix) with ESMTP id 0857846B30 for ; Wed, 9 Jul 2025 21:36:00 +0200 (CEST) Received: from mails.dpdk.org (localhost [127.0.0.1]) by mails.dpdk.org (Postfix) with ESMTP id D037B4029E; Wed, 9 Jul 2025 21:35:59 +0200 (CEST) Received: from mail-pl1-f226.google.com (mail-pl1-f226.google.com [209.85.214.226]) by mails.dpdk.org (Postfix) with ESMTP id DF6924029E for ; Wed, 9 Jul 2025 21:35:58 +0200 (CEST) Received: by mail-pl1-f226.google.com with SMTP id d9443c01a7336-236470b2dceso3244485ad.0 for ; Wed, 09 Jul 2025 12:35:58 -0700 (PDT) DKIM-Signature: v=1; a=rsa-sha256; c=relaxed/relaxed; d=iol.unh.edu; s=unh-iol; t=1752089758; x=1752694558; darn=dpdk.org; h=references:in-reply-to:cc:to:from:subject:message-id:date:from:to :cc:subject:date:message-id:reply-to; bh=Yntqv8brzffIOu09hhi6zJ/IvNbSz0yI7CpwjrWvWgU=; b=GG8TTPytIH2BsXQD5kO9rzY89YCaIZf8sGYfWTwrjC+NDj+vQIYTDjpAbD/bZH0shL NaMy6YzQPdfOZLUqH4OUfmBmb+igaelX2oiZ3g7i1xorkRBYRbXMNyonMQ5Bhh6nc2gB U5C7ExoznEF5c2RxtdZRvg0HTTNtqqjyaZV8M= X-Google-DKIM-Signature: v=1; a=rsa-sha256; c=relaxed/relaxed; d=1e100.net; s=20230601; t=1752089758; x=1752694558; h=references:in-reply-to:cc:to:from:subject:message-id:date :x-gm-message-state:from:to:cc:subject:date:message-id:reply-to; bh=Yntqv8brzffIOu09hhi6zJ/IvNbSz0yI7CpwjrWvWgU=; b=JSRN9GyCH77EhUSF2NP2l7b5xfFomHej65Wp46rgGHLBS7sNDFxKTIr68QBT5sTgUB s+F51/U62zVdjA5E8/k0mcAAlDHqw0Tr+b4tZzOM26bk3H71Yx82Yv8MoKjNCXR24ziF aCXD6jp5pBgtNj93ptZZt/XIw9v1CHxKfC1n///U2phbyxINVmaiqBgXVsY6LFIILHte DmUN/1NUgLzfCKdJFkFlXGJiolVqpb9DW5TsMVP6k9jxq2zQkr0/H+APrMr00VjoGnjt 3Cvppj85mYMYgK29uGreGOVwxFg4cGfJbeQ0c0xMZ9ChwlWFQsOFTBBcA8jKv2UVjcbA BAlw== X-Gm-Message-State: AOJu0Yy/vsSyBFmeMfM1v9d6/UyjS1oEL619rAhUxdXw7VS6JVxin8oT XC/7+MRXgaGDZYAvCWHfQK2IEQR4mHZYHrt9icezRZRX3kj3auM0FNHRdOOgJ54AAXafHHMi5el j+77sC6boBF+KX2gMxzepyB6Xt3aNPtB/6W7rwY8LKMeG X-Gm-Gg: ASbGncsMejVmI9zRCNq0g5ZswbU1+4TQ75cM3quj577ap8FdQzqaYvIKu/JcCQaSd2h F8R+tGVx0j+djNoPIQalWtRUragLumH472uSJz7xNh+IobnMO9zchkb5+3/+G40NoDIi5jyHY8c dxVlK+WJgdKaaLsIDDzmywpwOtwHczXUUVwR/P3LAn+/yQG2I0FGsfHz4rCHxO1YQC/1gMueyze eJPz54OjNAJdnRLY783gKV+pO4HADlOlMVl87NwK6EvlSOvH1tA3+YXr4l6WSCED53CJftzWbFp LNFqUA8BeJzlhrwj205IANm8BU1kb//LpwQdTr23A6MliVBxFSbZWsBHeVVQanFgHvUFfA== X-Google-Smtp-Source: AGHT+IHrMmfo70bXxs+8Nzovt+8QD714+dfcYC93IC94FCS4d1XU6c0eb8YEWRi4Rz6lwcyt/PYM+U5zX2nb X-Received: by 2002:a17:902:d607:b0:234:c549:d9f1 with SMTP id d9443c01a7336-23ddb32871emr51700705ad.47.1752089758004; Wed, 09 Jul 2025 12:35:58 -0700 (PDT) Received: from postal.iol.unh.edu (postal.iol.unh.edu. [132.177.123.84]) by smtp-relay.gmail.com with ESMTPS id d9443c01a7336-23c844e1441sm6179595ad.61.2025.07.09.12.35.57 (version=TLS1_2 cipher=ECDHE-ECDSA-AES128-GCM-SHA256 bits=128/128); Wed, 09 Jul 2025 12:35:57 -0700 (PDT) X-Relaying-Domain: iol.unh.edu Date: Wed, 09 Jul 2025 12:35:57 -0700 (PDT) Message-ID: <686ec49d.170a0220.1b8c0b.2207SMTPIN_ADDED_MISSING@mx.google.com> Received: from [172.21.0.5] (unknown [172.18.0.240]) by postal.iol.unh.edu (Postfix) with ESMTP id 7072B604D420; Wed, 9 Jul 2025 15:35:57 -0400 (EDT) Subject: |WARNING| pw155088-155089 [PATCH] [v5,2/2] crypto/uadk: use async mo From: dpdklab@iol.unh.edu To: Test Report Cc: dpdk-test-reports@iol.unh.edu In-Reply-To: <20250709064701.100676-3-zhangfei.gao@linaro.org> References: <20250709064701.100676-3-zhangfei.gao@linaro.org> Content-Type: text/plain X-BeenThere: test-report@dpdk.org X-Mailman-Version: 2.1.29 Precedence: list List-Id: automatic DPDK test reports List-Unsubscribe: , List-Archive: List-Post: List-Help: List-Subscribe: , Errors-To: test-report-bounces@dpdk.org Test-Label: iol-compile-amd64-testing Test-Status: WARNING http://dpdk.org/patch/155089 _Testing issues_ Submitter: Zhangfei Gao Date: Wednesday, July 09 2025 06:47:01 DPDK git baseline: Repo:dpdk Branch: master CommitID:2f4f0dc5f678fcf62cf046fa69821c0b8786deb4 155088-155089 --> testing issues Upstream job id: Windows-Compile-DPDK-Native#29686 Test environment and result as below: +-------------------------------+--------------------+-------------------+-------------------+------------------+-------------------------+ | Environment | dpdk_meson_compile | dpdk_compile_spdk | dpdk_msvc_compile | dpdk_compile_ovs | dpdk_llvm_clang_compile | +===============================+====================+===================+===================+==================+=========================+ | Ubuntu 20.04 | PASS | SKIPPED | SKIPPED | SKIPPED | SKIPPED | +-------------------------------+--------------------+-------------------+-------------------+------------------+-------------------------+ | FreeBSD 14.2 | PASS | SKIPPED | SKIPPED | SKIPPED | SKIPPED | +-------------------------------+--------------------+-------------------+-------------------+------------------+-------------------------+ | CentOS Stream 9 | PASS | PASS | SKIPPED | SKIPPED | SKIPPED | +-------------------------------+--------------------+-------------------+-------------------+------------------+-------------------------+ | CentOS Stream 10 | PASS | SKIPPED | SKIPPED | SKIPPED | SKIPPED | +-------------------------------+--------------------+-------------------+-------------------+------------------+-------------------------+ | Debian GNU/Linux 12 | PASS | PASS | SKIPPED | SKIPPED | SKIPPED | +-------------------------------+--------------------+-------------------+-------------------+------------------+-------------------------+ | Fedora Linux 40 | PASS | PASS | SKIPPED | SKIPPED | SKIPPED | +-------------------------------+--------------------+-------------------+-------------------+------------------+-------------------------+ | Fedora Linux 41 | PASS | PASS | SKIPPED | PASS | SKIPPED | +-------------------------------+--------------------+-------------------+-------------------+------------------+-------------------------+ | openSUSE Leap 15.6 | PASS | SKIPPED | SKIPPED | SKIPPED | SKIPPED | +-------------------------------+--------------------+-------------------+-------------------+------------------+-------------------------+ | Red Hat Enterprise Linux 8.10 | PASS | SKIPPED | SKIPPED | SKIPPED | SKIPPED | +-------------------------------+--------------------+-------------------+-------------------+------------------+-------------------------+ | Red Hat Enterprise Linux 9.5 | PASS | SKIPPED | SKIPPED | SKIPPED | SKIPPED | +-------------------------------+--------------------+-------------------+-------------------+------------------+-------------------------+ | Ubuntu 22.04 | PASS | PASS | SKIPPED | SKIPPED | SKIPPED | +-------------------------------+--------------------+-------------------+-------------------+------------------+-------------------------+ | Ubuntu 24.04 | PASS | PASS | SKIPPED | PASS | SKIPPED | +-------------------------------+--------------------+-------------------+-------------------+------------------+-------------------------+ | Alpine Linux 3.22.0 | PASS | SKIPPED | SKIPPED | SKIPPED | SKIPPED | +-------------------------------+--------------------+-------------------+-------------------+------------------+-------------------------+ | Windows Server 2022 | SKIPPED | SKIPPED | PASS | SKIPPED | PASS | +-------------------------------+--------------------+-------------------+-------------------+------------------+-------------------------+ Ubuntu 20.04 Kernel: 4.19 Compiler: gcc gcc (Ubuntu 9.4.0-1ubuntu1~20.04.2) 9.4.0 FreeBSD 14.2 Kernel: 14.2-RELEASE Compiler: clang 18.1.6 CentOS Stream 9 Kernel: 5.15 Compiler: gcc gcc (GCC) 11.5.0 20240719 (Red Hat 11.5.0-7) CentOS Stream 10 Kernel: 5.15 Compiler: gcc gcc (GCC) 14.2.1 20250110 (Red Hat 14.2.1-8) Debian GNU/Linux 12 Kernel: 5.15 Compiler: gcc gcc (Debian 12.2.0-14+deb12u1) 12.2.0 Fedora Linux 40 Kernel: 5.15 Compiler: clang gcc (GCC) 14.2.1 20240912 (Red Hat 14.2.1-3) Fedora Linux 41 Kernel: 5.15 Compiler: clang gcc (GCC) 14.3.1 20250523 (Red Hat 14.3.1-1) openSUSE Leap 15.6 Kernel: 5.15 Compiler: gcc gcc (SUSE Linux) 7.5.0 Red Hat Enterprise Linux 8.10 Kernel: 5.15 Compiler: gcc gcc (GCC) 8.5.0 20210514 (Red Hat 8.5.0-22) Red Hat Enterprise Linux 9.5 Kernel: 5.15 Compiler: gcc gcc (GCC) 11.5.0 20240719 (Red Hat 11.5.0-2) Ubuntu 22.04 Kernel: 5.15 Compiler: gcc gcc (Ubuntu 11.4.0-1ubuntu1~22.04) 11.4.0 Ubuntu 24.04 Kernel: 5.15 Compiler: gcc gcc (Ubuntu 13.3.0-6ubuntu2~24.04) 13.3.0 Alpine Linux 3.22.0 Kernel: 5.15 Compiler: gcc gcc (Alpine 14.2.0) 14.2.0 Windows Server 2022 Kernel: 10.0.20348.2031 Compiler: clang 15.0.7, gcc 14.1.0 (MinGW), and MSVC VS 19.39.33521 To view detailed results, visit: https://lab.dpdk.org/results/dashboard/patchsets/33621/ UNH-IOL DPDK Community Lab To manage your email subscriptions, visit: https://lab.dpdk.org/results/dashboard/preferences/subscriptions/