From mboxrd@z Thu Jan 1 00:00:00 1970 Return-Path: Received: from mails.dpdk.org (mails.dpdk.org [217.70.189.124]) by inbox.dpdk.org (Postfix) with ESMTP id 8DE7146B30 for ; Wed, 9 Jul 2025 21:41:49 +0200 (CEST) Received: from mails.dpdk.org (localhost [127.0.0.1]) by mails.dpdk.org (Postfix) with ESMTP id 653174029E; Wed, 9 Jul 2025 21:41:49 +0200 (CEST) Received: from mail-io1-f100.google.com (mail-io1-f100.google.com [209.85.166.100]) by mails.dpdk.org (Postfix) with ESMTP id D67CF4029E for ; Wed, 9 Jul 2025 21:41:47 +0200 (CEST) Received: by mail-io1-f100.google.com with SMTP id ca18e2360f4ac-87967784150so7771039f.3 for ; Wed, 09 Jul 2025 12:41:47 -0700 (PDT) DKIM-Signature: v=1; a=rsa-sha256; c=relaxed/relaxed; d=iol.unh.edu; s=unh-iol; t=1752090107; x=1752694907; darn=dpdk.org; h=references:in-reply-to:cc:to:from:subject:message-id:date:from:to :cc:subject:date:message-id:reply-to; bh=EohV9YJO+bPzJzrLPjahAKgakc3hXGfG1WMD+cPnu2Q=; b=B24tVGPcjMw7+mcDdPjYnLmqCXX6FFWxC07N58suiCpnaGMuql1wPzSzRoN/6o6yv4 1WR2r9qSOj/4lbTnpPB5y/72W/yKtJuoHneE7GrVamQqrWbQw5XaXpNNmyfz1SFQfB9h 24oN3XF0t1Oy/mHm2qG+Q/++7R3+iTAFRDaVY= X-Google-DKIM-Signature: v=1; a=rsa-sha256; c=relaxed/relaxed; d=1e100.net; s=20230601; t=1752090107; x=1752694907; h=references:in-reply-to:cc:to:from:subject:message-id:date :x-gm-message-state:from:to:cc:subject:date:message-id:reply-to; bh=EohV9YJO+bPzJzrLPjahAKgakc3hXGfG1WMD+cPnu2Q=; b=p28B7E10kA+m0lfW9B1gMhhtVwebA7vgqV5qRfAGFDiSwC/P1JXwa8QbCki4xoQ9Nj dmfHv8q0Mu8bFWRGVwvSzwn9JA9ZaUg6EhZHOOXiEM+A0+o5pbYRrx3ReYZ/glhXG5Jd 1TtlBminNIJaSyltMosT9SQqhLEVxX+/Qb+qYvmS2bda66M/U05DJMhle5pj/hqxqsij 9EuHDE7cFSFQn1OEiU7BDP0w9DKb7whcD0MahhJLCpLlGITmh+SBNbCiEqzAZNRsigQ/ boYmTHp6BELq3eEUjdlZ+P2hIjf4G/IZFQ2Da+Y6yhMlxjxL7pdmysLx6AreCt+FTPZC +R/A== X-Gm-Message-State: AOJu0YyDICW1zJyBnch59jmn8WgM1HLGnpAQVwsBhOqwIZpHiVdUR62b upKWIJWWs1hUOJHC/0ulYncxEOK7vdCg63t4fQFCb+jgC1FJ21R8uYOVYTHQN88sBUwAKXWxqK4 2yf9c7az1EIze2RQATTzHdFzrJgWteiR5ER5JDfXMbYoN X-Gm-Gg: ASbGncvCVWDTQ1CtNsOcyLdDnGVi7DuCIxzNdh+HtDla2l5u1/X9j0z3Og2QQD2E7dD BCJbQkIrBPD7+xvS9HbwlpcNPkZwNJDBTew6xYTGecCA8ePYU8Lj5MMclFSJffLUMwC+QqvwHxR kQXcaMtpAKCUs4l7Usb88DxQQEvZ9OCc5SnBYN9Y6AO1p4ji1mjPxhejQRxtlT20PzO6D2xGV95 80wPN1nRnthmanNb3JZwLOEo7Tq1ijn5/yVHAbVUcH5gjg8CvlkC8ZkwlGC+P38GNIA1mYAAjHl xCYsya0kpMgfbm0w1y1qiVEjhUirTBsHENIUUPn3uC+5pl5OMQ79A5a23CtdCsCdTEcP2g== X-Google-Smtp-Source: AGHT+IFqhK9WeCUJAzhnH4+QWVAP0DvNnSNLQLVf4reMf/wohxrSrq7dK2IiASd795LAQ1lII0FfRhzM4Csc X-Received: by 2002:a05:6602:370c:b0:873:f23:ff5 with SMTP id ca18e2360f4ac-8796640f579mr142880739f.12.1752090107049; Wed, 09 Jul 2025 12:41:47 -0700 (PDT) Received: from postal.iol.unh.edu (postal.iol.unh.edu. [132.177.123.84]) by smtp-relay.gmail.com with ESMTPS id 8926c6da1cb9f-503b59bdb79sm514518173.3.2025.07.09.12.41.46 (version=TLS1_2 cipher=ECDHE-ECDSA-AES128-GCM-SHA256 bits=128/128); Wed, 09 Jul 2025 12:41:47 -0700 (PDT) X-Relaying-Domain: iol.unh.edu Date: Wed, 09 Jul 2025 12:41:47 -0700 (PDT) Message-ID: <686ec5fb.050a0220.c01f.bc7bSMTPIN_ADDED_MISSING@mx.google.com> Received: from [172.21.0.5] (unknown [172.18.0.240]) by postal.iol.unh.edu (Postfix) with ESMTP id 8CBF36051830; Wed, 9 Jul 2025 15:41:46 -0400 (EDT) Subject: |SUCCESS| pw155108 [PATCH] [v1,1/1] net/iavf: fix order of inclusion From: dpdklab@iol.unh.edu To: Test Report Cc: dpdk-test-reports@iol.unh.edu In-Reply-To: <552f8241f4f65fce0c8b43797612a97dec5d9ebc.1752066381.git.anatoly.burakov@intel.com> References: <552f8241f4f65fce0c8b43797612a97dec5d9ebc.1752066381.git.anatoly.burakov@intel.com> Content-Type: text/plain X-BeenThere: test-report@dpdk.org X-Mailman-Version: 2.1.29 Precedence: list List-Id: automatic DPDK test reports List-Unsubscribe: , List-Archive: List-Post: List-Help: List-Subscribe: , Errors-To: test-report-bounces@dpdk.org Test-Label: iol-compile-arm64-testing Test-Status: SUCCESS http://dpdk.org/patch/155108 _Testing PASS_ Submitter: Burakov, Anatoly Date: Wednesday, July 09 2025 13:06:29 DPDK git baseline: Repo:dpdk Branch: master CommitID:f1853a0cc95eaae5842b88be0cbcd5becc2e94b7 155108 --> testing pass Upstream job id: Generic-DPDK-Compile-Meson#407324 Test environment and result as below: +------------------------------+--------------------+ | Environment | dpdk_meson_compile | +==============================+====================+ | Red Hat Enterprise Linux 9.5 | PASS | +------------------------------+--------------------+ | Ubuntu 20.04 | PASS | +------------------------------+--------------------+ | Debian GNU/Linux 12 | PASS | +------------------------------+--------------------+ | Fedora Linux 40 | PASS | +------------------------------+--------------------+ | Fedora Linux 41 | PASS | +------------------------------+--------------------+ | Ubuntu 22.04 | PASS | +------------------------------+--------------------+ | Ubuntu 24.04 | PASS | +------------------------------+--------------------+ | CentOS Stream 9 | PASS | +------------------------------+--------------------+ | CentOS Stream 10 | PASS | +------------------------------+--------------------+ Red Hat Enterprise Linux 9.5 Kernel: 5.4 Compiler: gcc gcc (GCC) 11.5.0 20240719 (Red Hat 11.5.0-2) Ubuntu 20.04 Kernel: 5.15 Compiler: aarch64-linux-gnu-gcc gcc (Ubuntu 9.4.0-1ubuntu1~20.04.2) 9.4.0 Debian GNU/Linux 12 Kernel: 5.4 Compiler: gcc gcc (Debian 12.2.0-14+deb12u1) 12.2.0 Fedora Linux 40 Kernel: 5.4 Compiler: gcc gcc (GCC) 14.2.1 20240912 (Red Hat 14.2.1-3) Fedora Linux 41 Kernel: 5.4 Compiler: gcc gcc (GCC) 14.3.1 20250523 (Red Hat 14.3.1-1) Ubuntu 22.04 Kernel: 5.4 Compiler: gcc gcc (Ubuntu 11.4.0-1ubuntu1~22.04) 11.4.0 Ubuntu 24.04 Kernel: 5.4 Compiler: gcc gcc (Ubuntu 13.3.0-6ubuntu2~24.04) 13.3.0 CentOS Stream 9 Kernel: 5.4 Compiler: gcc gcc (GCC) 11.5.0 20240719 (Red Hat 11.5.0-7) CentOS Stream 10 Kernel: 5.4 Compiler: gcc gcc (GCC) 14.2.1 20250110 (Red Hat 14.2.1-8) To view detailed results, visit: https://lab.dpdk.org/results/dashboard/patchsets/33627/ UNH-IOL DPDK Community Lab To manage your email subscriptions, visit: https://lab.dpdk.org/results/dashboard/preferences/subscriptions/