From mboxrd@z Thu Jan 1 00:00:00 1970 Return-Path: Received: from mails.dpdk.org (mails.dpdk.org [217.70.189.124]) by inbox.dpdk.org (Postfix) with ESMTP id 1215546B30 for ; Wed, 9 Jul 2025 21:47:25 +0200 (CEST) Received: from mails.dpdk.org (localhost [127.0.0.1]) by mails.dpdk.org (Postfix) with ESMTP id E45344029E; Wed, 9 Jul 2025 21:47:24 +0200 (CEST) Received: from mail-yw1-f228.google.com (mail-yw1-f228.google.com [209.85.128.228]) by mails.dpdk.org (Postfix) with ESMTP id 94BC94029E for ; Wed, 9 Jul 2025 21:47:23 +0200 (CEST) Received: by mail-yw1-f228.google.com with SMTP id 00721157ae682-70e75f30452so2325577b3.2 for ; Wed, 09 Jul 2025 12:47:23 -0700 (PDT) DKIM-Signature: v=1; a=rsa-sha256; c=relaxed/relaxed; d=iol.unh.edu; s=unh-iol; t=1752090443; x=1752695243; darn=dpdk.org; h=references:in-reply-to:cc:to:from:subject:message-id:date:from:to :cc:subject:date:message-id:reply-to; bh=T+CoLpOzJ+At0sYomBA2i2vtvwRMEyhF2KPrfeg/RMc=; b=OCFDec7sRcnu7vZ2MbqUKoKFLav2Q1rpQvXWIVZK8zNEti1TeNXZMtPN3rtd+gClad fkWdp1Mktys6sqfHfRufvETjyOrOroqwwz9flvaxdNiyqFttHGwCMjETcPGgHClMxG3k o0xG+zlu/dmCLq9JuuQbvSGWZqq4L/8lzckCo= X-Google-DKIM-Signature: v=1; a=rsa-sha256; c=relaxed/relaxed; d=1e100.net; s=20230601; t=1752090443; x=1752695243; h=references:in-reply-to:cc:to:from:subject:message-id:date :x-gm-message-state:from:to:cc:subject:date:message-id:reply-to; bh=T+CoLpOzJ+At0sYomBA2i2vtvwRMEyhF2KPrfeg/RMc=; b=t1XXKcH3l8ZZapjKIpQtGCdci+RQBDB4t2gIEHvKj/f6HWHJ8yOUUokbz6VwantExM 6ig2KDQcuY6iBlH1F2U882zpU2dVX5ntM5o/+u/zN1nbdohDStFFP+ZiI2mrr84X9mPh ShIfIsXD1ErNCyzLzBTilV8pE2Oz7tUXhBwGpu35qOu4ePYXQbBZrN/djOzun4sbjkMh yamKROUUdnVqkaAzN2S3t4MFIZzqjb3Xq19oUhjPVIW/W3vILxqRoJSAJEXkhq6aPwbT RYyBY4OoE2QR7sHT6+EdBUqiaTRLOY1rCaEqztXZAx5t9R0Ew/DVy44n+hHc9I9vkeep SB4A== X-Gm-Message-State: AOJu0YxBWgyB3iMbiY12Im5t1sb79eExwMiEJ1ZFMEltsgKHV4NXAbZB hSa6f3dgnXlU2fVdDuxUD75iCwBJu7l0/xLdrqoMCa+KOjQZ4vrkv5r7TpKfOoAVZagMY32GXoy +SBBRmTzINWGm3P6cVhMZqVs9ykyRiEESwSsVyjUi6mJ8pJLCfBzRWYV8NiTt X-Gm-Gg: ASbGncs9BY+QFNzGT2Uhq2j1/zr5ng6HzVbUrMoqNceuGy+/FC+0FYdEXBTfr6NT7bS mqmlhK7LCHLINdz6eRniP8TdaxtaFvUGzT2u0wH8xUs8NgKeNkVoXV/VyAN9BkRzYREZvq0HKVG JeUx9GiyB+6ZwIRTX90p+dMohIgKkbHITa1wLvO45Co827WX97A7jPCYuLdp5NDyKFtWSghbKRf mHOsdDeGx6OUI4Cz+Tj+KIbEGUlYDupEhbr4gif4veayDChydGg/NkNt5PYtd33HMaHLoUVzdNb MScBYGJr5zwXuCsNmQi2F0rQDgpudUhn0PGRrPJPzfkkIG4= X-Google-Smtp-Source: AGHT+IFkxquJwy6NqfZ+bId4G22+Kze1V+NIgryb8Gbo10uv5JzeQwp+zeC5NoqR6k/cZHdtOZovCpb4pHgj X-Received: by 2002:a05:690c:4d04:b0:714:583:6d05 with SMTP id 00721157ae682-717b19fb7e6mr58531497b3.32.1752090442817; Wed, 09 Jul 2025 12:47:22 -0700 (PDT) Received: from postal.iol.unh.edu (postal.iol.unh.edu. [2606:4100:3880:1234::84]) by smtp-relay.gmail.com with ESMTPS id 00721157ae682-716659cfbedsm4241827b3.22.2025.07.09.12.47.22 (version=TLS1_2 cipher=ECDHE-ECDSA-AES128-GCM-SHA256 bits=128/128); Wed, 09 Jul 2025 12:47:22 -0700 (PDT) X-Relaying-Domain: iol.unh.edu Date: Wed, 09 Jul 2025 12:47:22 -0700 (PDT) Message-ID: <686ec74a.050a0220.3c766f.6537SMTPIN_ADDED_MISSING@mx.google.com> Received: from [172.21.0.6] (unknown [172.18.0.240]) by postal.iol.unh.edu (Postfix) with ESMTP id 797206051830; Wed, 9 Jul 2025 15:47:22 -0400 (EDT) Subject: |SUCCESS| pw155079-155083 [PATCH] [RFC,v2,5/5] eal: simplify handlin From: dpdklab@iol.unh.edu To: Test Report Cc: dpdk-test-reports@iol.unh.edu In-Reply-To: <20250708172039.183989-6-bruce.richardson@intel.com> References: <20250708172039.183989-6-bruce.richardson@intel.com> Content-Type: text/plain X-BeenThere: test-report@dpdk.org X-Mailman-Version: 2.1.29 Precedence: list List-Id: automatic DPDK test reports List-Unsubscribe: , List-Archive: List-Post: List-Help: List-Subscribe: , Errors-To: test-report-bounces@dpdk.org Test-Label: iol-unit-amd64-testing Test-Status: SUCCESS http://dpdk.org/patch/155083 _Testing PASS_ Submitter: Bruce Richardson Date: Tuesday, July 08 2025 17:20:39 DPDK git baseline: Repo:dpdk Branch: master CommitID:e90979eebbea093f6bab2d7c222fc5f5c9a85eff 155079-155083 --> testing pass Upstream job id: Generic-VM-Unit-Test-DPDK#29832 Test environment and result as below: +-------------------------------+----------------+ | Environment | dpdk_unit_test | +===============================+================+ | Fedora Linux 41 | PASS | +-------------------------------+----------------+ | Fedora Linux 40 | PASS | +-------------------------------+----------------+ | Ubuntu 24.04 | PASS | +-------------------------------+----------------+ | CentOS Stream 10 | PASS | +-------------------------------+----------------+ | CentOS Stream 9 | PASS | +-------------------------------+----------------+ | Red Hat Enterprise Linux 8.10 | PASS | +-------------------------------+----------------+ | Debian GNU/Linux 12 | PASS | +-------------------------------+----------------+ | Ubuntu 20.04 | PASS | +-------------------------------+----------------+ | Ubuntu 22.04 | PASS | +-------------------------------+----------------+ | Red Hat Enterprise Linux 9.5 | PASS | +-------------------------------+----------------+ | Windows Server 2022 | PASS | +-------------------------------+----------------+ Fedora Linux 41 Kernel: 5.15 Compiler: gcc gcc (GCC) 14.3.1 20250523 (Red Hat 14.3.1-1) Fedora Linux 40 Kernel: 5.15 Compiler: gcc gcc (GCC) 14.2.1 20240912 (Red Hat 14.2.1-3) Ubuntu 24.04 Kernel: 5.15 Compiler: gcc gcc (Ubuntu 13.3.0-6ubuntu2~24.04) 13.3.0 CentOS Stream 10 Kernel: 5.15 Compiler: gcc gcc (GCC) 14.2.1 20250110 (Red Hat 14.2.1-8) CentOS Stream 9 Kernel: 5.15 Compiler: gcc gcc (GCC) 11.5.0 20240719 (Red Hat 11.5.0-7) Red Hat Enterprise Linux 8.10 Kernel: 5.15 Compiler: gcc gcc (GCC) 8.5.0 20210514 (Red Hat 8.5.0-22) Debian GNU/Linux 12 Kernel: 5.15 Compiler: gcc gcc (Debian 12.2.0-14+deb12u1) 12.2.0 Ubuntu 20.04 Kernel: 5.15 Compiler: gcc gcc (Ubuntu 9.4.0-1ubuntu1~20.04.2) 9.4.0 Ubuntu 22.04 Kernel: 5.15 Compiler: gcc gcc (Ubuntu 11.4.0-1ubuntu1~22.04) 11.4.0 Red Hat Enterprise Linux 9.5 Kernel: 5.15 Compiler: gcc gcc (GCC) 11.5.0 20240719 (Red Hat 11.5.0-2) Windows Server 2022 Kernel: 10.0.20348.2031 Compiler: clang 15.0.7, gcc 14.1.0 (MinGW), and MSVC VS 19.39.33521 To view detailed results, visit: https://lab.dpdk.org/results/dashboard/patchsets/33616/ UNH-IOL DPDK Community Lab To manage your email subscriptions, visit: https://lab.dpdk.org/results/dashboard/preferences/subscriptions/