From mboxrd@z Thu Jan 1 00:00:00 1970 Return-Path: Received: from mails.dpdk.org (mails.dpdk.org [217.70.189.124]) by inbox.dpdk.org (Postfix) with ESMTP id C1E9A46B30 for ; Wed, 9 Jul 2025 21:55:13 +0200 (CEST) Received: from mails.dpdk.org (localhost [127.0.0.1]) by mails.dpdk.org (Postfix) with ESMTP id 9BB384029E; Wed, 9 Jul 2025 21:55:13 +0200 (CEST) Received: from mail-oi1-f225.google.com (mail-oi1-f225.google.com [209.85.167.225]) by mails.dpdk.org (Postfix) with ESMTP id 5C6984029E for ; Wed, 9 Jul 2025 21:55:12 +0200 (CEST) Received: by mail-oi1-f225.google.com with SMTP id 5614622812f47-40b71debe9aso113431b6e.2 for ; Wed, 09 Jul 2025 12:55:12 -0700 (PDT) DKIM-Signature: v=1; a=rsa-sha256; c=relaxed/relaxed; d=iol.unh.edu; s=unh-iol; t=1752090911; x=1752695711; darn=dpdk.org; h=references:in-reply-to:cc:to:from:subject:message-id:date:from:to :cc:subject:date:message-id:reply-to; bh=t0H7PaNDEIKRQyjmpJ1PvEQbNdOgtkHMWA2I6I6tqao=; b=Bb7Upbr1wabYAaJiwNDi9sH7ngBtOzOWuMKL8h1YF8Qp8j35165A/EU0kuL6C8CdXG KoGqOzFseqsz/4EOMz0XghNSpgvDg+6xFktq0x6WPnNtdFUzvNh56t42Nw0sJaWVpk7u 5GTeq9g5zPaWe1b6YmFAOtd6Xs8l/y6yOu+0A= X-Google-DKIM-Signature: v=1; a=rsa-sha256; c=relaxed/relaxed; d=1e100.net; s=20230601; t=1752090911; x=1752695711; h=references:in-reply-to:cc:to:from:subject:message-id:date :x-gm-message-state:from:to:cc:subject:date:message-id:reply-to; bh=t0H7PaNDEIKRQyjmpJ1PvEQbNdOgtkHMWA2I6I6tqao=; b=dUQdat7fjCgmqMi7LPhA5i+SHgkonJUNuZk36tNCjQuIUsgPy2yiSxhsZh3Km+ZtkK F2u0YMX4wQFg675adhGG0zb4ViKzbwIfg9MPm21KdQC9IKVgr3r7ymQ1zO5vAVKb2tgH dbIKzLHEbe3Crg7/E6MWE0pdg7eD8dtn8ljDbYR1hidp+HVENaNDmVT8xGeiUyRP0Erg e4NP8aSkzknmeRrrLOg9uUffyZ+Ic/0Qhil1G/96leSrIpoz7SSo424LhcLKXRjaQRfG riM++ApiArwnVuII/1e97/25VrU6DkTDB+Ccda3pw9XzgAZEYBH4pmrroEJp3cKVTPl1 Kj/A== X-Gm-Message-State: AOJu0YxUyRNEFnVccdwQAp/RdXfiGyp2GO47rVxNpgKo1oli2hVACO+t gBi9b6cgXL33HNEMXj6k+yE9UqixP4ukW6JyZeOMFX9yNfYftjTvZvzjdObG/gxN0hvgnwCQR8g usm4Tllb/n5NKuAMhrShY8mnpSR80dk8WSYSiB7WavqXb X-Gm-Gg: ASbGncu2Kxb2Q60zEs7Ayw+Hno0QPpzDWdEWyZGmjXC0Op5fG1hSYBi7mhvSgBqwXSX OkTHvsFt9PwGwiIqGULzZMJ6lNq2799Y37sGHdtE7AnkH8aBlGHB+3LjLidURsz4Br3OpE0N1Z0 xoQYLDQuRnaHWQWm8e5HgTtHlXWbt7+xSagw9AF022oruAX3KrCapOpap5xAaea4sqLwempoiWf 6gXZBqgZL2bjBtnTjD3THF8OTh71jr9bbSoxFBWxxP7gh2oCz3SOHzYt7eJ5K35OR+ofKc9YJh6 Z4VZZ5QE4M/yyYqp/RZuy4VpGZd5YTdla/BE0tjLLYBLk3J7DTkDDZUGV94gsWwoio6Ycg== X-Google-Smtp-Source: AGHT+IECWB3yTWwvp2PPYIg4o1SFADCQ83ma7xvpTHRgVwZEkqScJ7S0L+hs74Csyp0RIUg3UkfWP5pIGyPo X-Received: by 2002:a05:6808:1490:b0:40a:52e5:37bc with SMTP id 5614622812f47-412bcb7d6cfmr2466016b6e.31.1752090911476; Wed, 09 Jul 2025 12:55:11 -0700 (PDT) Received: from postal.iol.unh.edu (postal.iol.unh.edu. [132.177.123.84]) by smtp-relay.gmail.com with ESMTPS id 586e51a60fabf-2f78fdfc00dsm801317fac.2.2025.07.09.12.55.11 (version=TLS1_2 cipher=ECDHE-ECDSA-AES128-GCM-SHA256 bits=128/128); Wed, 09 Jul 2025 12:55:11 -0700 (PDT) X-Relaying-Domain: iol.unh.edu Date: Wed, 09 Jul 2025 12:55:11 -0700 (PDT) Message-ID: <686ec91f.050a0220.2e3132.9b67SMTPIN_ADDED_MISSING@mx.google.com> Received: from [172.21.0.7] (unknown [172.18.0.240]) by postal.iol.unh.edu (Postfix) with ESMTP id 01AAD604D420; Wed, 9 Jul 2025 15:55:11 -0400 (EDT) Subject: |SUCCESS| pw155109 [PATCH] [v2] test_bbdev: enable to be compiled on From: dpdklab@iol.unh.edu To: Test Report Cc: dpdk-test-reports@iol.unh.edu In-Reply-To: <1752074012-14869-1-git-send-email-andremue@linux.microsoft.com> References: <1752074012-14869-1-git-send-email-andremue@linux.microsoft.com> Content-Type: text/plain X-BeenThere: test-report@dpdk.org X-Mailman-Version: 2.1.29 Precedence: list List-Id: automatic DPDK test reports List-Unsubscribe: , List-Archive: List-Post: List-Help: List-Subscribe: , Errors-To: test-report-bounces@dpdk.org Test-Label: iol-unit-amd64-testing Test-Status: SUCCESS http://dpdk.org/patch/155109 _Testing PASS_ Submitter: Andre Muezerie Date: Wednesday, July 09 2025 15:13:32 DPDK git baseline: Repo:dpdk Branch: master CommitID:19154c548d15cfa4928fcfb208b381d377039519 155109 --> testing pass Upstream job id: Generic-Unit-Test-DPDK#354308 Test environment and result as below: +-------------------------------+----------------+ | Environment | dpdk_unit_test | +===============================+================+ | CentOS Stream 9 | PASS | +-------------------------------+----------------+ | CentOS Stream 10 | PASS | +-------------------------------+----------------+ | Debian GNU/Linux 12 | PASS | +-------------------------------+----------------+ | Fedora Linux 41 | PASS | +-------------------------------+----------------+ | Fedora Linux 40 | PASS | +-------------------------------+----------------+ | Red Hat Enterprise Linux 9.5 | PASS | +-------------------------------+----------------+ | Ubuntu 20.04 | PASS | +-------------------------------+----------------+ | Red Hat Enterprise Linux 8.10 | PASS | +-------------------------------+----------------+ | Ubuntu 22.04 | PASS | +-------------------------------+----------------+ | Ubuntu 24.04 | PASS | +-------------------------------+----------------+ CentOS Stream 9 Kernel: 5.15 Compiler: gcc gcc (GCC) 11.5.0 20240719 (Red Hat 11.5.0-7) CentOS Stream 10 Kernel: 5.15 Compiler: gcc gcc (GCC) 14.2.1 20250110 (Red Hat 14.2.1-8) Debian GNU/Linux 12 Kernel: 5.15 Compiler: gcc gcc (Debian 12.2.0-14+deb12u1) 12.2.0 Fedora Linux 41 Kernel: 5.15 Compiler: gcc gcc (GCC) 14.3.1 20250523 (Red Hat 14.3.1-1) Fedora Linux 40 Kernel: 5.15 Compiler: gcc gcc (GCC) 14.2.1 20240912 (Red Hat 14.2.1-3) Red Hat Enterprise Linux 9.5 Kernel: 5.15 Compiler: gcc gcc (GCC) 11.5.0 20240719 (Red Hat 11.5.0-2) Ubuntu 20.04 Kernel: 5.15 Compiler: gcc gcc (Ubuntu 9.4.0-1ubuntu1~20.04.2) 9.4.0 Red Hat Enterprise Linux 8.10 Kernel: 5.15 Compiler: gcc gcc (GCC) 8.5.0 20210514 (Red Hat 8.5.0-22) Ubuntu 22.04 Kernel: 5.15 Compiler: gcc gcc (Ubuntu 11.4.0-1ubuntu1~22.04) 11.4.0 Ubuntu 24.04 Kernel: 5.15 Compiler: gcc gcc (Ubuntu 13.3.0-6ubuntu2~24.04) 13.3.0 To view detailed results, visit: https://lab.dpdk.org/results/dashboard/patchsets/33628/ UNH-IOL DPDK Community Lab To manage your email subscriptions, visit: https://lab.dpdk.org/results/dashboard/preferences/subscriptions/