From mboxrd@z Thu Jan 1 00:00:00 1970 Return-Path: Received: from mails.dpdk.org (mails.dpdk.org [217.70.189.124]) by inbox.dpdk.org (Postfix) with ESMTP id BC68B46B33 for ; Wed, 9 Jul 2025 22:08:01 +0200 (CEST) Received: from mails.dpdk.org (localhost [127.0.0.1]) by mails.dpdk.org (Postfix) with ESMTP id A05D24029E; Wed, 9 Jul 2025 22:08:01 +0200 (CEST) Received: from mail-qv1-f98.google.com (mail-qv1-f98.google.com [209.85.219.98]) by mails.dpdk.org (Postfix) with ESMTP id CA2B34029E for ; Wed, 9 Jul 2025 22:08:00 +0200 (CEST) Received: by mail-qv1-f98.google.com with SMTP id 6a1803df08f44-6fd0a3cd326so3573616d6.1 for ; Wed, 09 Jul 2025 13:08:00 -0700 (PDT) DKIM-Signature: v=1; a=rsa-sha256; c=relaxed/relaxed; d=iol.unh.edu; s=unh-iol; t=1752091680; x=1752696480; darn=dpdk.org; h=references:in-reply-to:cc:to:from:subject:message-id:date:from:to :cc:subject:date:message-id:reply-to; bh=W0lmAN1Dpiob61Sb0zjMJbzM4iG+Vfqkz6toJh6yFa0=; b=Yb6ukoSHc2xwibvNxBtoAhYE1Na6mA3mUjKLmO1wPpHlyQjvFsk8JOuto6Naf5Bw9/ Qh7uJw2g6Z4Hpd4BkyVTT01t4jCKXAUZt2KuC4t5E84xpNsDYzuY6w/8PwmHaoJu+9uP /CAHMv279V/9Fcr2lKaQGq7LBQjNQUAZvY4Uk= X-Google-DKIM-Signature: v=1; a=rsa-sha256; c=relaxed/relaxed; d=1e100.net; s=20230601; t=1752091680; x=1752696480; h=references:in-reply-to:cc:to:from:subject:message-id:date :x-gm-message-state:from:to:cc:subject:date:message-id:reply-to; bh=W0lmAN1Dpiob61Sb0zjMJbzM4iG+Vfqkz6toJh6yFa0=; b=spf2RTNrX4aJFPsP2Yqz3f/R5lQriH5AM7dolV+1u5CNxC6QOa3+4zaefriaGSuSSq 4Rwgz4XXUtA9qGTBkJT5Xl4rLjgilmNPs8dhS0iUGbHWMRco6VXsMSq3A2fth6Zwlmwz vgCqqGkFIbSqPhTuHOq4iDY6L/MTIraqL5x8TDBLKiiDS3S9E4aWa4C1dsxiAqiL5TGB DWXGa32CDxjdF/x7WVxPLySXe1HobV1EUlp2XPfCSAYSTu4P6D1gcWqnDkK/sSrTtW9v gSWABi+9G821fSlnsHC0amDRylkcJ8yJOKrS7l0M6R1U1LlK1awY+OaIbeIdXq9O/MzY V+ow== X-Gm-Message-State: AOJu0Yyvb2M1c9HmyYwEsm9eDmWJvqahy3wd5U0FaansGlssox/jRPiW fEwK0IfuptOt12Vz5oU2NXS9/g5GIZPIlyFZYG+F5ZpETaFGhIffiUF3mxD/zZa06jVbozV6nfL DEcAuZl/q1LbZ2iL9f3aZmwck4HvvsNUj8PAdjMszdgzs4ymTOq1bJH/Kr491 X-Gm-Gg: ASbGncvxfKxidN7tx6WYZjdiw8ZRkbK+DhHB2INg/8Pi8PpR2t82mWpxrZ0wQr6VZEH gadmKK0B6K77sB/WXvb3hD/p5GOhBjbutGzxHElXjgp8Rju+HYrr7vxfDfYuldgtc+gGSVtbFjp NzvicekIX4UH78Ogb5RElXnqrhlK9c7tVTrGGfxGHBldxDrOz+KQP7cMYCXHd/NFdvgoWToXpkY yUgcTlIu4bN3T+nL3pIvv1/m7R7Sj+DX5T+tbu0MKPWc4q0SvR6YoS9M3o6xAKldANWyc8T9MrJ PANB9Mii2XX7KQ7f5+BxplBNJn5hRxVEgx+9HO3DsZPkRow= X-Google-Smtp-Source: AGHT+IHa9ElFftgV5CncAPNvUmpiws/1wY/qX9IZ9ptfhaCbHs6+EAqV2k/z5hkxxUdFczYEw/61Kw+YfFfV X-Received: by 2002:a05:6214:21c9:b0:6fb:60a4:c6df with SMTP id 6a1803df08f44-70494fe75eamr22399556d6.38.1752091680016; Wed, 09 Jul 2025 13:08:00 -0700 (PDT) Received: from postal.iol.unh.edu (postal.iol.unh.edu. [2606:4100:3880:1234::84]) by smtp-relay.gmail.com with ESMTPS id 6a1803df08f44-702c4d33a83sm7143366d6.44.2025.07.09.13.07.59 (version=TLS1_2 cipher=ECDHE-ECDSA-AES128-GCM-SHA256 bits=128/128); Wed, 09 Jul 2025 13:08:00 -0700 (PDT) X-Relaying-Domain: iol.unh.edu Date: Wed, 09 Jul 2025 13:08:00 -0700 (PDT) Message-ID: <686ecc20.050a0220.1a269e.554cSMTPIN_ADDED_MISSING@mx.google.com> Received: from [172.21.0.5] (unknown [172.18.0.240]) by postal.iol.unh.edu (Postfix) with ESMTP id C1BE7604D420; Wed, 9 Jul 2025 16:07:59 -0400 (EDT) Subject: |WARNING| pw155109 [PATCH] [v2] test_bbdev: enable to be compiled on From: dpdklab@iol.unh.edu To: Test Report Cc: dpdk-test-reports@iol.unh.edu In-Reply-To: <1752074012-14869-1-git-send-email-andremue@linux.microsoft.com> References: <1752074012-14869-1-git-send-email-andremue@linux.microsoft.com> Content-Type: text/plain X-BeenThere: test-report@dpdk.org X-Mailman-Version: 2.1.29 Precedence: list List-Id: automatic DPDK test reports List-Unsubscribe: , List-Archive: List-Post: List-Help: List-Subscribe: , Errors-To: test-report-bounces@dpdk.org Test-Label: iol-compile-amd64-testing Test-Status: WARNING http://dpdk.org/patch/155109 _Testing issues_ Submitter: Andre Muezerie Date: Wednesday, July 09 2025 15:13:32 DPDK git baseline: Repo:dpdk Branch: master CommitID:19154c548d15cfa4928fcfb208b381d377039519 155109 --> testing issues Upstream job id: Generic-DPDK-Compile-Meson#407402 Test environment and result as below: +-------------------------------+--------------------+-------------------+------------------+-------------------+ | Environment | dpdk_meson_compile | dpdk_compile_spdk | dpdk_compile_ovs | dpdk_msvc_compile | +===============================+====================+===================+==================+===================+ | CentOS Stream 9 | PASS | PASS | SKIPPED | SKIPPED | +-------------------------------+--------------------+-------------------+------------------+-------------------+ | CentOS Stream 10 | PASS | SKIPPED | SKIPPED | SKIPPED | +-------------------------------+--------------------+-------------------+------------------+-------------------+ | Debian GNU/Linux 12 | PASS | PASS | SKIPPED | SKIPPED | +-------------------------------+--------------------+-------------------+------------------+-------------------+ | Fedora Linux 40 | PASS | WARN | SKIPPED | SKIPPED | +-------------------------------+--------------------+-------------------+------------------+-------------------+ | Fedora Linux 41 | PASS | PASS | PASS | SKIPPED | +-------------------------------+--------------------+-------------------+------------------+-------------------+ | openSUSE Leap 15.6 | PASS | SKIPPED | SKIPPED | SKIPPED | +-------------------------------+--------------------+-------------------+------------------+-------------------+ | Ubuntu 20.04 | PASS | SKIPPED | SKIPPED | SKIPPED | +-------------------------------+--------------------+-------------------+------------------+-------------------+ | Red Hat Enterprise Linux 9.5 | PASS | SKIPPED | SKIPPED | SKIPPED | +-------------------------------+--------------------+-------------------+------------------+-------------------+ | Red Hat Enterprise Linux 8.10 | PASS | SKIPPED | SKIPPED | SKIPPED | +-------------------------------+--------------------+-------------------+------------------+-------------------+ | Ubuntu 24.04 | PEND | PEND | PEND | SKIPPED | +-------------------------------+--------------------+-------------------+------------------+-------------------+ | Ubuntu 22.04 | PASS | PASS | SKIPPED | SKIPPED | +-------------------------------+--------------------+-------------------+------------------+-------------------+ | Alpine Linux 3.22.0 | PASS | SKIPPED | SKIPPED | SKIPPED | +-------------------------------+--------------------+-------------------+------------------+-------------------+ | FreeBSD 14.2 | PASS | SKIPPED | SKIPPED | SKIPPED | +-------------------------------+--------------------+-------------------+------------------+-------------------+ | Windows Server 2022 | SKIPPED | SKIPPED | SKIPPED | PASS | +-------------------------------+--------------------+-------------------+------------------+-------------------+ ==== 20 line log output for Fedora Linux 40 (dpdk_compile_spdk): ==== --- Failed to get log output --- ==== End log output ==== CentOS Stream 9 Kernel: 5.15 Compiler: gcc gcc (GCC) 11.5.0 20240719 (Red Hat 11.5.0-7) CentOS Stream 10 Kernel: 5.15 Compiler: gcc gcc (GCC) 14.2.1 20250110 (Red Hat 14.2.1-8) Debian GNU/Linux 12 Kernel: 5.15 Compiler: gcc gcc (Debian 12.2.0-14+deb12u1) 12.2.0 Fedora Linux 40 Kernel: 5.15 Compiler: gcc gcc (GCC) 14.2.1 20240912 (Red Hat 14.2.1-3) Fedora Linux 41 Kernel: 5.15 Compiler: clang gcc (GCC) 14.3.1 20250523 (Red Hat 14.3.1-1) openSUSE Leap 15.6 Kernel: 5.15 Compiler: gcc gcc (SUSE Linux) 7.5.0 Ubuntu 20.04 Kernel: 5.15 Compiler: gcc gcc (Ubuntu 9.4.0-1ubuntu1~20.04.2) 9.4.0 Red Hat Enterprise Linux 9.5 Kernel: 5.15 Compiler: gcc gcc (GCC) 11.5.0 20240719 (Red Hat 11.5.0-2) Red Hat Enterprise Linux 8.10 Kernel: 5.15 Compiler: gcc gcc (GCC) 8.5.0 20210514 (Red Hat 8.5.0-22) Ubuntu 24.04 Kernel: 5.15 Compiler: gcc gcc (Ubuntu 13.3.0-6ubuntu2~24.04) 13.3.0 Ubuntu 22.04 Kernel: 5.15 Compiler: gcc gcc (Ubuntu 11.4.0-1ubuntu1~22.04) 11.4.0 Alpine Linux 3.22.0 Kernel: 5.15 Compiler: gcc gcc (Alpine 14.2.0) 14.2.0 FreeBSD 14.2 Kernel: 14.2-RELEASE Compiler: clang 18.1.6 Windows Server 2022 Kernel: 10.0.20348.2031 Compiler: clang 15.0.7, gcc 14.1.0 (MinGW), and MSVC VS 19.39.33521 To view detailed results, visit: https://lab.dpdk.org/results/dashboard/patchsets/33628/ UNH-IOL DPDK Community Lab To manage your email subscriptions, visit: https://lab.dpdk.org/results/dashboard/preferences/subscriptions/