From mboxrd@z Thu Jan 1 00:00:00 1970 Return-Path: Received: from mails.dpdk.org (mails.dpdk.org [217.70.189.124]) by inbox.dpdk.org (Postfix) with ESMTP id C3D1246B33 for ; Wed, 9 Jul 2025 22:09:03 +0200 (CEST) Received: from mails.dpdk.org (localhost [127.0.0.1]) by mails.dpdk.org (Postfix) with ESMTP id BF5C44029E; Wed, 9 Jul 2025 22:09:03 +0200 (CEST) Received: from mail-oo1-f97.google.com (mail-oo1-f97.google.com [209.85.161.97]) by mails.dpdk.org (Postfix) with ESMTP id 9FF554029E for ; Wed, 9 Jul 2025 22:09:02 +0200 (CEST) Received: by mail-oo1-f97.google.com with SMTP id 006d021491bc7-60efc773b5fso160383eaf.3 for ; Wed, 09 Jul 2025 13:09:02 -0700 (PDT) DKIM-Signature: v=1; a=rsa-sha256; c=relaxed/relaxed; d=iol.unh.edu; s=unh-iol; t=1752091742; x=1752696542; darn=dpdk.org; h=references:in-reply-to:cc:to:from:subject:message-id:date:from:to :cc:subject:date:message-id:reply-to; bh=rrYKKUhCAN13etlmX7TGBkcuvGG9Sw6UDSK1xRnioBQ=; b=fr6560V/RBHUD4/Y/ZpDWTFMi/7/9wnnFToJmrc+37G0A/D2dxM/Rx7yy6gv9YRJTY +VTOJ+UBa75PbDKwY0DF7pRFxpIzcCeZwQ7zLhRRIk0jk7vl0YnpyRc6IdMzVsUp52bf wAENxWlwGUad0d1rbFNv7k0saaIM4Crlq6Km8= X-Google-DKIM-Signature: v=1; a=rsa-sha256; c=relaxed/relaxed; d=1e100.net; s=20230601; t=1752091742; x=1752696542; h=references:in-reply-to:cc:to:from:subject:message-id:date :x-gm-message-state:from:to:cc:subject:date:message-id:reply-to; bh=rrYKKUhCAN13etlmX7TGBkcuvGG9Sw6UDSK1xRnioBQ=; b=sTXo+ef+10L9TFiVVZqVqiR1BYKPRMZGhvVyKBgOrGI7HrQlYJBazk/SimNd+UmBLr Rlx9kVTaDG6iqkPMfT0RIRj17Tgy081fTt8BAZmt3EzNRvPTSx7MGO9xgBt8mJ+r8qjM 12RvR2I6GWy3Q6lwtEjXoXYommLUpKRB8g2aqB7t+mPTPifCDYng1OUYlKeVI6Iygd12 gDB3aVsfZodkSyBetwHsoBkYFsDrSpaXSZm3EwbX2Qip9/K3LIdaAWK+d7XQENAZtZkj tqkecfc0OqaOTBPCs/AWeqx6tBAl9008lh3YpchE0VpjZ4DRzQcEcAqJIuVevhDy2E9V DdIw== X-Gm-Message-State: AOJu0YwzG7xHL7tHmL7whm4ydZ/3GMLKngb4W15Ue71h/INqBJFDAQ/X JVZ/LlWdH0l7SPMaKDAPGr9w4avhnBiZciIh5nQ7qE/faANX3eUPsTMyI3unNs+7Mp9JUu2xbq2 uLy34bJbOf7XXtho6AHeI/M59bD88DXOJF3tuL1inweky X-Gm-Gg: ASbGncuamkUzeY4+Fnp5l1PpbEqQk7pXKEsb48/XUUsTxC6JhKzFp2GqrCn1aGEBcUw aNO208W9yINOX/5n3NE+NYtt8krhsbKqOu/qjAAs4ggBXRAIYPqvd6pQOPfmVWs5lHRFpnCDY3U NtnXjNomtmsa/8zf+uGVshCnmBmrW4ATKEz62VkLJIzOtwaHYySdHcxR6ORSZ8l3p7VKra27TGO pV9Bf+Zy91IuHT0x6ljGs4cxeRmHU5HNIq/w4EBPm6J4jyXSXnai8T1KviywdAyRpIclD/xcnSR sBj+C8hPU4+6Tiyh1hcVk1G7bKlFodzL1a2MZh0Jio8DbZ/Zt4cFZOuRizgnU76AG158kw== X-Google-Smtp-Source: AGHT+IFTW1GJsCMzwZocYC4X3X5mZWav3SbfoDC0g6Aht1BzssFZ4eFvH3h1O1Pjnogacu0Yh36wBuW4xiuI X-Received: by 2002:a05:6820:a098:b0:613:d09e:762d with SMTP id 006d021491bc7-613d09e7a30mr1851412eaf.1.1752091741900; Wed, 09 Jul 2025 13:09:01 -0700 (PDT) Received: from postal.iol.unh.edu (postal.iol.unh.edu. [132.177.123.84]) by smtp-relay.gmail.com with ESMTPS id 006d021491bc7-6138e49934csm500020eaf.6.2025.07.09.13.09.01 (version=TLS1_2 cipher=ECDHE-ECDSA-AES128-GCM-SHA256 bits=128/128); Wed, 09 Jul 2025 13:09:01 -0700 (PDT) X-Relaying-Domain: iol.unh.edu Date: Wed, 09 Jul 2025 13:09:01 -0700 (PDT) Message-ID: <686ecc5d.050a0220.3a57c4.a383SMTPIN_ADDED_MISSING@mx.google.com> Received: from [172.21.0.7] (unknown [172.18.0.240]) by postal.iol.unh.edu (Postfix) with ESMTP id 5789E604D420; Wed, 9 Jul 2025 16:09:01 -0400 (EDT) Subject: |WARNING| pw155109 [PATCH] [v2] test_bbdev: enable to be compiled on From: dpdklab@iol.unh.edu To: Test Report Cc: dpdk-test-reports@iol.unh.edu In-Reply-To: <1752074012-14869-1-git-send-email-andremue@linux.microsoft.com> References: <1752074012-14869-1-git-send-email-andremue@linux.microsoft.com> Content-Type: text/plain X-BeenThere: test-report@dpdk.org X-Mailman-Version: 2.1.29 Precedence: list List-Id: automatic DPDK test reports List-Unsubscribe: , List-Archive: List-Post: List-Help: List-Subscribe: , Errors-To: test-report-bounces@dpdk.org Test-Label: iol-compile-amd64-testing Test-Status: WARNING http://dpdk.org/patch/155109 _Testing issues_ Submitter: Andre Muezerie Date: Wednesday, July 09 2025 15:13:32 DPDK git baseline: Repo:dpdk Branch: master CommitID:19154c548d15cfa4928fcfb208b381d377039519 155109 --> testing issues Upstream job id: Generic-DPDK-Compile-Meson#407407 Test environment and result as below: +-------------------------------+--------------------+-------------------+------------------+-------------------+ | Environment | dpdk_meson_compile | dpdk_compile_spdk | dpdk_compile_ovs | dpdk_msvc_compile | +===============================+====================+===================+==================+===================+ | CentOS Stream 9 | PASS | PASS | SKIPPED | SKIPPED | +-------------------------------+--------------------+-------------------+------------------+-------------------+ | CentOS Stream 10 | PASS | SKIPPED | SKIPPED | SKIPPED | +-------------------------------+--------------------+-------------------+------------------+-------------------+ | Debian GNU/Linux 12 | PASS | PASS | SKIPPED | SKIPPED | +-------------------------------+--------------------+-------------------+------------------+-------------------+ | Fedora Linux 40 | PASS | WARN | SKIPPED | SKIPPED | +-------------------------------+--------------------+-------------------+------------------+-------------------+ | Fedora Linux 41 | PASS | PASS | PASS | SKIPPED | +-------------------------------+--------------------+-------------------+------------------+-------------------+ | openSUSE Leap 15.6 | PASS | SKIPPED | SKIPPED | SKIPPED | +-------------------------------+--------------------+-------------------+------------------+-------------------+ | Ubuntu 20.04 | PASS | SKIPPED | SKIPPED | SKIPPED | +-------------------------------+--------------------+-------------------+------------------+-------------------+ | Red Hat Enterprise Linux 9.5 | PASS | SKIPPED | SKIPPED | SKIPPED | +-------------------------------+--------------------+-------------------+------------------+-------------------+ | Red Hat Enterprise Linux 8.10 | PASS | SKIPPED | SKIPPED | SKIPPED | +-------------------------------+--------------------+-------------------+------------------+-------------------+ | Ubuntu 24.04 | PEND | PEND | PEND | SKIPPED | +-------------------------------+--------------------+-------------------+------------------+-------------------+ | Ubuntu 22.04 | PASS | PASS | SKIPPED | SKIPPED | +-------------------------------+--------------------+-------------------+------------------+-------------------+ | Alpine Linux 3.22.0 | PASS | SKIPPED | SKIPPED | SKIPPED | +-------------------------------+--------------------+-------------------+------------------+-------------------+ | FreeBSD 14.2 | PASS | SKIPPED | SKIPPED | SKIPPED | +-------------------------------+--------------------+-------------------+------------------+-------------------+ | Windows Server 2022 | SKIPPED | SKIPPED | SKIPPED | PASS | +-------------------------------+--------------------+-------------------+------------------+-------------------+ ==== 20 line log output for Fedora Linux 40 (dpdk_compile_spdk): ==== --- Failed to get log output --- ==== End log output ==== CentOS Stream 9 Kernel: 5.15 Compiler: gcc gcc (GCC) 11.5.0 20240719 (Red Hat 11.5.0-7) CentOS Stream 10 Kernel: 5.15 Compiler: gcc gcc (GCC) 14.2.1 20250110 (Red Hat 14.2.1-8) Debian GNU/Linux 12 Kernel: 5.15 Compiler: gcc gcc (Debian 12.2.0-14+deb12u1) 12.2.0 Fedora Linux 40 Kernel: 5.15 Compiler: gcc gcc (GCC) 14.2.1 20240912 (Red Hat 14.2.1-3) Fedora Linux 41 Kernel: 5.15 Compiler: clang gcc (GCC) 14.3.1 20250523 (Red Hat 14.3.1-1) openSUSE Leap 15.6 Kernel: 5.15 Compiler: gcc gcc (SUSE Linux) 7.5.0 Ubuntu 20.04 Kernel: 5.15 Compiler: gcc gcc (Ubuntu 9.4.0-1ubuntu1~20.04.2) 9.4.0 Red Hat Enterprise Linux 9.5 Kernel: 5.15 Compiler: gcc gcc (GCC) 11.5.0 20240719 (Red Hat 11.5.0-2) Red Hat Enterprise Linux 8.10 Kernel: 5.15 Compiler: gcc gcc (GCC) 8.5.0 20210514 (Red Hat 8.5.0-22) Ubuntu 24.04 Kernel: 5.15 Compiler: gcc gcc (Ubuntu 13.3.0-6ubuntu2~24.04) 13.3.0 Ubuntu 22.04 Kernel: 5.15 Compiler: gcc gcc (Ubuntu 11.4.0-1ubuntu1~22.04) 11.4.0 Alpine Linux 3.22.0 Kernel: 5.15 Compiler: gcc gcc (Alpine 14.2.0) 14.2.0 FreeBSD 14.2 Kernel: 14.2-RELEASE Compiler: clang 18.1.6 Windows Server 2022 Kernel: 10.0.20348.2031 Compiler: clang 15.0.7, gcc 14.1.0 (MinGW), and MSVC VS 19.39.33521 To view detailed results, visit: https://lab.dpdk.org/results/dashboard/patchsets/33628/ UNH-IOL DPDK Community Lab To manage your email subscriptions, visit: https://lab.dpdk.org/results/dashboard/preferences/subscriptions/