From mboxrd@z Thu Jan 1 00:00:00 1970 Return-Path: Received: from mails.dpdk.org (mails.dpdk.org [217.70.189.124]) by inbox.dpdk.org (Postfix) with ESMTP id 2E29546B33 for ; Wed, 9 Jul 2025 22:12:15 +0200 (CEST) Received: from mails.dpdk.org (localhost [127.0.0.1]) by mails.dpdk.org (Postfix) with ESMTP id 0C75D4029E; Wed, 9 Jul 2025 22:12:15 +0200 (CEST) Received: from mail-yb1-f228.google.com (mail-yb1-f228.google.com [209.85.219.228]) by mails.dpdk.org (Postfix) with ESMTP id 372114029E for ; Wed, 9 Jul 2025 22:12:14 +0200 (CEST) Received: by mail-yb1-f228.google.com with SMTP id 3f1490d57ef6-e8259b783f6so181976276.3 for ; Wed, 09 Jul 2025 13:12:14 -0700 (PDT) DKIM-Signature: v=1; a=rsa-sha256; c=relaxed/relaxed; d=iol.unh.edu; s=unh-iol; t=1752091933; x=1752696733; darn=dpdk.org; h=references:in-reply-to:cc:to:from:subject:message-id:date:from:to :cc:subject:date:message-id:reply-to; bh=6NL8Yck5FvBlHYW+JV1I0r4A8sh4OKuGTzUt11HM5Fw=; b=DmqthdFiJOqH9xIrM4CydNwNZ9PlP7nG5ZEyV2XAdYZ47ET+HsomXgOZjx9OkYPg29 GBo+lYqyO9qfsaDq2bfSzITFjtmoAkciD5nnoFFjIwGAMkKV0/+8rWtoGBy0poi4Lb3N jf5QxotrFuENWAVX1rhVXx8NwmwnEJXKmELvI= X-Google-DKIM-Signature: v=1; a=rsa-sha256; c=relaxed/relaxed; d=1e100.net; s=20230601; t=1752091933; x=1752696733; h=references:in-reply-to:cc:to:from:subject:message-id:date :x-gm-message-state:from:to:cc:subject:date:message-id:reply-to; bh=6NL8Yck5FvBlHYW+JV1I0r4A8sh4OKuGTzUt11HM5Fw=; b=ouMQo5LEYwhZu8lnIqfWSBfNYA0Jwm+QGxCPCgV4X/IKF9vL4F4gZeGvOvEtdKwKEs VMQ3X51iutmEFoWqulCD1IooNQ0voF+a9QylqQ0XpzBLPLSlFL1RNhQRF5mz6wEgjJaI AXoyPP6yOVk6n16zLZRpP3GLdITyY/+teo20iH7gD82MMNGLwwOEYl+Zln+oTF3eAYkO xbCcqU8WbBii83OR5Ojia2PWzuRulH1VGqHtFU9R9pxXZhheopZMOKD0yXXtGf7vMsjo GkgEie5KNVPyANDvSkfnDqt/V83TjlW4iVJQcibKP3RFLWAPzQnV1Ap7Dc4uRQcmkmYx Zlkg== X-Gm-Message-State: AOJu0YxCIR7T9rAiB3rY4vdEnoO/KLvvmfYDtRl3k8VmEhcfp8dOTonG Iox94Ld2Lno3RL9XRKGy8VqRLzlrW2Fghj2oYPUdq7w1Vq2cJW8fpSrcwGOASg/grlURc+zJ1yp ovEgXcw18UV5IkRjU8eZya+SuQs94h0+RcvalmR0ISLpC X-Gm-Gg: ASbGncv8iafsPx999I8TlrrRF9+T3dJHCJaLF1s8G2ORnTNGu0CqzajitGbzZIpZk9L 6rUsTOh8Y1GZQlbWiGRa4OnWSwjZpx1a+qFT3rsCtSVSQGo10D8Hm8r/F1EawmCGbIOY8zro5Wh TuR+7v6J0WFj1CW9/5xWdyAcDO9wHw8kr3Pt2yKdXfnW53jbLpLpA2ZERSXyFBRfbto27WNWATW tqWRt++qMk7nn1GyCBhidTInYQWVC5EdqTGI5MoSBVok17N+tyfNdvHv9lI0Mzl4NwoFkZFWdCZ 5+HlMhF4lvW6UxFz6y6wO9tq2+j3zdjB0XBo3o3hfL+PLB46x3xvpU2kArXxiaazxN08Dg== X-Google-Smtp-Source: AGHT+IGCOiTkoA3Ow1S8hvt968wT//D7egcmqXU1Oj1CJbsjZxjI5n82wz9js06jl+eRvviJ3yqpvq4+Qvxp X-Received: by 2002:a05:690c:6405:b0:70f:8883:eb1a with SMTP id 00721157ae682-717c46227a4mr2265437b3.6.1752091933396; Wed, 09 Jul 2025 13:12:13 -0700 (PDT) Received: from postal.iol.unh.edu (postal.iol.unh.edu. [132.177.123.84]) by smtp-relay.gmail.com with ESMTPS id 00721157ae682-71665b6029bsm3131397b3.52.2025.07.09.13.12.13 (version=TLS1_2 cipher=ECDHE-ECDSA-AES128-GCM-SHA256 bits=128/128); Wed, 09 Jul 2025 13:12:13 -0700 (PDT) X-Relaying-Domain: iol.unh.edu Date: Wed, 09 Jul 2025 13:12:13 -0700 (PDT) Message-ID: <686ecd1d.050a0220.3a9869.ff99SMTPIN_ADDED_MISSING@mx.google.com> Received: from [172.21.0.5] (unknown [172.18.0.240]) by postal.iol.unh.edu (Postfix) with ESMTP id 25A92604D420; Wed, 9 Jul 2025 16:12:13 -0400 (EDT) Subject: |SUCCESS| pw155029-155031 [PATCH] [v3,3/3] app/testpmd: improve outp From: dpdklab@iol.unh.edu To: Test Report Cc: dpdk-test-reports@iol.unh.edu In-Reply-To: <20250707111751.183469-4-bruce.richardson@intel.com> References: <20250707111751.183469-4-bruce.richardson@intel.com> Content-Type: text/plain X-BeenThere: test-report@dpdk.org X-Mailman-Version: 2.1.29 Precedence: list List-Id: automatic DPDK test reports List-Unsubscribe: , List-Archive: List-Post: List-Help: List-Subscribe: , Errors-To: test-report-bounces@dpdk.org Test-Label: iol-compile-arm64-testing Test-Status: SUCCESS http://dpdk.org/patch/155031 _Testing PASS_ Submitter: Bruce Richardson Date: Monday, July 07 2025 11:17:51 DPDK git baseline: Repo:dpdk Branch: master CommitID:ba982f9a1ca9b96ed0394b764f1523d482e963a2 155029-155031 --> testing pass Upstream job id: Generic-DPDK-Compile-Meson#407355 Test environment and result as below: +------------------------------+--------------------+ | Environment | dpdk_meson_compile | +==============================+====================+ | Red Hat Enterprise Linux 9.5 | PASS | +------------------------------+--------------------+ | Ubuntu 20.04 | PASS | +------------------------------+--------------------+ | Fedora Linux 40 | PASS | +------------------------------+--------------------+ | Fedora Linux 41 | PASS | +------------------------------+--------------------+ | Debian GNU/Linux 12 | PASS | +------------------------------+--------------------+ | Ubuntu 22.04 | PASS | +------------------------------+--------------------+ | Ubuntu 24.04 | PASS | +------------------------------+--------------------+ | CentOS Stream 9 | PASS | +------------------------------+--------------------+ | CentOS Stream 10 | PASS | +------------------------------+--------------------+ Red Hat Enterprise Linux 9.5 Kernel: 5.4 Compiler: gcc gcc (GCC) 11.5.0 20240719 (Red Hat 11.5.0-2) Ubuntu 20.04 Kernel: 5.15 Compiler: aarch64-linux-gnu-gcc gcc (Ubuntu 9.4.0-1ubuntu1~20.04.2) 9.4.0 Fedora Linux 40 Kernel: 5.4 Compiler: gcc gcc (GCC) 14.2.1 20240912 (Red Hat 14.2.1-3) Fedora Linux 41 Kernel: 5.4 Compiler: gcc gcc (GCC) 14.3.1 20250523 (Red Hat 14.3.1-1) Debian GNU/Linux 12 Kernel: 5.4 Compiler: gcc gcc (Debian 12.2.0-14+deb12u1) 12.2.0 Ubuntu 22.04 Kernel: 5.4 Compiler: gcc gcc (Ubuntu 11.4.0-1ubuntu1~22.04) 11.4.0 Ubuntu 24.04 Kernel: 5.4 Compiler: gcc gcc (Ubuntu 13.3.0-6ubuntu2~24.04) 13.3.0 CentOS Stream 9 Kernel: 5.4 Compiler: gcc gcc (GCC) 11.5.0 20240719 (Red Hat 11.5.0-7) CentOS Stream 10 Kernel: 5.4 Compiler: gcc gcc (GCC) 14.2.1 20250110 (Red Hat 14.2.1-8) To view detailed results, visit: https://lab.dpdk.org/results/dashboard/patchsets/33604/ UNH-IOL DPDK Community Lab To manage your email subscriptions, visit: https://lab.dpdk.org/results/dashboard/preferences/subscriptions/