From mboxrd@z Thu Jan 1 00:00:00 1970 Return-Path: Received: from mails.dpdk.org (mails.dpdk.org [217.70.189.124]) by inbox.dpdk.org (Postfix) with ESMTP id 1B60A46B33 for ; Wed, 9 Jul 2025 22:12:18 +0200 (CEST) Received: from mails.dpdk.org (localhost [127.0.0.1]) by mails.dpdk.org (Postfix) with ESMTP id 1742D4029E; Wed, 9 Jul 2025 22:12:18 +0200 (CEST) Received: from mail-pg1-f226.google.com (mail-pg1-f226.google.com [209.85.215.226]) by mails.dpdk.org (Postfix) with ESMTP id 0FBA24029E for ; Wed, 9 Jul 2025 22:12:17 +0200 (CEST) Received: by mail-pg1-f226.google.com with SMTP id 41be03b00d2f7-b1fd59851baso299026a12.0 for ; Wed, 09 Jul 2025 13:12:16 -0700 (PDT) DKIM-Signature: v=1; a=rsa-sha256; c=relaxed/relaxed; d=iol.unh.edu; s=unh-iol; t=1752091936; x=1752696736; darn=dpdk.org; h=references:in-reply-to:cc:to:from:subject:message-id:date:from:to :cc:subject:date:message-id:reply-to; bh=pNNees/orGyxcNwk9GxGI2ildT3PPRqt2940l9X3LZA=; b=cE4fQUFF+hqGIvdOo3kvix9gXZD+3NCyuFeND+OQ0bXSOxgbsH0fohwsq+4ovv8NsA x8TGQO4t1LOsBDSmEp0TOzW3LVhUMqrmwM0RWHtUoXU+OwfTHSGpkJEHVKwvSzSiEBjN qhuau9ly1M0C8FPgINqe+a+EtJAvb+p8esVow= X-Google-DKIM-Signature: v=1; a=rsa-sha256; c=relaxed/relaxed; d=1e100.net; s=20230601; t=1752091936; x=1752696736; h=references:in-reply-to:cc:to:from:subject:message-id:date :x-gm-message-state:from:to:cc:subject:date:message-id:reply-to; bh=pNNees/orGyxcNwk9GxGI2ildT3PPRqt2940l9X3LZA=; b=ogKiFDdZ6VkhEJICaQdB71zYPXKbxaL96cxSXfa6Ab2bS9f+QKEahAuqunyR6YO413 +2aFBvSU8TtmMDBwU/Bk2eX0LrUlWgh4Gdcdo5kMzmzhR3sdnG5WJHFU4Uk6s7Ir/zee SOPXZFRnQgTodugi1MVHj9ctBD3AkKIKArIYmTUqe2Oz4NiDTOqLT9k39v2HG2UUKTYN d3jgqCQMlslAR9+IApzSS6C9nVNvkoOgLpBcWpsZEk3tXXx1bcy/kW7SjmlktXpWl5hV Ymh28w/2ys/8pUS8219Yvqx0eXg+0CC3f3hD7d75BN9s+8BMht6PxfAhR0jvGfJUXPKu XBHw== X-Gm-Message-State: AOJu0Yx/k/9JdMIWPgQoEkInS6Fl4QbprBysb9S5hcZyUid6WIqOVnmL SkkFTuCWbkddydi9apwdL67UwLQ8BJ08e5AturrbUXKGREYcFCSZud1vRmv10wZt/v+bV8YLg/2 pfF1yhr1EkZzLXOMFfW+WbBd6FS875aGcAb5rEKiXUingnCVBPcLyEaEIgEXr X-Gm-Gg: ASbGnctxDz7dpM5MKeYe/WIoN+Udl6ejVlI+dcIP4p5eWT6NmuKmseBJfFfMxOS6SDW r4xFR96mHUkgeHaQGLcnQcHT7i07vduKWND5yBs+d8iFGAk4KL2z++9FFKl8jiEaKDg/stLGoIu xFu3muIhhPz4f6zj952hi99GkvyUs8Lt3RhgRxjwyobAkwctYJcFSdSt+dtVue6DW+gO0Yji2ZQ dGKgMJMMZledIBkrdSGqUoM6adCdADodcLNQw+HNhUpq2xTdQPZfWn40ZCNIoCHOcXvGK79ysCj s1VgpSgQY2q0NSUmL0CupmGaBXuujXU+POUChrrPCZqINKI= X-Google-Smtp-Source: AGHT+IFEtx63m/U6NfvDKnpZtkNWKxoVwbjQzVJlvYX2HzI7daEq1+7fIsAz3MYgF1KBK1XRxXOMM/SOXwPh X-Received: by 2002:a17:90b:1c0b:b0:312:da0d:3d85 with SMTP id 98e67ed59e1d1-31c3c2544f5mr1746286a91.6.1752091935449; Wed, 09 Jul 2025 13:12:15 -0700 (PDT) Received: from postal.iol.unh.edu (postal.iol.unh.edu. [2606:4100:3880:1234::84]) by smtp-relay.gmail.com with ESMTPS id 98e67ed59e1d1-31c3eb7f6e2sm226a91.15.2025.07.09.13.12.15 (version=TLS1_2 cipher=ECDHE-ECDSA-AES128-GCM-SHA256 bits=128/128); Wed, 09 Jul 2025 13:12:15 -0700 (PDT) X-Relaying-Domain: iol.unh.edu Date: Wed, 09 Jul 2025 13:12:15 -0700 (PDT) Message-ID: <686ecd1f.170a0220.1c3adb.0022SMTPIN_ADDED_MISSING@mx.google.com> Received: from [172.21.0.6] (unknown [172.18.0.240]) by postal.iol.unh.edu (Postfix) with ESMTP id A3521604D420; Wed, 9 Jul 2025 16:12:14 -0400 (EDT) Subject: |SUCCESS| pw155109 [PATCH] [v2] test_bbdev: enable to be compiled on From: dpdklab@iol.unh.edu To: Test Report Cc: dpdk-test-reports@iol.unh.edu In-Reply-To: <1752074012-14869-1-git-send-email-andremue@linux.microsoft.com> References: <1752074012-14869-1-git-send-email-andremue@linux.microsoft.com> Content-Type: text/plain X-BeenThere: test-report@dpdk.org X-Mailman-Version: 2.1.29 Precedence: list List-Id: automatic DPDK test reports List-Unsubscribe: , List-Archive: List-Post: List-Help: List-Subscribe: , Errors-To: test-report-bounces@dpdk.org Test-Label: iol-abi-testing Test-Status: SUCCESS http://dpdk.org/patch/155109 _Testing PASS_ Submitter: Andre Muezerie Date: Wednesday, July 09 2025 15:13:32 DPDK git baseline: Repo:dpdk Branch: master CommitID:19154c548d15cfa4928fcfb208b381d377039519 155109 --> testing pass Upstream job id: Generic-DPDK-Compile-ABI#133849 Test environment and result as below: +-------------------------------+----------+ | Environment | abi_test | +===============================+==========+ | CentOS Stream 9 | PASS | +-------------------------------+----------+ | CentOS Stream 10 | PASS | +-------------------------------+----------+ | Fedora Linux 40 | PASS | +-------------------------------+----------+ | Debian GNU/Linux 12 | PASS | +-------------------------------+----------+ | Fedora Linux 41 | PASS | +-------------------------------+----------+ | Red Hat Enterprise Linux 8.10 | PASS | +-------------------------------+----------+ | Red Hat Enterprise Linux 9.5 | PASS | +-------------------------------+----------+ | openSUSE Leap 15.6 | PASS | +-------------------------------+----------+ | Ubuntu 22.04 | PASS | +-------------------------------+----------+ | Ubuntu 24.04 | PASS | +-------------------------------+----------+ CentOS Stream 9 Kernel: 5.15 Compiler: gcc gcc (GCC) 11.5.0 20240719 (Red Hat 11.5.0-7) CentOS Stream 10 Kernel: 5.15 Compiler: gcc gcc (GCC) 14.2.1 20250110 (Red Hat 14.2.1-8) Fedora Linux 40 Kernel: 5.15 Compiler: clang gcc (GCC) 14.2.1 20240912 (Red Hat 14.2.1-3) Debian GNU/Linux 12 Kernel: 5.15 Compiler: gcc gcc (Debian 12.2.0-14+deb12u1) 12.2.0 Fedora Linux 41 Kernel: 5.15 Compiler: clang gcc (GCC) 14.3.1 20250523 (Red Hat 14.3.1-1) Red Hat Enterprise Linux 8.10 Kernel: 5.15 Compiler: gcc gcc (GCC) 8.5.0 20210514 (Red Hat 8.5.0-22) Red Hat Enterprise Linux 9.5 Kernel: 5.15 Compiler: gcc gcc (GCC) 11.5.0 20240719 (Red Hat 11.5.0-2) openSUSE Leap 15.6 Kernel: 5.15 Compiler: gcc gcc (SUSE Linux) 7.5.0 Ubuntu 22.04 Kernel: 5.15 Compiler: gcc gcc (Ubuntu 11.4.0-1ubuntu1~22.04) 11.4.0 Ubuntu 24.04 Kernel: 5.15 Compiler: gcc gcc (Ubuntu 13.3.0-6ubuntu2~24.04) 13.3.0 To view detailed results, visit: https://lab.dpdk.org/results/dashboard/patchsets/33628/ UNH-IOL DPDK Community Lab To manage your email subscriptions, visit: https://lab.dpdk.org/results/dashboard/preferences/subscriptions/