From mboxrd@z Thu Jan 1 00:00:00 1970 Return-Path: Received: from mails.dpdk.org (mails.dpdk.org [217.70.189.124]) by inbox.dpdk.org (Postfix) with ESMTP id 34B0646B33 for ; Wed, 9 Jul 2025 22:13:00 +0200 (CEST) Received: from mails.dpdk.org (localhost [127.0.0.1]) by mails.dpdk.org (Postfix) with ESMTP id 30C374029E; Wed, 9 Jul 2025 22:13:00 +0200 (CEST) Received: from mail-yw1-f228.google.com (mail-yw1-f228.google.com [209.85.128.228]) by mails.dpdk.org (Postfix) with ESMTP id B5A0C4029E for ; Wed, 9 Jul 2025 22:12:58 +0200 (CEST) Received: by mail-yw1-f228.google.com with SMTP id 00721157ae682-714066c7bbbso3595627b3.3 for ; Wed, 09 Jul 2025 13:12:58 -0700 (PDT) DKIM-Signature: v=1; a=rsa-sha256; c=relaxed/relaxed; d=iol.unh.edu; s=unh-iol; t=1752091978; x=1752696778; darn=dpdk.org; h=references:in-reply-to:cc:to:from:subject:message-id:date:from:to :cc:subject:date:message-id:reply-to; bh=TwGicjDDqknSDAI5h99GUpHIRu//gWUKtZIXsNLZkYU=; b=BOf3ucGc8pXCyLcKNBeyteRVt472FgIJnOTIhXIcIDb/h/SqeLxm6rFqmtkV5mjW5q i9VQgtKpgZYdepw5kjE3F+cFfG8DEtaCjtKe0Mx8gCZ5/66ZkNEpnDT70Zea9LN8R0PG re6Y7SxSfwDc1kWG4YQ28/Z3hL7ViFIa6Tmk0= X-Google-DKIM-Signature: v=1; a=rsa-sha256; c=relaxed/relaxed; d=1e100.net; s=20230601; t=1752091978; x=1752696778; h=references:in-reply-to:cc:to:from:subject:message-id:date :x-gm-message-state:from:to:cc:subject:date:message-id:reply-to; bh=TwGicjDDqknSDAI5h99GUpHIRu//gWUKtZIXsNLZkYU=; b=RkjCBtZPUJWYZsq0N5cDncczmUkNeqbcnH97ejubO6pQuLgz/Gp/RgPN/1l2QDYCtp W9AoTqKGn/dI8O7iYf6ddBOI/mPP+qCp1rEy5+n8W66gJeUUIDv8vB+aN/R6RvxHKp5J +4pVs9NLDm3ensFIC/186EQd5IldzMgEnHfoGlYfVl8HkFeOwxD+dnydrm2W7Tz7yg+z Ye2nodwWszaXTMHDCEKA2pS/8UG0ePmmmfGsfCLRwwQS/cBEMz9GK2PWUAKpbH5T+YvH eCjZHEFyM5BOsVdHZr6Ek3NNWsdQt+nlojV8qdhomOSknAPRvz8vToFOzyeV9VGbU/aQ hcxw== X-Gm-Message-State: AOJu0YzWsdDm5/pyQahM5QVy3aTtmexjPTkeIAFJy13PWyNdzbUv4AhK IgfkCfO+PcQcVDnpRbVdQ4pLezAiuQecdHhGj+sSVP3hD0qHByL7x8ypgAe0nNtH48WQ90SrXjf teGtKCY9Kt4sbbeau8rZW0nYIfUUdrrR58CUVxYMFBst5ePC0E2N1muEIrPeR X-Gm-Gg: ASbGncsF8EWAMIhgKtrSLTC0PIm1CZg1AGdp1QFwGHtRArzs9RwcJeqwrC6GKul1ahX ic5ZYeErfYO8e4jNRjH2uueAt/53JNUtxKTsxXm86sZxUst+oUf9J8XSawuKQa2KBHk2ZgBDI6X 9undjazETiVotqJyfkXv2J+aZqho9QDy5BNGL7LcFPdQvI5NNMupfakjIClHa6PwAXZNdPRJexV xTW3Rp4TyQxk8iHtPVUyDM9X6Zq+euHrGbs9ve7+YBkuiicBRdBtaT9KDcWDUnYRAwCVMtPX2nZ tu2aCJekSDOCcaIpwSXB58WA8+RcZqJQoCptoujT+dwBIQY= X-Google-Smtp-Source: AGHT+IHK5GMpQZ3X89xQX1IpdNjIllnz5UMtPER/41Wx7qcfqDfNzex40ZF7Umo2QftgObP3lvj3qJBBncsT X-Received: by 2002:a05:690c:6a10:b0:70f:83ef:ddf7 with SMTP id 00721157ae682-717c163378fmr14753097b3.13.1752091977975; Wed, 09 Jul 2025 13:12:57 -0700 (PDT) Received: from postal.iol.unh.edu (postal.iol.unh.edu. [2606:4100:3880:1234::84]) by smtp-relay.gmail.com with ESMTPS id 00721157ae682-716659cf6e8sm3629877b3.16.2025.07.09.13.12.57 (version=TLS1_2 cipher=ECDHE-ECDSA-AES128-GCM-SHA256 bits=128/128); Wed, 09 Jul 2025 13:12:57 -0700 (PDT) X-Relaying-Domain: iol.unh.edu Date: Wed, 09 Jul 2025 13:12:57 -0700 (PDT) Message-ID: <686ecd49.050a0220.40bed.3a45SMTPIN_ADDED_MISSING@mx.google.com> Received: from [172.21.0.5] (unknown [172.18.0.240]) by postal.iol.unh.edu (Postfix) with ESMTP id 9FB3E604D420; Wed, 9 Jul 2025 16:12:57 -0400 (EDT) Subject: |SUCCESS| pw155109 [PATCH] [v2] test_bbdev: enable to be compiled on From: dpdklab@iol.unh.edu To: Test Report Cc: dpdk-test-reports@iol.unh.edu In-Reply-To: <1752074012-14869-1-git-send-email-andremue@linux.microsoft.com> References: <1752074012-14869-1-git-send-email-andremue@linux.microsoft.com> Content-Type: text/plain X-BeenThere: test-report@dpdk.org X-Mailman-Version: 2.1.29 Precedence: list List-Id: automatic DPDK test reports List-Unsubscribe: , List-Archive: List-Post: List-Help: List-Subscribe: , Errors-To: test-report-bounces@dpdk.org Test-Label: iol-abi-testing Test-Status: SUCCESS http://dpdk.org/patch/155109 _Testing PASS_ Submitter: Andre Muezerie Date: Wednesday, July 09 2025 15:13:32 DPDK git baseline: Repo:dpdk Branch: master CommitID:19154c548d15cfa4928fcfb208b381d377039519 155109 --> testing pass Upstream job id: Generic-DPDK-Compile-ABI#133851 Test environment and result as below: +-------------------------------+----------+ | Environment | abi_test | +===============================+==========+ | CentOS Stream 9 | PASS | +-------------------------------+----------+ | CentOS Stream 10 | PASS | +-------------------------------+----------+ | Fedora Linux 40 | PASS | +-------------------------------+----------+ | Debian GNU/Linux 12 | PASS | +-------------------------------+----------+ | Fedora Linux 41 | PASS | +-------------------------------+----------+ | Red Hat Enterprise Linux 8.10 | PASS | +-------------------------------+----------+ | Red Hat Enterprise Linux 9.5 | PASS | +-------------------------------+----------+ | openSUSE Leap 15.6 | PASS | +-------------------------------+----------+ | Ubuntu 22.04 | PASS | +-------------------------------+----------+ | Ubuntu 24.04 | PASS | +-------------------------------+----------+ CentOS Stream 9 Kernel: 5.15 Compiler: gcc gcc (GCC) 11.5.0 20240719 (Red Hat 11.5.0-7) CentOS Stream 10 Kernel: 5.15 Compiler: gcc gcc (GCC) 14.2.1 20250110 (Red Hat 14.2.1-8) Fedora Linux 40 Kernel: 5.15 Compiler: clang gcc (GCC) 14.2.1 20240912 (Red Hat 14.2.1-3) Debian GNU/Linux 12 Kernel: 5.15 Compiler: gcc gcc (Debian 12.2.0-14+deb12u1) 12.2.0 Fedora Linux 41 Kernel: 5.15 Compiler: clang gcc (GCC) 14.3.1 20250523 (Red Hat 14.3.1-1) Red Hat Enterprise Linux 8.10 Kernel: 5.15 Compiler: gcc gcc (GCC) 8.5.0 20210514 (Red Hat 8.5.0-22) Red Hat Enterprise Linux 9.5 Kernel: 5.15 Compiler: gcc gcc (GCC) 11.5.0 20240719 (Red Hat 11.5.0-2) openSUSE Leap 15.6 Kernel: 5.15 Compiler: gcc gcc (SUSE Linux) 7.5.0 Ubuntu 22.04 Kernel: 5.15 Compiler: gcc gcc (Ubuntu 11.4.0-1ubuntu1~22.04) 11.4.0 Ubuntu 24.04 Kernel: 5.15 Compiler: gcc gcc (Ubuntu 13.3.0-6ubuntu2~24.04) 13.3.0 To view detailed results, visit: https://lab.dpdk.org/results/dashboard/patchsets/33628/ UNH-IOL DPDK Community Lab To manage your email subscriptions, visit: https://lab.dpdk.org/results/dashboard/preferences/subscriptions/