From mboxrd@z Thu Jan 1 00:00:00 1970 Return-Path: Received: from mails.dpdk.org (mails.dpdk.org [217.70.189.124]) by inbox.dpdk.org (Postfix) with ESMTP id 1937B46A6D for ; Wed, 9 Jul 2025 22:22:07 +0200 (CEST) Received: from mails.dpdk.org (localhost [127.0.0.1]) by mails.dpdk.org (Postfix) with ESMTP id E84274029E; Wed, 9 Jul 2025 22:22:06 +0200 (CEST) Received: from mail-pf1-f226.google.com (mail-pf1-f226.google.com [209.85.210.226]) by mails.dpdk.org (Postfix) with ESMTP id 628844029E for ; Wed, 9 Jul 2025 22:22:05 +0200 (CEST) Received: by mail-pf1-f226.google.com with SMTP id d2e1a72fcca58-7399a2dc13fso318526b3a.2 for ; Wed, 09 Jul 2025 13:22:05 -0700 (PDT) DKIM-Signature: v=1; a=rsa-sha256; c=relaxed/relaxed; d=iol.unh.edu; s=unh-iol; t=1752092524; x=1752697324; darn=dpdk.org; h=references:in-reply-to:cc:to:from:subject:message-id:date:from:to :cc:subject:date:message-id:reply-to; bh=mvijN0CNXDlj13HsSAjbBAcm73+U5zGiOPRO40YS6NE=; b=F9Grb6TkiABHoTDtty8e7o59E5nXPdsK/tDoc4l755UdU7IrM5EwkjOKlf1NIRJEYO zbLkL0FDxKd+tmOm2TLK473CHH+G9h7xBZcDHukyQg5idYBDZs7CsHZNpX1N7IvrQcx+ VhjwRPIBqvc/kstmVTG4FdtvT4JrfNIcY5ApY= X-Google-DKIM-Signature: v=1; a=rsa-sha256; c=relaxed/relaxed; d=1e100.net; s=20230601; t=1752092524; x=1752697324; h=references:in-reply-to:cc:to:from:subject:message-id:date :x-gm-message-state:from:to:cc:subject:date:message-id:reply-to; bh=mvijN0CNXDlj13HsSAjbBAcm73+U5zGiOPRO40YS6NE=; b=hRR6ruh2Fje+AQh/ZXSrwy8LF41yVvz3zMyi+oG6FQUXRHdiceKW+yQd94HL48c1/J iffKhJ+lYoGKlwgl8zWBA2RZnnJkiqAOswgrvroDAsKBY9XV6YhLR3/Wa6VDkgIOwMI8 KWreoHBrUfKbkj0v5AZuvCrwjiKQRxlU03uJtZ2q8T2r5Zi0DUyTS89eaueO5LgCLtlR RR7367veR5wj2cQpDlPshioNDP1Vl4B63bGlXdrLKQGVjNFK+YI0dIbURJUmfqZhsu6p hBV2U59LdT5mImzlQMOW9H++51gdEBQ5cZPBxuu0iYsX+YseIT1QV6XfhWoh/bM7DSs6 UdKg== X-Gm-Message-State: AOJu0YwKzY5dgavWEauGjOttuIKuRv4W8Wk2LXuMHvINNIIyvCaQ89VZ JEgowzc1s8ljMKrKXMgI4J6+ildSQznzo2tSaRjadZrRCIA/A57c/+OxKdygXM6PuFULx7yh+dN mJbae7OM9j6N3PFjhEXenSYJrddlioeDWs89ELEACf14s5Kxr3+TQQcl7XIfD X-Gm-Gg: ASbGncsdtvdBq1uWk8bcs6t/nNdhgT1JimSbtVt6JnQymH9Af9xH0Dh7lPP/O3E4uYe 7wv7KjCvFgcC6q2wp7EgPQ6XkrHiUp8wRFT4rLv3gtnQqR5J8dl7yagSMTR98lV2AxHKyUg/gpr ofEgptgucjC5IH+9AcHDM3PHhZIIiAp26WP9hQcXrgKyuW29N4NuHLwLUJhoOkHKrTlvLy+/lYj 1xyX8LMobkbmGqaMRk7nWNG6cfdNNnHAGNz9HkTTo3oVLy6iySu/CT4g8oYxFz9/DoArpamIYCw ls8hjdjnMuG3FKrt5Lag3znDQTyCNeqw4iiIGF3gPybQTto= X-Google-Smtp-Source: AGHT+IH9LEaP9udAvn7WAEN0n8EmvmMRKo7t05+tX0i5rMZs15t99OIIdfZOyvqNIlyASCLZemjdU5LdVr13 X-Received: by 2002:a05:6a20:430f:b0:220:19b7:9d6b with SMTP id adf61e73a8af0-22fb84d960dmr1629162637.9.1752092524420; Wed, 09 Jul 2025 13:22:04 -0700 (PDT) Received: from postal.iol.unh.edu (postal.iol.unh.edu. [2606:4100:3880:1234::84]) by smtp-relay.gmail.com with ESMTPS id d2e1a72fcca58-74ce350d820sm724705b3a.8.2025.07.09.13.22.04 (version=TLS1_2 cipher=ECDHE-ECDSA-AES128-GCM-SHA256 bits=128/128); Wed, 09 Jul 2025 13:22:04 -0700 (PDT) X-Relaying-Domain: iol.unh.edu Date: Wed, 09 Jul 2025 13:22:04 -0700 (PDT) Message-ID: <686ecf6c.050a0220.a1231.57dbSMTPIN_ADDED_MISSING@mx.google.com> Received: from [172.21.0.5] (unknown [172.18.0.240]) by postal.iol.unh.edu (Postfix) with ESMTP id 62D1A604D420; Wed, 9 Jul 2025 16:22:03 -0400 (EDT) Subject: |WARNING| pw155088-155089 [PATCH] [v5,2/2] crypto/uadk: use async mo From: dpdklab@iol.unh.edu To: Test Report Cc: dpdk-test-reports@iol.unh.edu In-Reply-To: <20250709064701.100676-3-zhangfei.gao@linaro.org> References: <20250709064701.100676-3-zhangfei.gao@linaro.org> Content-Type: text/plain X-BeenThere: test-report@dpdk.org X-Mailman-Version: 2.1.29 Precedence: list List-Id: automatic DPDK test reports List-Unsubscribe: , List-Archive: List-Post: List-Help: List-Subscribe: , Errors-To: test-report-bounces@dpdk.org Test-Label: iol-compile-amd64-testing Test-Status: WARNING http://dpdk.org/patch/155089 _Testing issues_ Submitter: Zhangfei Gao Date: Wednesday, July 09 2025 06:47:01 DPDK git baseline: Repo:dpdk Branch: master CommitID:2f4f0dc5f678fcf62cf046fa69821c0b8786deb4 155088-155089 --> testing issues Upstream job id: Windows-Compile-DPDK-Native#29687 Test environment and result as below: +-------------------------------+--------------------+-------------------+-------------------+------------------+-------------------------+----------------------+ | Environment | dpdk_meson_compile | dpdk_compile_spdk | dpdk_msvc_compile | dpdk_compile_ovs | dpdk_llvm_clang_compile | dpdk_mingw64_compile | +===============================+====================+===================+===================+==================+=========================+======================+ | Ubuntu 20.04 | PASS | SKIPPED | SKIPPED | SKIPPED | SKIPPED | SKIPPED | +-------------------------------+--------------------+-------------------+-------------------+------------------+-------------------------+----------------------+ | FreeBSD 14.2 | PASS | SKIPPED | SKIPPED | SKIPPED | SKIPPED | SKIPPED | +-------------------------------+--------------------+-------------------+-------------------+------------------+-------------------------+----------------------+ | CentOS Stream 9 | PASS | PASS | SKIPPED | SKIPPED | SKIPPED | SKIPPED | +-------------------------------+--------------------+-------------------+-------------------+------------------+-------------------------+----------------------+ | CentOS Stream 10 | PASS | SKIPPED | SKIPPED | SKIPPED | SKIPPED | SKIPPED | +-------------------------------+--------------------+-------------------+-------------------+------------------+-------------------------+----------------------+ | Debian GNU/Linux 12 | PASS | PASS | SKIPPED | SKIPPED | SKIPPED | SKIPPED | +-------------------------------+--------------------+-------------------+-------------------+------------------+-------------------------+----------------------+ | Fedora Linux 40 | PASS | PASS | SKIPPED | SKIPPED | SKIPPED | SKIPPED | +-------------------------------+--------------------+-------------------+-------------------+------------------+-------------------------+----------------------+ | Fedora Linux 41 | PASS | PASS | SKIPPED | PASS | SKIPPED | SKIPPED | +-------------------------------+--------------------+-------------------+-------------------+------------------+-------------------------+----------------------+ | openSUSE Leap 15.6 | PASS | SKIPPED | SKIPPED | SKIPPED | SKIPPED | SKIPPED | +-------------------------------+--------------------+-------------------+-------------------+------------------+-------------------------+----------------------+ | Red Hat Enterprise Linux 8.10 | PASS | SKIPPED | SKIPPED | SKIPPED | SKIPPED | SKIPPED | +-------------------------------+--------------------+-------------------+-------------------+------------------+-------------------------+----------------------+ | Red Hat Enterprise Linux 9.5 | PASS | SKIPPED | SKIPPED | SKIPPED | SKIPPED | SKIPPED | +-------------------------------+--------------------+-------------------+-------------------+------------------+-------------------------+----------------------+ | Ubuntu 22.04 | PASS | PASS | SKIPPED | SKIPPED | SKIPPED | SKIPPED | +-------------------------------+--------------------+-------------------+-------------------+------------------+-------------------------+----------------------+ | Ubuntu 24.04 | PASS | PASS | SKIPPED | PASS | SKIPPED | SKIPPED | +-------------------------------+--------------------+-------------------+-------------------+------------------+-------------------------+----------------------+ | Alpine Linux 3.22.0 | PASS | SKIPPED | SKIPPED | SKIPPED | SKIPPED | SKIPPED | +-------------------------------+--------------------+-------------------+-------------------+------------------+-------------------------+----------------------+ | Windows Server 2022 | SKIPPED | SKIPPED | PASS | SKIPPED | PASS | PASS | +-------------------------------+--------------------+-------------------+-------------------+------------------+-------------------------+----------------------+ Ubuntu 20.04 Kernel: 4.19 Compiler: gcc gcc (Ubuntu 9.4.0-1ubuntu1~20.04.2) 9.4.0 FreeBSD 14.2 Kernel: 14.2-RELEASE Compiler: clang 18.1.6 CentOS Stream 9 Kernel: 5.15 Compiler: gcc gcc (GCC) 11.5.0 20240719 (Red Hat 11.5.0-7) CentOS Stream 10 Kernel: 5.15 Compiler: gcc gcc (GCC) 14.2.1 20250110 (Red Hat 14.2.1-8) Debian GNU/Linux 12 Kernel: 5.15 Compiler: gcc gcc (Debian 12.2.0-14+deb12u1) 12.2.0 Fedora Linux 40 Kernel: 5.15 Compiler: clang gcc (GCC) 14.2.1 20240912 (Red Hat 14.2.1-3) Fedora Linux 41 Kernel: 5.15 Compiler: clang gcc (GCC) 14.3.1 20250523 (Red Hat 14.3.1-1) openSUSE Leap 15.6 Kernel: 5.15 Compiler: gcc gcc (SUSE Linux) 7.5.0 Red Hat Enterprise Linux 8.10 Kernel: 5.15 Compiler: gcc gcc (GCC) 8.5.0 20210514 (Red Hat 8.5.0-22) Red Hat Enterprise Linux 9.5 Kernel: 5.15 Compiler: gcc gcc (GCC) 11.5.0 20240719 (Red Hat 11.5.0-2) Ubuntu 22.04 Kernel: 5.15 Compiler: gcc gcc (Ubuntu 11.4.0-1ubuntu1~22.04) 11.4.0 Ubuntu 24.04 Kernel: 5.15 Compiler: gcc gcc (Ubuntu 13.3.0-6ubuntu2~24.04) 13.3.0 Alpine Linux 3.22.0 Kernel: 5.15 Compiler: gcc gcc (Alpine 14.2.0) 14.2.0 Windows Server 2022 Kernel: 10.0.20348.2031 Compiler: clang 15.0.7, gcc 14.1.0 (MinGW), and MSVC VS 19.39.33521 To view detailed results, visit: https://lab.dpdk.org/results/dashboard/patchsets/33621/ UNH-IOL DPDK Community Lab To manage your email subscriptions, visit: https://lab.dpdk.org/results/dashboard/preferences/subscriptions/