From mboxrd@z Thu Jan 1 00:00:00 1970 Return-Path: Received: from mails.dpdk.org (mails.dpdk.org [217.70.189.124]) by inbox.dpdk.org (Postfix) with ESMTP id 4503246A6D for ; Wed, 9 Jul 2025 22:24:28 +0200 (CEST) Received: from mails.dpdk.org (localhost [127.0.0.1]) by mails.dpdk.org (Postfix) with ESMTP id 311FF4029E; Wed, 9 Jul 2025 22:24:28 +0200 (CEST) Received: from mail-il1-f225.google.com (mail-il1-f225.google.com [209.85.166.225]) by mails.dpdk.org (Postfix) with ESMTP id 7090F4029E for ; Wed, 9 Jul 2025 22:24:26 +0200 (CEST) Received: by mail-il1-f225.google.com with SMTP id e9e14a558f8ab-3df3ce3ec91so1028405ab.2 for ; Wed, 09 Jul 2025 13:24:26 -0700 (PDT) DKIM-Signature: v=1; a=rsa-sha256; c=relaxed/relaxed; d=iol.unh.edu; s=unh-iol; t=1752092666; x=1752697466; darn=dpdk.org; h=references:in-reply-to:cc:to:from:subject:message-id:date:from:to :cc:subject:date:message-id:reply-to; bh=U+Oc9HJXTBGq3sMEoEoNgW5DEJrItJ3WCYvhh+8Irm4=; b=ciVPl+uWWrHL3kwVQV6MHEP4koKDuzVNZGKotzp4qmeRWyAoPJ0Zr1nbLhlbsrmClz YaLrpl3ZCzOtPpBMbcNrWOIfZJTE6rz0qPBX9fSRBt8rWCGanIaFByATjSmzt7HIuMxR j7neic/pjrXkVs6aRZtM6IWzijVatEXNGPvQk= X-Google-DKIM-Signature: v=1; a=rsa-sha256; c=relaxed/relaxed; d=1e100.net; s=20230601; t=1752092666; x=1752697466; h=references:in-reply-to:cc:to:from:subject:message-id:date :x-gm-message-state:from:to:cc:subject:date:message-id:reply-to; bh=U+Oc9HJXTBGq3sMEoEoNgW5DEJrItJ3WCYvhh+8Irm4=; b=j4CbX0D/OfHlYG2fMMWf5lFzMRbN5z00wv0U38ULoXcTmv+JH7Xm5LL+RWCyC57o8+ d+wVJXELtfn2JE3migUkN4eH+w8JiTtPAmRdjX8FgbAq6GGD9kDKM8Jk5i0y3WLIrs5S bqka8Y1ARrvUApwWSSwdW4xxGZsMKO+JPmXUInXxpm5bchGUjmoWRVxlR8VvY/XeWqV9 fDsoYTwPLbPODOC1uUuubfVMvKOmhx5tGLXt9VF+1U++QU7uju/sHf7RSaoZ0su4DsAy J0NxTY1V2S13lW0ZyYtxPd5vFQAMby8yLWIIIyZVTDJbyElhuWrDqt+cf9XNmaYh20OK Bn1w== X-Gm-Message-State: AOJu0YxynlE1vT4BEV94iUN3WVdxA84vlpP0fDmSzbD0CZe9vbFSzNNE Gx22NiHFwMtqEc8OmwlXO5W4wVIQ3IqLO9x8XDgoB9h9rJK+4vVmNBflc7WsD/dNO8UhgeFNkUY boQ8Q28Tn13dT5i9jCloCccvwO+NSwK4btARFR+O10rEw X-Gm-Gg: ASbGncuJs4CcCxJ/HQPGJjDpzrsIIQaiie/us+OwhzOy1Z4WvTQHddQJ3Csx6B9d8Ob edKz97Mnu5oZMOjDFrRm40dJip2LlU09IoUD0Z1m2fKoX/nmUneqoHY3vVh8HisCTlJ5YW+6Huv 7EsbsKrFMt2RTt1UFUdhCpBSDmn4nT8qhC0ipmJf0KK+iVVnSyeGfouA5MEjFyAGjFoyfzLo3wy 7Fv/Go5apcM3+wQNsnMaULRvp9oFoBQyatg6QsM+v2qEvI9Dydg1dQ+BvGIhq6vBmXi88TQZCCu 9sGFrsTHyctJ9eE9NkVx0fPW0L0JoHnbfeLJk+WUy99NrEb1zeB5NTr4WMP30q53bVDevw== X-Google-Smtp-Source: AGHT+IEI6iPfPLfW1p8k1GZJH1/6q5WYTNjiDSIbCyPDlwgEhEnlNT77i+2d5B4wLvy3iAAU0z+sfqfqvnPV X-Received: by 2002:a05:6e02:1647:b0:3df:306f:3b25 with SMTP id e9e14a558f8ab-3e2461d3e0emr403185ab.16.1752092665677; Wed, 09 Jul 2025 13:24:25 -0700 (PDT) Received: from postal.iol.unh.edu (postal.iol.unh.edu. [132.177.123.84]) by smtp-relay.gmail.com with ESMTPS id 8926c6da1cb9f-503b5be54c5sm486759173.70.2025.07.09.13.24.25 (version=TLS1_2 cipher=ECDHE-ECDSA-AES128-GCM-SHA256 bits=128/128); Wed, 09 Jul 2025 13:24:25 -0700 (PDT) X-Relaying-Domain: iol.unh.edu Date: Wed, 09 Jul 2025 13:24:25 -0700 (PDT) Message-ID: <686ecff9.050a0220.2c5938.9c9fSMTPIN_ADDED_MISSING@mx.google.com> Received: from [172.21.0.7] (unknown [172.18.0.240]) by postal.iol.unh.edu (Postfix) with ESMTP id EA07E604D420; Wed, 9 Jul 2025 16:24:24 -0400 (EDT) Subject: |SUCCESS| pw155079-155083 [PATCH] [RFC,v2,5/5] eal: simplify handlin From: dpdklab@iol.unh.edu To: Test Report Cc: dpdk-test-reports@iol.unh.edu In-Reply-To: <20250708172039.183989-6-bruce.richardson@intel.com> References: <20250708172039.183989-6-bruce.richardson@intel.com> Content-Type: text/plain X-BeenThere: test-report@dpdk.org X-Mailman-Version: 2.1.29 Precedence: list List-Id: automatic DPDK test reports List-Unsubscribe: , List-Archive: List-Post: List-Help: List-Subscribe: , Errors-To: test-report-bounces@dpdk.org Test-Label: iol-unit-amd64-testing Test-Status: SUCCESS http://dpdk.org/patch/155083 _Testing PASS_ Submitter: Bruce Richardson Date: Tuesday, July 08 2025 17:20:39 DPDK git baseline: Repo:dpdk Branch: master CommitID:e90979eebbea093f6bab2d7c222fc5f5c9a85eff 155079-155083 --> testing pass Upstream job id: Generic-VM-Unit-Test-DPDK#29833 Test environment and result as below: +-------------------------------+----------------+ | Environment | dpdk_unit_test | +===============================+================+ | Fedora Linux 41 | PASS | +-------------------------------+----------------+ | Fedora Linux 40 | PASS | +-------------------------------+----------------+ | Ubuntu 24.04 | PASS | +-------------------------------+----------------+ | CentOS Stream 10 | PASS | +-------------------------------+----------------+ | CentOS Stream 9 | PASS | +-------------------------------+----------------+ | Red Hat Enterprise Linux 8.10 | PASS | +-------------------------------+----------------+ | Debian GNU/Linux 12 | PASS | +-------------------------------+----------------+ | Ubuntu 20.04 | PASS | +-------------------------------+----------------+ | Ubuntu 22.04 | PASS | +-------------------------------+----------------+ | Red Hat Enterprise Linux 9.5 | PASS | +-------------------------------+----------------+ | Windows Server 2022 | PASS | +-------------------------------+----------------+ Fedora Linux 41 Kernel: 5.15 Compiler: gcc gcc (GCC) 14.3.1 20250523 (Red Hat 14.3.1-1) Fedora Linux 40 Kernel: 5.15 Compiler: gcc gcc (GCC) 14.2.1 20240912 (Red Hat 14.2.1-3) Ubuntu 24.04 Kernel: 5.15 Compiler: gcc gcc (Ubuntu 13.3.0-6ubuntu2~24.04) 13.3.0 CentOS Stream 10 Kernel: 5.15 Compiler: gcc gcc (GCC) 14.2.1 20250110 (Red Hat 14.2.1-8) CentOS Stream 9 Kernel: 5.15 Compiler: gcc gcc (GCC) 11.5.0 20240719 (Red Hat 11.5.0-7) Red Hat Enterprise Linux 8.10 Kernel: 5.15 Compiler: gcc gcc (GCC) 8.5.0 20210514 (Red Hat 8.5.0-22) Debian GNU/Linux 12 Kernel: 5.15 Compiler: gcc gcc (Debian 12.2.0-14+deb12u1) 12.2.0 Ubuntu 20.04 Kernel: 5.15 Compiler: gcc gcc (Ubuntu 9.4.0-1ubuntu1~20.04.2) 9.4.0 Ubuntu 22.04 Kernel: 5.15 Compiler: gcc gcc (Ubuntu 11.4.0-1ubuntu1~22.04) 11.4.0 Red Hat Enterprise Linux 9.5 Kernel: 5.15 Compiler: gcc gcc (GCC) 11.5.0 20240719 (Red Hat 11.5.0-2) Windows Server 2022 Kernel: 10.0.20348.2031 Compiler: clang 15.0.7, gcc 14.1.0 (MinGW), and MSVC VS 19.39.33521 To view detailed results, visit: https://lab.dpdk.org/results/dashboard/patchsets/33616/ UNH-IOL DPDK Community Lab To manage your email subscriptions, visit: https://lab.dpdk.org/results/dashboard/preferences/subscriptions/