From mboxrd@z Thu Jan 1 00:00:00 1970 Return-Path: Received: from mails.dpdk.org (mails.dpdk.org [217.70.189.124]) by inbox.dpdk.org (Postfix) with ESMTP id 3A12746A6D for ; Wed, 9 Jul 2025 22:34:51 +0200 (CEST) Received: from mails.dpdk.org (localhost [127.0.0.1]) by mails.dpdk.org (Postfix) with ESMTP id 1D4444029E; Wed, 9 Jul 2025 22:34:51 +0200 (CEST) Received: from mail-il1-f228.google.com (mail-il1-f228.google.com [209.85.166.228]) by mails.dpdk.org (Postfix) with ESMTP id 27A144029E for ; Wed, 9 Jul 2025 22:34:50 +0200 (CEST) Received: by mail-il1-f228.google.com with SMTP id e9e14a558f8ab-3ddb4a7ac19so1211595ab.3 for ; Wed, 09 Jul 2025 13:34:50 -0700 (PDT) DKIM-Signature: v=1; a=rsa-sha256; c=relaxed/relaxed; d=iol.unh.edu; s=unh-iol; t=1752093289; x=1752698089; darn=dpdk.org; h=references:in-reply-to:cc:to:from:subject:message-id:date:from:to :cc:subject:date:message-id:reply-to; bh=GyLCLgsQABYPRFcTaLEPv3Wl0xTfzkfLKHdfmLA1UGA=; b=GAOGCOMx/JfSxqUO1dvoUHpFtKdk2ripr0i3HCMQXHawSQZn86HhWh0rhA+EWI+TFi w4oCxnHD2vo5IEpia7sDLHUPef++UxFrxHbXSDD98e6a+66mDXrWDpOnsf+uJgthJTPV uVpqZQMAj857q6CQISlmkDqqmvcU+mzqd6hxM= X-Google-DKIM-Signature: v=1; a=rsa-sha256; c=relaxed/relaxed; d=1e100.net; s=20230601; t=1752093289; x=1752698089; h=references:in-reply-to:cc:to:from:subject:message-id:date :x-gm-message-state:from:to:cc:subject:date:message-id:reply-to; bh=GyLCLgsQABYPRFcTaLEPv3Wl0xTfzkfLKHdfmLA1UGA=; b=G1DavLZC1MeFySBreZ1Pd3vu2YQedsV8vzDN4O56KeYw+e1EofQaDDXy7Kp1fNQSG6 swhktaTHbmLk6HvPgXcAPZZLax+VMyY0zi4udupqkCDQ9Kzs8pdKueooZRNijtgd3Pjh n0oK9Za3Q2U1Ky3DMdAUIC1DHbRD97Wqe/4C0PpenhttXggcfqfu8L8aupEYKM8vdtuD 2OxRr1HgDd2KDqZKSAMltVtbT1AwC/R6OMDlGbx3sTZCVqpP8YknMavLXFhI2jddojH/ /j3COBea2G45tDNUpXAzQRWcp/he7wjrfgXV9cDIJSby4JwQYxL8ImVql+GSb4z3mQOn B3Yw== X-Gm-Message-State: AOJu0YyDDtpyKIcN9ZGwlKtcLCk+2bJxlnJ/RGgxoWFGbfAuGZcwTEw1 1w+zvf8mkO/FtQLNU+awSOp5wENQqtexj7KMMdFYTpR+Lz4cMsDAA035OT5Ihf64OSZdA7no3QL NCTERdJKDv/u7BfON54mdvTHbMmtCqC6DBUNulzS33o7W X-Gm-Gg: ASbGncsh7sajyfjKFMi1YFTbjUYXaUeBi2XZCvni1wJg3lLS2SHXtlcH2cvg1snXSMz 1ReaErtwWW+HN55vuTMIzyy0uwyYoXHeEEdO9X0/f9KSqFUKcrlExeqcdwpD971sT8lJWje4uak VcX7PGsRlSG7VhEm1u4jlDT682P7cIoLbXJ+plyl9U312U8VBIC59l3E3nR9Oc71thRxkBJKTnm mrthqpXZU46p3C1lMdmwgRv5wiEchUD4Wcz15aKlUSujdsg7A3GUty6O2IvMv+MwL4SMK2CzFYJ OQYKMz6fGvtrhNLGMNADljk5S0C1jVlIP4Zb73IXMDkMxjgwR77aKeIViQ/3JNiNRzncww== X-Google-Smtp-Source: AGHT+IEd9XMUrEJdNTOsGG3l4c/tRT3551HckFgq0AGc9P2Px8LIfemMpiJXPy0on106NMw5kC9nQ0R88zbV X-Received: by 2002:a05:6e02:338a:b0:3df:4048:4f43 with SMTP id e9e14a558f8ab-3e243ff368fmr15101385ab.11.1752093289398; Wed, 09 Jul 2025 13:34:49 -0700 (PDT) Received: from postal.iol.unh.edu (postal.iol.unh.edu. [132.177.123.84]) by smtp-relay.gmail.com with ESMTPS id e9e14a558f8ab-3e2461f8c00sm26965ab.33.2025.07.09.13.34.49 (version=TLS1_2 cipher=ECDHE-ECDSA-AES128-GCM-SHA256 bits=128/128); Wed, 09 Jul 2025 13:34:49 -0700 (PDT) X-Relaying-Domain: iol.unh.edu Date: Wed, 09 Jul 2025 13:34:49 -0700 (PDT) Message-ID: <686ed269.050a0220.20b0cc.0248SMTPIN_ADDED_MISSING@mx.google.com> Received: from [172.21.0.6] (unknown [172.18.0.240]) by postal.iol.unh.edu (Postfix) with ESMTP id 02254604D420; Wed, 9 Jul 2025 16:34:48 -0400 (EDT) Subject: |SUCCESS| pw155109 [PATCH] [v2] test_bbdev: enable to be compiled on From: dpdklab@iol.unh.edu To: Test Report Cc: dpdk-test-reports@iol.unh.edu In-Reply-To: <1752074012-14869-1-git-send-email-andremue@linux.microsoft.com> References: <1752074012-14869-1-git-send-email-andremue@linux.microsoft.com> Content-Type: text/plain X-BeenThere: test-report@dpdk.org X-Mailman-Version: 2.1.29 Precedence: list List-Id: automatic DPDK test reports List-Unsubscribe: , List-Archive: List-Post: List-Help: List-Subscribe: , Errors-To: test-report-bounces@dpdk.org Test-Label: iol-unit-arm64-testing Test-Status: SUCCESS http://dpdk.org/patch/155109 _Testing PASS_ Submitter: Andre Muezerie Date: Wednesday, July 09 2025 15:13:32 DPDK git baseline: Repo:dpdk Branch: master CommitID:19154c548d15cfa4928fcfb208b381d377039519 155109 --> testing pass Upstream job id: Generic-Unit-Test-DPDK#354316 Test environment and result as below: +------------------------------+----------------+--------------+------------------------------+---------------------------+ | Environment | dpdk_unit_test | lpm_autotest | cryptodev_sw_snow3g_autotest | cryptodev_sw_zuc_autotest | +==============================+================+==============+==============================+===========================+ | CentOS Stream 9 | PASS | SKIPPED | SKIPPED | SKIPPED | +------------------------------+----------------+--------------+------------------------------+---------------------------+ | Debian GNU/Linux 12 | PASS | SKIPPED | SKIPPED | SKIPPED | +------------------------------+----------------+--------------+------------------------------+---------------------------+ | CentOS Stream 10 | PASS | SKIPPED | SKIPPED | SKIPPED | +------------------------------+----------------+--------------+------------------------------+---------------------------+ | Fedora Linux 40 | PASS | SKIPPED | SKIPPED | SKIPPED | +------------------------------+----------------+--------------+------------------------------+---------------------------+ | Fedora Linux 41 | PASS | SKIPPED | SKIPPED | SKIPPED | +------------------------------+----------------+--------------+------------------------------+---------------------------+ | Ubuntu 20.04 | PASS | PASS | SKIPPED | SKIPPED | +------------------------------+----------------+--------------+------------------------------+---------------------------+ | Red Hat Enterprise Linux 9.5 | PASS | SKIPPED | SKIPPED | SKIPPED | +------------------------------+----------------+--------------+------------------------------+---------------------------+ | Ubuntu 22.04 | PASS | SKIPPED | SKIPPED | SKIPPED | +------------------------------+----------------+--------------+------------------------------+---------------------------+ | Ubuntu 24.04 | PASS | SKIPPED | SKIPPED | SKIPPED | +------------------------------+----------------+--------------+------------------------------+---------------------------+ | Debian 12 (arm) | SKIPPED | SKIPPED | PASS | PASS | +------------------------------+----------------+--------------+------------------------------+---------------------------+ CentOS Stream 9 Kernel: 5.4 Compiler: gcc gcc (GCC) 11.5.0 20240719 (Red Hat 11.5.0-7) Debian GNU/Linux 12 Kernel: 5.4 Compiler: gcc gcc (Debian 12.2.0-14+deb12u1) 12.2.0 CentOS Stream 10 Kernel: 5.4 Compiler: gcc gcc (GCC) 14.2.1 20250110 (Red Hat 14.2.1-8) Fedora Linux 40 Kernel: 5.4 Compiler: gcc gcc (GCC) 14.2.1 20240912 (Red Hat 14.2.1-3) Fedora Linux 41 Kernel: 5.4 Compiler: gcc gcc (GCC) 14.3.1 20250523 (Red Hat 14.3.1-1) Ubuntu 20.04 Kernel: 5.4 Compiler: gcc gcc (Ubuntu 9.4.0-1ubuntu1~20.04.2) 9.4.0 Red Hat Enterprise Linux 9.5 Kernel: 5.4 Compiler: gcc gcc (GCC) 11.5.0 20240719 (Red Hat 11.5.0-2) Ubuntu 22.04 Kernel: 5.4 Compiler: gcc gcc (Ubuntu 11.4.0-1ubuntu1~22.04) 11.4.0 Ubuntu 24.04 Kernel: 5.4 Compiler: gcc gcc (Ubuntu 13.3.0-6ubuntu2~24.04) 13.3.0 Debian 12 (arm) Kernel: Depends on container host Compiler: gcc (Debian 12.2.0-14) 12.2.0 To view detailed results, visit: https://lab.dpdk.org/results/dashboard/patchsets/33628/ UNH-IOL DPDK Community Lab To manage your email subscriptions, visit: https://lab.dpdk.org/results/dashboard/preferences/subscriptions/