From mboxrd@z Thu Jan 1 00:00:00 1970 Return-Path: Received: from mails.dpdk.org (mails.dpdk.org [217.70.189.124]) by inbox.dpdk.org (Postfix) with ESMTP id 517F346A6D for ; Wed, 9 Jul 2025 22:58:45 +0200 (CEST) Received: from mails.dpdk.org (localhost [127.0.0.1]) by mails.dpdk.org (Postfix) with ESMTP id 2E4844029E; Wed, 9 Jul 2025 22:58:45 +0200 (CEST) Received: from mail-il1-f226.google.com (mail-il1-f226.google.com [209.85.166.226]) by mails.dpdk.org (Postfix) with ESMTP id A15254029E for ; Wed, 9 Jul 2025 22:58:43 +0200 (CEST) Received: by mail-il1-f226.google.com with SMTP id e9e14a558f8ab-3ddb4a7ac19so1295525ab.3 for ; Wed, 09 Jul 2025 13:58:43 -0700 (PDT) DKIM-Signature: v=1; a=rsa-sha256; c=relaxed/relaxed; d=iol.unh.edu; s=unh-iol; t=1752094723; x=1752699523; darn=dpdk.org; h=references:in-reply-to:cc:to:from:subject:message-id:date:from:to :cc:subject:date:message-id:reply-to; bh=0fZJ8aWYHJT9gRAj5aKrGfyF3/htPt4Rosr5BFUjIMQ=; b=aIJ5fEn2lG/b6Q4Kypv7YhJejPY+5z8ydEHOqeMHJ9t0Z1KM3uQ72QAqMhp9nHGJiL 64m4q2xeNchc7390Bmtt232h7XYnsCmKu+XGat2RVd1nKDnW1vWrGFTyybISE+9uDMhc pWVKS93UmLe9VEumMF6OT3/27+EmaXWTJ+Lac= X-Google-DKIM-Signature: v=1; a=rsa-sha256; c=relaxed/relaxed; d=1e100.net; s=20230601; t=1752094723; x=1752699523; h=references:in-reply-to:cc:to:from:subject:message-id:date :x-gm-message-state:from:to:cc:subject:date:message-id:reply-to; bh=0fZJ8aWYHJT9gRAj5aKrGfyF3/htPt4Rosr5BFUjIMQ=; b=Ewl6frSJbrMOx+8E/bMEnbpNplLjyIkR6leRoUYPE7kbytqUtFqYp31DfhmjCh1Zw/ +DtKASa9PDHNFhUFytNHRvl6Eie/jGa1EiRujyq825UJmde0/LnF3lyb6w7poPyszQe3 zTHwclEM9eDpnI1ujVMYD/G7/xyMxrW8TfXtGt5zs4Pe8rxyZDPaJqfPuzhNJjw1UnyS 8rl+lytFm9EpF8qwS7oqlqTD9p7Bhh9SSjb7SOocDw2PfxDoIlHX4yVRScDH4ROju1fl wUgDpHMW2jAf/hx8Z/fMtNjdTOc6lwvziHNA7ycCIsDZ2MU09fceb0MKdb9NnqsaDGV5 jfzQ== X-Gm-Message-State: AOJu0YwVG12FtbqryY6EYeGBQGQDLuhkJwPXn/lOW63owLSpa/No22hg UcD0/YTKzcqvMXFx9OLoHn8d2dAdiIBtE32xA2o8AqusFl9Ql3jJ7H7F5CIQYsc62p0Mv3w8qqD bezAnXEVP3LTBQISq0jBjoefyTKeKeYzDAyQE7OOpDJAL X-Gm-Gg: ASbGncu7OMSf16Ie1xMQCUVxa5oCP8GpTE6Pzu+PugYGUAMvKHRWasYnSqD+3fWMwkB /Qn2q/UwL5mLWW/qzLYEX9An72s7QWvo/rhEsA1xJUFEfGIAUGvfk7O4arRgMu7cyGjAe9nftlg jcFX4aqJEPokZkkNP9/KCXtYDjslo5xbHOK2c8ffiZueod/7JZDR3ZrX5xxtgg76KrKgMpdVCY0 Z67GpsOhKx4f3vuUBYtoifxyaxM3wsM0jLNDMrmBpMuD2PBCRpH5t/PZnV1sznwuCrAisO6LKlA CLH/vVlZSHHLZaXADSh0KUGARPloWpBE5fCXWvAv5SjrqZEd7rO44uuowdNT4G1YpPneKA== X-Google-Smtp-Source: AGHT+IEhetcbCqQNEkXW8Rt3Gxd6ICGixUAtZZFh61v0or1LaMMd3putIEW6pTl98EP1dttOvQu/tG1311z5 X-Received: by 2002:a05:6e02:3421:b0:3dc:7fa4:834 with SMTP id e9e14a558f8ab-3e244005f37mr15232925ab.15.1752094722953; Wed, 09 Jul 2025 13:58:42 -0700 (PDT) Received: from postal.iol.unh.edu (postal.iol.unh.edu. [132.177.123.84]) by smtp-relay.gmail.com with ESMTPS id e9e14a558f8ab-3e246111d3bsm66255ab.21.2025.07.09.13.58.42 (version=TLS1_2 cipher=ECDHE-ECDSA-AES128-GCM-SHA256 bits=128/128); Wed, 09 Jul 2025 13:58:42 -0700 (PDT) X-Relaying-Domain: iol.unh.edu Date: Wed, 09 Jul 2025 13:58:42 -0700 (PDT) Message-ID: <686ed802.050a0220.31d52a.056bSMTPIN_ADDED_MISSING@mx.google.com> Received: from [172.21.0.5] (unknown [172.18.0.240]) by postal.iol.unh.edu (Postfix) with ESMTP id 775F26050A61; Wed, 9 Jul 2025 16:58:42 -0400 (EDT) Subject: |WARNING| pw155090 [PATCH] examples/ipsec-secgw: fix number of queue From: dpdklab@iol.unh.edu To: Test Report Cc: dpdk-test-reports@iol.unh.edu In-Reply-To: <20250709082325.771994-1-vfialko@marvell.com> References: <20250709082325.771994-1-vfialko@marvell.com> Content-Type: text/plain X-BeenThere: test-report@dpdk.org X-Mailman-Version: 2.1.29 Precedence: list List-Id: automatic DPDK test reports List-Unsubscribe: , List-Archive: List-Post: List-Help: List-Subscribe: , Errors-To: test-report-bounces@dpdk.org Test-Label: iol-compile-amd64-testing Test-Status: WARNING http://dpdk.org/patch/155090 _Testing issues_ Submitter: Volodymyr Fialko Date: Wednesday, July 09 2025 08:23:25 DPDK git baseline: Repo:dpdk Branch: master CommitID:9b298e79703a1343d388d059f4029813f11ac6ad 155090 --> testing issues Upstream job id: Windows-Compile-DPDK-Native#29688 Test environment and result as below: +-------------------------------+--------------------+-------------------+------------------+-------------------+-------------------------+ | Environment | dpdk_meson_compile | dpdk_compile_spdk | dpdk_compile_ovs | dpdk_msvc_compile | dpdk_llvm_clang_compile | +===============================+====================+===================+==================+===================+=========================+ | CentOS Stream 10 | PASS | SKIPPED | SKIPPED | SKIPPED | SKIPPED | +-------------------------------+--------------------+-------------------+------------------+-------------------+-------------------------+ | CentOS Stream 9 | PASS | PASS | SKIPPED | SKIPPED | SKIPPED | +-------------------------------+--------------------+-------------------+------------------+-------------------+-------------------------+ | Red Hat Enterprise Linux 8.10 | PASS | SKIPPED | SKIPPED | SKIPPED | SKIPPED | +-------------------------------+--------------------+-------------------+------------------+-------------------+-------------------------+ | Debian GNU/Linux 12 | PASS | PASS | SKIPPED | SKIPPED | SKIPPED | +-------------------------------+--------------------+-------------------+------------------+-------------------+-------------------------+ | Fedora Linux 40 | PASS | PASS | SKIPPED | SKIPPED | SKIPPED | +-------------------------------+--------------------+-------------------+------------------+-------------------+-------------------------+ | openSUSE Leap 15.6 | PASS | SKIPPED | SKIPPED | SKIPPED | SKIPPED | +-------------------------------+--------------------+-------------------+------------------+-------------------+-------------------------+ | Fedora Linux 41 | PASS | PASS | PASS | SKIPPED | SKIPPED | +-------------------------------+--------------------+-------------------+------------------+-------------------+-------------------------+ | Red Hat Enterprise Linux 9.5 | PASS | SKIPPED | SKIPPED | SKIPPED | SKIPPED | +-------------------------------+--------------------+-------------------+------------------+-------------------+-------------------------+ | Ubuntu 22.04 | PASS | PASS | SKIPPED | SKIPPED | SKIPPED | +-------------------------------+--------------------+-------------------+------------------+-------------------+-------------------------+ | Ubuntu 20.04 | PASS | SKIPPED | SKIPPED | SKIPPED | SKIPPED | +-------------------------------+--------------------+-------------------+------------------+-------------------+-------------------------+ | Ubuntu 24.04 | PASS | PASS | PASS | SKIPPED | SKIPPED | +-------------------------------+--------------------+-------------------+------------------+-------------------+-------------------------+ | Alpine Linux 3.22.0 | PASS | SKIPPED | SKIPPED | SKIPPED | SKIPPED | +-------------------------------+--------------------+-------------------+------------------+-------------------+-------------------------+ | FreeBSD 14.2 | PASS | SKIPPED | SKIPPED | SKIPPED | SKIPPED | +-------------------------------+--------------------+-------------------+------------------+-------------------+-------------------------+ | Windows Server 2022 | SKIPPED | SKIPPED | SKIPPED | PASS | PASS | +-------------------------------+--------------------+-------------------+------------------+-------------------+-------------------------+ CentOS Stream 10 Kernel: 5.15 Compiler: gcc gcc (GCC) 14.2.1 20250110 (Red Hat 14.2.1-8) CentOS Stream 9 Kernel: 5.15 Compiler: gcc gcc (GCC) 11.5.0 20240719 (Red Hat 11.5.0-7) Red Hat Enterprise Linux 8.10 Kernel: 5.15 Compiler: gcc gcc (GCC) 8.5.0 20210514 (Red Hat 8.5.0-22) Debian GNU/Linux 12 Kernel: 5.15 Compiler: gcc gcc (Debian 12.2.0-14+deb12u1) 12.2.0 Fedora Linux 40 Kernel: 5.15 Compiler: clang gcc (GCC) 14.2.1 20240912 (Red Hat 14.2.1-3) openSUSE Leap 15.6 Kernel: 5.15 Compiler: gcc gcc (SUSE Linux) 7.5.0 Fedora Linux 41 Kernel: 5.15 Compiler: clang gcc (GCC) 14.3.1 20250523 (Red Hat 14.3.1-1) Red Hat Enterprise Linux 9.5 Kernel: 5.15 Compiler: gcc gcc (GCC) 11.5.0 20240719 (Red Hat 11.5.0-2) Ubuntu 22.04 Kernel: 5.15 Compiler: gcc gcc (Ubuntu 11.4.0-1ubuntu1~22.04) 11.4.0 Ubuntu 20.04 Kernel: 5.15 Compiler: gcc gcc (Ubuntu 9.4.0-1ubuntu1~20.04.2) 9.4.0 Ubuntu 24.04 Kernel: 5.15 Compiler: gcc gcc (Ubuntu 13.3.0-6ubuntu2~24.04) 13.3.0 Alpine Linux 3.22.0 Kernel: 5.15 Compiler: gcc gcc (Alpine 14.2.0) 14.2.0 FreeBSD 14.2 Kernel: 14.2-RELEASE Compiler: clang 18.1.6 Windows Server 2022 Kernel: 10.0.20348.2031 Compiler: clang 15.0.7, gcc 14.1.0 (MinGW), and MSVC VS 19.39.33521 To view detailed results, visit: https://lab.dpdk.org/results/dashboard/patchsets/33622/ UNH-IOL DPDK Community Lab To manage your email subscriptions, visit: https://lab.dpdk.org/results/dashboard/preferences/subscriptions/