From mboxrd@z Thu Jan 1 00:00:00 1970 Return-Path: Received: from mails.dpdk.org (mails.dpdk.org [217.70.189.124]) by inbox.dpdk.org (Postfix) with ESMTP id F2BB146A6D for ; Wed, 9 Jul 2025 23:04:23 +0200 (CEST) Received: from mails.dpdk.org (localhost [127.0.0.1]) by mails.dpdk.org (Postfix) with ESMTP id DA9654029E; Wed, 9 Jul 2025 23:04:23 +0200 (CEST) Received: from mail-io1-f99.google.com (mail-io1-f99.google.com [209.85.166.99]) by mails.dpdk.org (Postfix) with ESMTP id 9FF0B4029E for ; Wed, 9 Jul 2025 23:04:21 +0200 (CEST) Received: by mail-io1-f99.google.com with SMTP id ca18e2360f4ac-879399faac9so31075039f.3 for ; Wed, 09 Jul 2025 14:04:21 -0700 (PDT) DKIM-Signature: v=1; a=rsa-sha256; c=relaxed/relaxed; d=iol.unh.edu; s=unh-iol; t=1752095061; x=1752699861; darn=dpdk.org; h=references:in-reply-to:cc:to:from:subject:message-id:date:from:to :cc:subject:date:message-id:reply-to; bh=Nb2Il3B6/3n0/HmVTnKEWby3R1wecNWCudParlGQ9nQ=; b=jfrcPVpbDiNZGQogMIQ7n9Pg3Q3mSlZC9bjzmm+5AcTgC76ZOWaFJBFaDgc/03VzSq UxlWB/zk4qQoKmVwjcX58KaTVR8m7wESXWxDpHBhUzzBM08SJmKL+SmCOqQygNnXxvL3 EnQbvdDRTWFN1+krkgJXdbxzJOPgTF/AIaXlc= X-Google-DKIM-Signature: v=1; a=rsa-sha256; c=relaxed/relaxed; d=1e100.net; s=20230601; t=1752095061; x=1752699861; h=references:in-reply-to:cc:to:from:subject:message-id:date :x-gm-message-state:from:to:cc:subject:date:message-id:reply-to; bh=Nb2Il3B6/3n0/HmVTnKEWby3R1wecNWCudParlGQ9nQ=; b=hJ5mJz5vLcUgjlsAAClSNnArUo13MLZzE3xmkdN/MexPvMvmipXgxDfo93rA065BTE LrONAyHWL1DaRfr8KnHs8V6+34H49PlFundegiA/zHsgZErD/HT3ApUgl0IFXjB7dSuw 7LHvIWnyEgoMcdkR/Rk8hBCnL0K9AAYZkqHYBeHAEcJS4hYSH21iIgrzq98TdgY0qOie DRO/lsHX7GROVHUf59OMFsPDGCdypUddjqSh9Yx/j5zI90xvXQEHigrd9Ge4Gh/7O+bq hfoSYVAAntlMwcoxErtrPy1CeF2tlS+QHVty0aD6W61jIDVa5Y1pQ0cO7dHU/iCX2FWx GYlw== X-Gm-Message-State: AOJu0YzE/Vr1qvZkwvWbgZfyH4xanVehTxUVjEHYuE9cFLKcZz0Hhkw5 f2BH9fjI2qbYB5By0BvHOmQVQeWqmHtbyA5+L4M3J6+mag3X0Pf2UPwl5ThvoJHmEpgCa61KYTK MXUXTtzNQANmRjMIs3S+zS1xci1ZLPB+KgngItriI8Fnd X-Gm-Gg: ASbGncuR5CYbI8KcvDdkI1Jw65HZ5UnvuJJtvl89SmU0JpOc7HQLNu6SvGwa9Rct89D pcwEOoepwGKDQ037Ofd71cF91lOVBKu8Wj5ODuMbxlCyg5AsOABoNDQ/MLfphFOMaEIZWqkVF7B IooCtjgnGyupfKenb68ZNs0uXyTHGdS/5DNX1K6IEtvl6mp1nXjCxGzD/q7RR1ayZ2ZNZm9TR5X bpz92/JfGeOsmS+i66A7VY8ahf7Bexsz61UkhR+JqCbV45lxQJvtmH+PGv7ht6Y20NsdawQbEm5 UIqkrWLj2yfvkI/bbejNUBncXWPx3/oHaOf0Sk9GmKtr9i+PjbTnUxQ0TcgIIn1p6CFPGA== X-Google-Smtp-Source: AGHT+IEVHgLJQHV6JUqgj0xoLmCyW76LYqCMmsbmmKxO/YZmEJlOtJCrmov7kz7KeRgtQ9/FU8zqHYxbLmd0 X-Received: by 2002:a05:6602:3419:b0:869:d4de:f7 with SMTP id ca18e2360f4ac-8795b17fd88mr490039939f.12.1752095060789; Wed, 09 Jul 2025 14:04:20 -0700 (PDT) Received: from postal.iol.unh.edu (postal.iol.unh.edu. [132.177.123.84]) by smtp-relay.gmail.com with ESMTPS id ca18e2360f4ac-876e079e20csm59114239f.3.2025.07.09.14.04.20 (version=TLS1_2 cipher=ECDHE-ECDSA-AES128-GCM-SHA256 bits=128/128); Wed, 09 Jul 2025 14:04:20 -0700 (PDT) X-Relaying-Domain: iol.unh.edu Date: Wed, 09 Jul 2025 14:04:20 -0700 (PDT) Message-ID: <686ed954.050a0220.1badb9.ead9SMTPIN_ADDED_MISSING@mx.google.com> Received: from [172.21.0.9] (unknown [172.18.0.240]) by postal.iol.unh.edu (Postfix) with ESMTP id 5CAE86050A61; Wed, 9 Jul 2025 17:04:20 -0400 (EDT) Subject: |WARNING| pw155109 [PATCH] [v2] test_bbdev: enable to be compiled on From: dpdklab@iol.unh.edu To: Test Report Cc: dpdk-test-reports@iol.unh.edu In-Reply-To: <1752074012-14869-1-git-send-email-andremue@linux.microsoft.com> References: <1752074012-14869-1-git-send-email-andremue@linux.microsoft.com> Content-Type: text/plain X-BeenThere: test-report@dpdk.org X-Mailman-Version: 2.1.29 Precedence: list List-Id: automatic DPDK test reports List-Unsubscribe: , List-Archive: List-Post: List-Help: List-Subscribe: , Errors-To: test-report-bounces@dpdk.org Test-Label: iol-compile-amd64-testing Test-Status: WARNING http://dpdk.org/patch/155109 _Testing issues_ Submitter: Andre Muezerie Date: Wednesday, July 09 2025 15:13:32 DPDK git baseline: Repo:dpdk Branch: master CommitID:19154c548d15cfa4928fcfb208b381d377039519 155109 --> testing issues Upstream job id: Generic-DPDK-Compile-Meson#407401 Test environment and result as below: +-------------------------------+--------------------+-------------------+------------------+-------------------+ | Environment | dpdk_meson_compile | dpdk_compile_spdk | dpdk_compile_ovs | dpdk_msvc_compile | +===============================+====================+===================+==================+===================+ | CentOS Stream 9 | PASS | PASS | SKIPPED | SKIPPED | +-------------------------------+--------------------+-------------------+------------------+-------------------+ | CentOS Stream 10 | PASS | SKIPPED | SKIPPED | SKIPPED | +-------------------------------+--------------------+-------------------+------------------+-------------------+ | Debian GNU/Linux 12 | PASS | PASS | SKIPPED | SKIPPED | +-------------------------------+--------------------+-------------------+------------------+-------------------+ | Fedora Linux 40 | PASS | WARN | SKIPPED | SKIPPED | +-------------------------------+--------------------+-------------------+------------------+-------------------+ | Fedora Linux 41 | PASS | PASS | PASS | SKIPPED | +-------------------------------+--------------------+-------------------+------------------+-------------------+ | openSUSE Leap 15.6 | PASS | SKIPPED | SKIPPED | SKIPPED | +-------------------------------+--------------------+-------------------+------------------+-------------------+ | Ubuntu 20.04 | PASS | SKIPPED | SKIPPED | SKIPPED | +-------------------------------+--------------------+-------------------+------------------+-------------------+ | Red Hat Enterprise Linux 9.5 | PASS | SKIPPED | SKIPPED | SKIPPED | +-------------------------------+--------------------+-------------------+------------------+-------------------+ | Red Hat Enterprise Linux 8.10 | PASS | SKIPPED | SKIPPED | SKIPPED | +-------------------------------+--------------------+-------------------+------------------+-------------------+ | Ubuntu 24.04 | PASS | PASS | PASS | SKIPPED | +-------------------------------+--------------------+-------------------+------------------+-------------------+ | Ubuntu 22.04 | PASS | PASS | SKIPPED | SKIPPED | +-------------------------------+--------------------+-------------------+------------------+-------------------+ | Alpine Linux 3.22.0 | PASS | SKIPPED | SKIPPED | SKIPPED | +-------------------------------+--------------------+-------------------+------------------+-------------------+ | FreeBSD 14.2 | PASS | SKIPPED | SKIPPED | SKIPPED | +-------------------------------+--------------------+-------------------+------------------+-------------------+ | Windows Server 2022 | SKIPPED | SKIPPED | SKIPPED | PASS | +-------------------------------+--------------------+-------------------+------------------+-------------------+ ==== 20 line log output for Fedora Linux 40 (dpdk_compile_spdk): ==== --- Failed to get log output --- ==== End log output ==== CentOS Stream 9 Kernel: 5.15 Compiler: gcc gcc (GCC) 11.5.0 20240719 (Red Hat 11.5.0-7) CentOS Stream 10 Kernel: 5.15 Compiler: gcc gcc (GCC) 14.2.1 20250110 (Red Hat 14.2.1-8) Debian GNU/Linux 12 Kernel: 5.15 Compiler: gcc gcc (Debian 12.2.0-14+deb12u1) 12.2.0 Fedora Linux 40 Kernel: 5.15 Compiler: gcc gcc (GCC) 14.2.1 20240912 (Red Hat 14.2.1-3) Fedora Linux 41 Kernel: 5.15 Compiler: clang gcc (GCC) 14.3.1 20250523 (Red Hat 14.3.1-1) openSUSE Leap 15.6 Kernel: 5.15 Compiler: gcc gcc (SUSE Linux) 7.5.0 Ubuntu 20.04 Kernel: 5.15 Compiler: gcc gcc (Ubuntu 9.4.0-1ubuntu1~20.04.2) 9.4.0 Red Hat Enterprise Linux 9.5 Kernel: 5.15 Compiler: gcc gcc (GCC) 11.5.0 20240719 (Red Hat 11.5.0-2) Red Hat Enterprise Linux 8.10 Kernel: 5.15 Compiler: gcc gcc (GCC) 8.5.0 20210514 (Red Hat 8.5.0-22) Ubuntu 24.04 Kernel: 5.15 Compiler: gcc gcc (Ubuntu 13.3.0-6ubuntu2~24.04) 13.3.0 Ubuntu 22.04 Kernel: 5.15 Compiler: gcc gcc (Ubuntu 11.4.0-1ubuntu1~22.04) 11.4.0 Alpine Linux 3.22.0 Kernel: 5.15 Compiler: gcc gcc (Alpine 14.2.0) 14.2.0 FreeBSD 14.2 Kernel: 14.2-RELEASE Compiler: clang 18.1.6 Windows Server 2022 Kernel: 10.0.20348.2031 Compiler: clang 15.0.7, gcc 14.1.0 (MinGW), and MSVC VS 19.39.33521 To view detailed results, visit: https://lab.dpdk.org/results/dashboard/patchsets/33628/ UNH-IOL DPDK Community Lab To manage your email subscriptions, visit: https://lab.dpdk.org/results/dashboard/preferences/subscriptions/