From mboxrd@z Thu Jan 1 00:00:00 1970 Return-Path: Received: from mails.dpdk.org (mails.dpdk.org [217.70.189.124]) by inbox.dpdk.org (Postfix) with ESMTP id CD64646A6D for ; Wed, 9 Jul 2025 23:13:25 +0200 (CEST) Received: from mails.dpdk.org (localhost [127.0.0.1]) by mails.dpdk.org (Postfix) with ESMTP id C73094029E; Wed, 9 Jul 2025 23:13:25 +0200 (CEST) Received: from mail-pl1-f227.google.com (mail-pl1-f227.google.com [209.85.214.227]) by mails.dpdk.org (Postfix) with ESMTP id 159394029E for ; Wed, 9 Jul 2025 23:13:25 +0200 (CEST) Received: by mail-pl1-f227.google.com with SMTP id d9443c01a7336-23c703c471dso13358855ad.0 for ; Wed, 09 Jul 2025 14:13:25 -0700 (PDT) DKIM-Signature: v=1; a=rsa-sha256; c=relaxed/relaxed; d=iol.unh.edu; s=unh-iol; t=1752095604; x=1752700404; darn=dpdk.org; h=references:in-reply-to:cc:to:from:subject:message-id:date:from:to :cc:subject:date:message-id:reply-to; bh=/ZKJAJGVQ2pDNNQRc3+IVqBE3zNSFrqFtPNZuR0kDmQ=; b=E0KwZafKQI7ax7sIdBsuY8rgcdY3kgKMbSLy+NYHCPdO8JnbTxIIpu1oCFfrvH0i/q OV5wh/0wFQweO6tR93Ml3O97PPA+gthT5tTR+lBTxxGvrYMXKGLlUWYkQd92iJyKTDg4 SAr2LGGoX5dgMtOE/fUZbuk4iEdGscWGhgfuk= X-Google-DKIM-Signature: v=1; a=rsa-sha256; c=relaxed/relaxed; d=1e100.net; s=20230601; t=1752095604; x=1752700404; h=references:in-reply-to:cc:to:from:subject:message-id:date :x-gm-message-state:from:to:cc:subject:date:message-id:reply-to; bh=/ZKJAJGVQ2pDNNQRc3+IVqBE3zNSFrqFtPNZuR0kDmQ=; b=cFhZ1r+bPN98lXdsdjyW7SkkRbN/BNT+B4Cek/dQzSKP+y2jRpe5+4pQYKrS5872Bh sKJ2Jik2eGUztE6qKqd2X3SZEGaz8r+upetrF8QoOi3CELzDBSr+vgjfBYp5KFgL//ok WCMNAPisZ1b43OV5XjH5k5P4oSdJGzEMeFQ/+DXAv7YjAspg68w0CSBB6J8kK5+5Yyzy Kqgyh1bgoDK+5LB2dvD0AslkiTtDkgviXytAei3qH//JBg9mZndd/jCy9bWoB4zbp7oY eO/oBbnEm7LCB69QgrD7bO6d7r7+XU1ahsprBSKeYSaiQRRDiek95K286ewm7DYbPvxd 6m3g== X-Gm-Message-State: AOJu0YyHXzV9bDZki9X+v2HAlsKea41X0zY9/xxGsQRdTWv1+1NBe0iz pvhxu/H43MT+GhLhAtcgSxrGEGA7giz7CIsztoWzTgjRTiqmh+Adf6AXVhfCWP4Hf9dLttrYtPa OJQsqz5TJrDlAiXC7QWvFQujRwniDcsvxIvetMbrmF6X9mEYlnOuomJ764qtp X-Gm-Gg: ASbGnct6NJKFwqvapMc9XbV6W1wzOxCiOpiWU07iL7cOauyyxHuzMa/pl93R8IHdc0e YrUsim9zYaWdhxGKsuABaZVCs3BX7/YroqfpxE7YV92i+v4k6xIYxE1pwIM8EfX5rYMlKNgGBqt jK3BgsAqou9w9FkjWjt3PSvauuvN47+AGJFpKxG1hAGtOg7Rm8ogzr92M1TKA5YaKDxf7o/bQUY Qj9Hr3y0s4For2MK11sAmkcA1Ly73GB8B3N1rKs5aDXRdpSKWnyIJhkUTfuyGsrPyg22Js9UFHi Cn5OEtuNUQ0sFIE6Nvm/G42FSzbH/djxwltqvchXaP3voVg= X-Google-Smtp-Source: AGHT+IHkCqgfBrLw2hkkmmkktWQA64D2HQqMZlS5sC0uoc+lJc/IrGF8ULjYj1qlTA1wJLFxs16ZdDnXcakB X-Received: by 2002:a17:903:2ec4:b0:236:71a5:4417 with SMTP id d9443c01a7336-23de2f3d88dmr15095965ad.5.1752095604140; Wed, 09 Jul 2025 14:13:24 -0700 (PDT) Received: from postal.iol.unh.edu (postal.iol.unh.edu. [2606:4100:3880:1234::84]) by smtp-relay.gmail.com with ESMTPS id d9443c01a7336-23de4266a14sm54145ad.21.2025.07.09.14.13.24 (version=TLS1_2 cipher=ECDHE-ECDSA-AES128-GCM-SHA256 bits=128/128); Wed, 09 Jul 2025 14:13:24 -0700 (PDT) X-Relaying-Domain: iol.unh.edu Date: Wed, 09 Jul 2025 14:13:24 -0700 (PDT) Message-ID: <686edb74.170a0220.5ed6a.0475SMTPIN_ADDED_MISSING@mx.google.com> Received: from [172.21.0.5] (unknown [172.18.0.240]) by postal.iol.unh.edu (Postfix) with ESMTP id 3E3B26050A61; Wed, 9 Jul 2025 17:13:23 -0400 (EDT) Subject: |SUCCESS| pw155007 [PATCH] [v2,01/14] net/sxe: add base driver direc From: dpdklab@iol.unh.edu To: Test Report Cc: dpdk-test-reports@iol.unh.edu In-Reply-To: <20250704025401.301617-1-liujie5@linkdatatechnology.com> References: <20250704025401.301617-1-liujie5@linkdatatechnology.com> Content-Type: text/plain X-BeenThere: test-report@dpdk.org X-Mailman-Version: 2.1.29 Precedence: list List-Id: automatic DPDK test reports List-Unsubscribe: , List-Archive: List-Post: List-Help: List-Subscribe: , Errors-To: test-report-bounces@dpdk.org Test-Label: iol-unit-amd64-testing Test-Status: SUCCESS http://dpdk.org/patch/155007 _Testing PASS_ Submitter: Jie Liu Date: Friday, July 04 2025 02:53:48 DPDK git baseline: Repo:dpdk Branch: master CommitID:7e6d6106a4ef052d6a2a6bd6e83c5b16a36c65c9 155007 --> testing pass Upstream job id: Generic-Unit-Test-DPDK#354343 Test environment and result as below: +-------------------------------+----------------+ | Environment | dpdk_unit_test | +===============================+================+ | CentOS Stream 9 | PASS | +-------------------------------+----------------+ | CentOS Stream 10 | PASS | +-------------------------------+----------------+ | Fedora Linux 40 | PASS | +-------------------------------+----------------+ | Debian GNU/Linux 12 | PASS | +-------------------------------+----------------+ | Fedora Linux 41 | PASS | +-------------------------------+----------------+ | Red Hat Enterprise Linux 9.5 | PASS | +-------------------------------+----------------+ | Ubuntu 20.04 | PASS | +-------------------------------+----------------+ | Ubuntu 22.04 | PASS | +-------------------------------+----------------+ | Ubuntu 24.04 | PASS | +-------------------------------+----------------+ | Red Hat Enterprise Linux 8.10 | PASS | +-------------------------------+----------------+ CentOS Stream 9 Kernel: 5.15 Compiler: gcc gcc (GCC) 11.5.0 20240719 (Red Hat 11.5.0-7) CentOS Stream 10 Kernel: 5.15 Compiler: gcc gcc (GCC) 14.2.1 20250110 (Red Hat 14.2.1-8) Fedora Linux 40 Kernel: 5.15 Compiler: gcc gcc (GCC) 14.2.1 20240912 (Red Hat 14.2.1-3) Debian GNU/Linux 12 Kernel: 5.15 Compiler: gcc gcc (Debian 12.2.0-14+deb12u1) 12.2.0 Fedora Linux 41 Kernel: 5.15 Compiler: gcc gcc (GCC) 14.3.1 20250523 (Red Hat 14.3.1-1) Red Hat Enterprise Linux 9.5 Kernel: 5.15 Compiler: gcc gcc (GCC) 11.5.0 20240719 (Red Hat 11.5.0-2) Ubuntu 20.04 Kernel: 5.15 Compiler: gcc gcc (Ubuntu 9.4.0-1ubuntu1~20.04.2) 9.4.0 Ubuntu 22.04 Kernel: 5.15 Compiler: gcc gcc (Ubuntu 11.4.0-1ubuntu1~22.04) 11.4.0 Ubuntu 24.04 Kernel: 5.15 Compiler: gcc gcc (Ubuntu 13.3.0-6ubuntu2~24.04) 13.3.0 Red Hat Enterprise Linux 8.10 Kernel: 5.15 Compiler: gcc gcc (GCC) 8.5.0 20210514 (Red Hat 8.5.0-22) To view detailed results, visit: https://lab.dpdk.org/results/dashboard/patchsets/33590/ UNH-IOL DPDK Community Lab To manage your email subscriptions, visit: https://lab.dpdk.org/results/dashboard/preferences/subscriptions/