From mboxrd@z Thu Jan 1 00:00:00 1970 Return-Path: Received: from mails.dpdk.org (mails.dpdk.org [217.70.189.124]) by inbox.dpdk.org (Postfix) with ESMTP id 6F2F346A86 for ; Wed, 9 Jul 2025 23:40:58 +0200 (CEST) Received: from mails.dpdk.org (localhost [127.0.0.1]) by mails.dpdk.org (Postfix) with ESMTP id 4E36340654; Wed, 9 Jul 2025 23:40:58 +0200 (CEST) Received: from mail-vk1-f227.google.com (mail-vk1-f227.google.com [209.85.221.227]) by mails.dpdk.org (Postfix) with ESMTP id 3969C40654 for ; Wed, 9 Jul 2025 23:40:57 +0200 (CEST) Received: by mail-vk1-f227.google.com with SMTP id 71dfb90a1353d-531b4407cfbso140512e0c.1 for ; Wed, 09 Jul 2025 14:40:57 -0700 (PDT) DKIM-Signature: v=1; a=rsa-sha256; c=relaxed/relaxed; d=iol.unh.edu; s=unh-iol; t=1752097256; x=1752702056; darn=dpdk.org; h=references:in-reply-to:cc:to:from:subject:message-id:date:from:to :cc:subject:date:message-id:reply-to; bh=qixePDStEqFOuAmoyFgV/vHH8oOoAJWdxXi5grcAlxg=; b=KQZXUBMiaS5GIf+rBNPEDP8D+7lIbNq5CQ7dTiBqoG8/PFgxg5Yhud8xNHlZQbCCfw Mt4WKxOYkhzZiMO4wXqF9j9Gticoi51Z1aKX0cdJCCE4SAA4mW2ne+4mJQiIdsNjwV93 /Rz9AFoaV0/rnJJynVIDaeuOvr0jigL6jzO/g= X-Google-DKIM-Signature: v=1; a=rsa-sha256; c=relaxed/relaxed; d=1e100.net; s=20230601; t=1752097256; x=1752702056; h=references:in-reply-to:cc:to:from:subject:message-id:date :x-gm-message-state:from:to:cc:subject:date:message-id:reply-to; bh=qixePDStEqFOuAmoyFgV/vHH8oOoAJWdxXi5grcAlxg=; b=TzQ6n85qjP7raEfnwnVcL+cyU7eTV8tQj5PE91fkdWtCkmikIn0TF0H+uihwao5bp1 5ki8CiOtjthYiGiK2FfjAsjIqwObp/rKXw51v3xNcodhtEKXiFNAjP625u8mZwtCYZqo B8fKc3vffj2dB3qm6l/2LHneg8pkCEsD3po4XNBpx5uZgZ+lCwU9bG8v24egSGb7KxPA trane22HLIbaQF0HSkhHzAaB0X+Nd5MX2v15cg0Jx8Jaa++FB8ld2CysfBxn+gAkLF5D 3BIOFGSNtNMlZPwqu1XAV/UqDJhV98A177sTeE7IzWa6BKjYznnI3qLqQFxm9MIVjT2N UwtQ== X-Gm-Message-State: AOJu0YwuJEVJLb+CxtkyREVJNUtm00Gmo3FvYN2bI/Stm1g1TUT18HZT Tvb2athKkg1Up07knqkdBj00wf0OJQLWTp20TwiSRaro027Iy7kqba+0OAKkwPrYG1FMxPP88pY LcBQXoYQ83U6JFMmW9WjXP/CmjYNNB24fKbx0deC+x9NL X-Gm-Gg: ASbGncs1n2IHFmmCYZxlIIHlwfA/oZv4I4YC0LYKEsVK3NPJU20Uz+9OEt17vQZV1YB NA5Puli1V55V+JFwHvhEYObSY2FZA5cnBKVT9adG7FvZ8K5saCrqSvpNaouOqEjs16ujY/9laII +AU5vpI5qQSBy82ge8FP6xo85gwD5/jfaepgzZ9xOYjpwH4zbbWl5jmsrUCs/iQrPKZNRDFKzdd aAcXDPxvXQv0hBUAElnuCRJ41kuj9zuj2QAguzrr0U6TmB3pApaktUzfkf7Nod5YHH7TGijAdUQ uUv+XWv1NYuL4x7mz5ATROfcl+EoNkspQQh/e2/pyMmKQwzSvA/ggj3qsKuhu10GV3/hRg== X-Google-Smtp-Source: AGHT+IEVSoL1BNQtCJUZGvT287xG3XHqZmVKzK+erTCOjuJtrQfA15tygM0bezcYOm6ujnvJqsd0C/4p9dpd X-Received: by 2002:a05:6122:a27:b0:534:7570:b68 with SMTP id 71dfb90a1353d-535e69b3f36mr115895e0c.0.1752097256428; Wed, 09 Jul 2025 14:40:56 -0700 (PDT) Received: from postal.iol.unh.edu (postal.iol.unh.edu. [132.177.123.84]) by smtp-relay.gmail.com with ESMTPS id 71dfb90a1353d-5347906c808sm670597e0c.7.2025.07.09.14.40.56 (version=TLS1_2 cipher=ECDHE-ECDSA-AES128-GCM-SHA256 bits=128/128); Wed, 09 Jul 2025 14:40:56 -0700 (PDT) X-Relaying-Domain: iol.unh.edu Date: Wed, 09 Jul 2025 14:40:56 -0700 (PDT) Message-ID: <686ee1e8.050a0220.1007a4.50e0SMTPIN_ADDED_MISSING@mx.google.com> Received: from [172.21.0.9] (unknown [172.18.0.240]) by postal.iol.unh.edu (Postfix) with ESMTP id 224216051830; Wed, 9 Jul 2025 17:40:56 -0400 (EDT) Subject: |SUCCESS| pw155007 [PATCH] [v2,01/14] net/sxe: add base driver direc From: dpdklab@iol.unh.edu To: Test Report Cc: dpdk-test-reports@iol.unh.edu In-Reply-To: <20250704025401.301617-1-liujie5@linkdatatechnology.com> References: <20250704025401.301617-1-liujie5@linkdatatechnology.com> Content-Type: text/plain X-BeenThere: test-report@dpdk.org X-Mailman-Version: 2.1.29 Precedence: list List-Id: automatic DPDK test reports List-Unsubscribe: , List-Archive: List-Post: List-Help: List-Subscribe: , Errors-To: test-report-bounces@dpdk.org Test-Label: iol-abi-testing Test-Status: SUCCESS http://dpdk.org/patch/155007 _Testing PASS_ Submitter: Jie Liu Date: Friday, July 04 2025 02:53:48 DPDK git baseline: Repo:dpdk Branch: master CommitID:7e6d6106a4ef052d6a2a6bd6e83c5b16a36c65c9 155007 --> testing pass Upstream job id: Generic-DPDK-Compile-ABI#133863 Test environment and result as below: +-------------------------------+----------+ | Environment | abi_test | +===============================+==========+ | CentOS Stream 10 | PASS | +-------------------------------+----------+ | CentOS Stream 9 | PASS | +-------------------------------+----------+ | Debian GNU/Linux 12 | PASS | +-------------------------------+----------+ | Fedora Linux 40 | PASS | +-------------------------------+----------+ | openSUSE Leap 15.6 | PASS | +-------------------------------+----------+ | Fedora Linux 41 | PASS | +-------------------------------+----------+ | Red Hat Enterprise Linux 9.5 | PASS | +-------------------------------+----------+ | Red Hat Enterprise Linux 8.10 | PASS | +-------------------------------+----------+ | Ubuntu 22.04 | PASS | +-------------------------------+----------+ | Ubuntu 24.04 | PASS | +-------------------------------+----------+ CentOS Stream 10 Kernel: 5.15 Compiler: gcc gcc (GCC) 14.2.1 20250110 (Red Hat 14.2.1-8) CentOS Stream 9 Kernel: 5.15 Compiler: gcc gcc (GCC) 11.5.0 20240719 (Red Hat 11.5.0-7) Debian GNU/Linux 12 Kernel: 5.15 Compiler: gcc gcc (Debian 12.2.0-14+deb12u1) 12.2.0 Fedora Linux 40 Kernel: 5.15 Compiler: gcc gcc (GCC) 14.2.1 20240912 (Red Hat 14.2.1-3) openSUSE Leap 15.6 Kernel: 5.15 Compiler: gcc gcc (SUSE Linux) 7.5.0 Fedora Linux 41 Kernel: 5.15 Compiler: clang gcc (GCC) 14.3.1 20250523 (Red Hat 14.3.1-1) Red Hat Enterprise Linux 9.5 Kernel: 5.15 Compiler: gcc gcc (GCC) 11.5.0 20240719 (Red Hat 11.5.0-2) Red Hat Enterprise Linux 8.10 Kernel: 5.15 Compiler: gcc gcc (GCC) 8.5.0 20210514 (Red Hat 8.5.0-22) Ubuntu 22.04 Kernel: 5.15 Compiler: gcc gcc (Ubuntu 11.4.0-1ubuntu1~22.04) 11.4.0 Ubuntu 24.04 Kernel: 5.15 Compiler: gcc gcc (Ubuntu 13.3.0-6ubuntu2~24.04) 13.3.0 To view detailed results, visit: https://lab.dpdk.org/results/dashboard/patchsets/33590/ UNH-IOL DPDK Community Lab To manage your email subscriptions, visit: https://lab.dpdk.org/results/dashboard/preferences/subscriptions/