From mboxrd@z Thu Jan 1 00:00:00 1970 Return-Path: Received: from mails.dpdk.org (mails.dpdk.org [217.70.189.124]) by inbox.dpdk.org (Postfix) with ESMTP id 1219146A86 for ; Wed, 9 Jul 2025 23:46:50 +0200 (CEST) Received: from mails.dpdk.org (localhost [127.0.0.1]) by mails.dpdk.org (Postfix) with ESMTP id E0D4540654; Wed, 9 Jul 2025 23:46:49 +0200 (CEST) Received: from mail-pl1-f228.google.com (mail-pl1-f228.google.com [209.85.214.228]) by mails.dpdk.org (Postfix) with ESMTP id AA70D40654 for ; Wed, 9 Jul 2025 23:46:48 +0200 (CEST) Received: by mail-pl1-f228.google.com with SMTP id d9443c01a7336-235f9ea8d08so3880575ad.1 for ; Wed, 09 Jul 2025 14:46:48 -0700 (PDT) DKIM-Signature: v=1; a=rsa-sha256; c=relaxed/relaxed; d=iol.unh.edu; s=unh-iol; t=1752097608; x=1752702408; darn=dpdk.org; h=references:in-reply-to:cc:to:from:subject:message-id:date:from:to :cc:subject:date:message-id:reply-to; bh=b51iS63iLRxd7K3+ppP1uvtYtrMbQxqjeIvpZ8JzmyA=; b=IIxMdJu7oeDBCrw/KXw3msVwLu+3BKuauNSsRqPKoPrX1nJYnDXLCqrsy6hJjh0/tI e0OEqeKKoLK8E/XYrYFLFMES9mrKv7cOGJ49o0qukstgpdh3iEJEd6RpVUGMQIy1Gwqf zlLSd8i8WEXmzV8qhgX+PP32oam2xj6FBNqyo= X-Google-DKIM-Signature: v=1; a=rsa-sha256; c=relaxed/relaxed; d=1e100.net; s=20230601; t=1752097608; x=1752702408; h=references:in-reply-to:cc:to:from:subject:message-id:date :x-gm-message-state:from:to:cc:subject:date:message-id:reply-to; bh=b51iS63iLRxd7K3+ppP1uvtYtrMbQxqjeIvpZ8JzmyA=; b=L70PRH21v0W55dtT1V9GOD/2tRpiQ5xGcjji02Eff0Eie3/sBm0r7I6BaLFGYrkDx4 ZIqVVi9uIoJj95kHskOI74ZyKLeO8jjxgAmvjsBjIYckVbg/Ywz78pRDH1+lA0SeIaRb ZaXJs/77mZV7RZI02eGu2wcyLw5wCtT4ywN6FOZB9wAhZXGUdBzA21BgnNw5K/fXH+MS nQ9dpgFz5+ZhgD2x/mWPUMREmIPftgWiOMyoMxpe2gGTFjzd1GGPhgiztayhaDFMlQlw HGXEsdu01tJoNEFWEXRl2OKAQrJa0M4WXqmqZozxh9vmnDdOZSPN72Lbr/xNcWH2ksBu nT2A== X-Gm-Message-State: AOJu0YzrNEZ1Kw3fHhcKwIk5Ngr943oo+d5oZPtt2Atwtn8RU0sXdIiQ 8fM6zvMhRH3iE11fgqxA1cNxamZvalwk8pFUMYPKOkHqBbT+PKaJKl1UvdAXejcT6Cf+2/VPN6R ouP4/V2igVk15gDkaQckIqtdHgfcPgTqpteT9Ce4OyZP1 X-Gm-Gg: ASbGncsceLb8NL9JNsHeK7NFn6iuDx7zlbO3rNMQtjQXu0k3yjZ8uHgAwcRNyNvFQdB GZR3fOv+eeqauimb1WO2zzv/I8jwuXjgxb3AaKj/N7gyiApwCnV2q8GdVVWqqRDgnpFMo+V99lw arlaU4iGmy4IOk+ZjpIeaSuoAVqVCxK4Garxcpv9GJ4wqZfwdggMFCVP3dd7yxnxi2vhGHJ55mE Jy7hnjocHT0hmNkGnOR4yqY9MEaG1hlt0OTZjTAbQhhZQVhf5qAMsZ1d1WqSpQYxj4zaurr8e2Q 64lcs0hpaVCKE/Q/5in3H6KsbBEf8TsSEAqhZ8ea/b6iFURmCyjDfpm4PE/kC2VjEg3Wsw== X-Google-Smtp-Source: AGHT+IE23RNxr/OZxG8ChDeXmQtZc7IdrmKssAO3awNPXEymuQWrQLvoTFZ8IyjmQPMUYXG8g5JGPXnQhSyM X-Received: by 2002:a17:903:350b:b0:235:6e1:3edf with SMTP id d9443c01a7336-23ddb31256fmr56784315ad.34.1752097607744; Wed, 09 Jul 2025 14:46:47 -0700 (PDT) Received: from postal.iol.unh.edu (postal.iol.unh.edu. [132.177.123.84]) by smtp-relay.gmail.com with ESMTPS id d9443c01a7336-23de42661d8sm83045ad.19.2025.07.09.14.46.47 (version=TLS1_2 cipher=ECDHE-ECDSA-AES128-GCM-SHA256 bits=128/128); Wed, 09 Jul 2025 14:46:47 -0700 (PDT) X-Relaying-Domain: iol.unh.edu Date: Wed, 09 Jul 2025 14:46:47 -0700 (PDT) Message-ID: <686ee347.170a0220.2073b8.06b2SMTPIN_ADDED_MISSING@mx.google.com> Received: from [172.21.0.6] (unknown [172.18.0.240]) by postal.iol.unh.edu (Postfix) with ESMTP id E24826050A61; Wed, 9 Jul 2025 17:46:46 -0400 (EDT) Subject: |WARNING| pw155007 [PATCH] [v2,01/14] net/sxe: add base driver direc From: dpdklab@iol.unh.edu To: Test Report Cc: dpdk-test-reports@iol.unh.edu In-Reply-To: <20250704025401.301617-1-liujie5@linkdatatechnology.com> References: <20250704025401.301617-1-liujie5@linkdatatechnology.com> Content-Type: text/plain X-BeenThere: test-report@dpdk.org X-Mailman-Version: 2.1.29 Precedence: list List-Id: automatic DPDK test reports List-Unsubscribe: , List-Archive: List-Post: List-Help: List-Subscribe: , Errors-To: test-report-bounces@dpdk.org Test-Label: iol-compile-amd64-testing Test-Status: WARNING http://dpdk.org/patch/155007 _Testing issues_ Submitter: Jie Liu Date: Friday, July 04 2025 02:53:48 DPDK git baseline: Repo:dpdk Branch: master CommitID:7e6d6106a4ef052d6a2a6bd6e83c5b16a36c65c9 155007 --> testing issues Upstream job id: Windows-Compile-DPDK-VS#6321 Test environment and result as below: +-------------------------------+--------------------+-------------------+------------------+-------------------+ | Environment | dpdk_meson_compile | dpdk_compile_spdk | dpdk_compile_ovs | dpdk_msvc_compile | +===============================+====================+===================+==================+===================+ | CentOS Stream 9 | PASS | PASS | SKIPPED | SKIPPED | +-------------------------------+--------------------+-------------------+------------------+-------------------+ | CentOS Stream 10 | PASS | SKIPPED | SKIPPED | SKIPPED | +-------------------------------+--------------------+-------------------+------------------+-------------------+ | Debian GNU/Linux 12 | PASS | PASS | SKIPPED | SKIPPED | +-------------------------------+--------------------+-------------------+------------------+-------------------+ | Fedora Linux 40 | PEND | PEND | SKIPPED | SKIPPED | +-------------------------------+--------------------+-------------------+------------------+-------------------+ | Fedora Linux 41 | PASS | PASS | PASS | SKIPPED | +-------------------------------+--------------------+-------------------+------------------+-------------------+ | Red Hat Enterprise Linux 8.10 | PASS | SKIPPED | SKIPPED | SKIPPED | +-------------------------------+--------------------+-------------------+------------------+-------------------+ | openSUSE Leap 15.6 | PEND | SKIPPED | SKIPPED | SKIPPED | +-------------------------------+--------------------+-------------------+------------------+-------------------+ | Red Hat Enterprise Linux 9.5 | PEND | SKIPPED | SKIPPED | SKIPPED | +-------------------------------+--------------------+-------------------+------------------+-------------------+ | Ubuntu 20.04 | PASS | SKIPPED | SKIPPED | SKIPPED | +-------------------------------+--------------------+-------------------+------------------+-------------------+ | Ubuntu 22.04 | PASS | PASS | SKIPPED | SKIPPED | +-------------------------------+--------------------+-------------------+------------------+-------------------+ | Ubuntu 24.04 | PEND | PASS | PASS | SKIPPED | +-------------------------------+--------------------+-------------------+------------------+-------------------+ | Alpine Linux 3.22.0 | PEND | SKIPPED | SKIPPED | SKIPPED | +-------------------------------+--------------------+-------------------+------------------+-------------------+ | FreeBSD 14.2 | PASS | SKIPPED | SKIPPED | SKIPPED | +-------------------------------+--------------------+-------------------+------------------+-------------------+ | Windows Server 2022 | SKIPPED | SKIPPED | SKIPPED | PASS | +-------------------------------+--------------------+-------------------+------------------+-------------------+ CentOS Stream 9 Kernel: 5.15 Compiler: gcc gcc (GCC) 11.5.0 20240719 (Red Hat 11.5.0-7) CentOS Stream 10 Kernel: 5.15 Compiler: gcc gcc (GCC) 14.2.1 20250110 (Red Hat 14.2.1-8) Debian GNU/Linux 12 Kernel: 5.15 Compiler: gcc gcc (Debian 12.2.0-14+deb12u1) 12.2.0 Fedora Linux 40 Kernel: 5.15 Compiler: clang gcc (GCC) 14.2.1 20240912 (Red Hat 14.2.1-3) Fedora Linux 41 Kernel: 5.15 Compiler: clang gcc (GCC) 14.3.1 20250523 (Red Hat 14.3.1-1) Red Hat Enterprise Linux 8.10 Kernel: 5.15 Compiler: gcc gcc (GCC) 8.5.0 20210514 (Red Hat 8.5.0-22) openSUSE Leap 15.6 Kernel: 5.15 Compiler: gcc gcc (SUSE Linux) 7.5.0 Red Hat Enterprise Linux 9.5 Kernel: 5.15 Compiler: gcc gcc (GCC) 11.5.0 20240719 (Red Hat 11.5.0-2) Ubuntu 20.04 Kernel: 5.15 Compiler: gcc gcc (Ubuntu 9.4.0-1ubuntu1~20.04.2) 9.4.0 Ubuntu 22.04 Kernel: 5.15 Compiler: gcc gcc (Ubuntu 11.4.0-1ubuntu1~22.04) 11.4.0 Ubuntu 24.04 Kernel: 5.15 Compiler: gcc gcc (Ubuntu 13.3.0-6ubuntu2~24.04) 13.3.0 Alpine Linux 3.22.0 Kernel: 5.15 Compiler: gcc gcc (Alpine 14.2.0) 14.2.0 FreeBSD 14.2 Kernel: 14.2-RELEASE Compiler: clang 18.1.6 Windows Server 2022 Kernel: 10.0.20348.2031 Compiler: clang 15.0.7, gcc 14.1.0 (MinGW), and MSVC VS 19.39.33521 To view detailed results, visit: https://lab.dpdk.org/results/dashboard/patchsets/33590/ UNH-IOL DPDK Community Lab To manage your email subscriptions, visit: https://lab.dpdk.org/results/dashboard/preferences/subscriptions/