From mboxrd@z Thu Jan 1 00:00:00 1970 Return-Path: Received: from mails.dpdk.org (mails.dpdk.org [217.70.189.124]) by inbox.dpdk.org (Postfix) with ESMTP id DFEAC46A86 for ; Wed, 9 Jul 2025 23:52:25 +0200 (CEST) Received: from mails.dpdk.org (localhost [127.0.0.1]) by mails.dpdk.org (Postfix) with ESMTP id BD875402E3; Wed, 9 Jul 2025 23:52:25 +0200 (CEST) Received: from mail-oa1-f99.google.com (mail-oa1-f99.google.com [209.85.160.99]) by mails.dpdk.org (Postfix) with ESMTP id 64F97402E3 for ; Wed, 9 Jul 2025 23:52:24 +0200 (CEST) Received: by mail-oa1-f99.google.com with SMTP id 586e51a60fabf-2c6ed7efb1dso205376fac.2 for ; Wed, 09 Jul 2025 14:52:24 -0700 (PDT) DKIM-Signature: v=1; a=rsa-sha256; c=relaxed/relaxed; d=iol.unh.edu; s=unh-iol; t=1752097943; x=1752702743; darn=dpdk.org; h=references:in-reply-to:cc:to:from:subject:message-id:date:from:to :cc:subject:date:message-id:reply-to; bh=YSmPnPgVd9ScfXk8Q0B4VhOTkR4g3EBsO0Rso6V14R4=; b=T9otmLCyJ4Cs3xNm6mJQaikrttRZbIMVMFhzKJ+fz37Y4OqX18jEU2kVM+LlRRqw40 l87NoSCdZysOj9syQAmOxWQLCWuW89e35iUXFfoX3E+DOr0OGgNH4F1Wro5GcI1IP7lc COGvoGb28peJWgWs3tbJKaNfNELeZ1M9bLJmI= X-Google-DKIM-Signature: v=1; a=rsa-sha256; c=relaxed/relaxed; d=1e100.net; s=20230601; t=1752097943; x=1752702743; h=references:in-reply-to:cc:to:from:subject:message-id:date :x-gm-message-state:from:to:cc:subject:date:message-id:reply-to; bh=YSmPnPgVd9ScfXk8Q0B4VhOTkR4g3EBsO0Rso6V14R4=; b=wOPOZ7d4/YZWM2ZOati5tVw9IMh5aabuYHI8oZhZcqfWfqOwL98BL1v0OCN3JmCC2S GzuoeEzSsnEtF2SXHAVlAqiN3A0VorxDiW76UchbNVvQ1svpQMTOLxuN99CT+sTfEKMn YrXFlEDY/LjV36reuKCYdr0Bd8HXiHLTI2qq6ZujjeUP28iXQ1jlT5i4hOfZf5E46KrY gmNRBrRhDva34g9tadqD6/+u3Kk38BUC/YwmJU1vk8/4PMIJ1hi0ZGCQcjxfJazlJiiY Yd6N5t5KUYWBYCt3bPHr1N7krOvMHWrhc9m11q26UYByjJUqBDUOdWgWabFE3Ej6bBg7 3KHQ== X-Gm-Message-State: AOJu0YwrA8TO0nUI9zoKcp6Z3Ck4pSxQn1rnxwMf4dvCYbM9LAW39wsJ bI81+nen5R5aunCGxi0OlDPNKFGmB5MDpV/4KuMWuvR+eEeq/7EgXR3UhtyKKkhQLgiLYQgztfd yQqK/g8jOmSDbDYsbbgedrw60GG5EPighE6fk9o2r9qWA0htLt8LOCBC1jxbE X-Gm-Gg: ASbGncvV2kDnIMzOG9w8ZLeQ0pgf7FtbbNwV04IPoBm3cpSIITd/0VeEMzZSfgnc/19 AXNIwKqev+I946m3lRJkwEi1LHjcsrH9qf3jXbhs0ud9XdtvctmU76kIgmLpxNFgHfWusAEPUPK D5/5VQRhO1MglcyWOR9x7XqDhf3qUOTrbvFvK2vMZXw1iSF6JeDScmzL3UmIz4QPCtJpranHIHM sgNR2RgSJ7Lc/yxprmpJuFrbOv9IaUwYAkXPPJskgc+OSdHeu1qyA0A+Flmau43fzElota2GvwM Xh6bJXdEocXxNoxUT7jqr7rfH2YhmlDSSlRdWcuEIcpHyyc= X-Google-Smtp-Source: AGHT+IE6+F9BLEHV58SDX7HDvWx0bSK8XJ7odSshf6btochalXZDiH3HqMZrJm2dPK3qTpqskyW8YO98VLr/ X-Received: by 2002:a05:6871:2d87:b0:2c1:ac88:4a8d with SMTP id 586e51a60fabf-2ff10a08f52mr225088fac.30.1752097943621; Wed, 09 Jul 2025 14:52:23 -0700 (PDT) Received: from postal.iol.unh.edu (postal.iol.unh.edu. [2606:4100:3880:1234::84]) by smtp-relay.gmail.com with ESMTPS id 586e51a60fabf-2ff11732afdsm7585fac.34.2025.07.09.14.52.23 (version=TLS1_2 cipher=ECDHE-ECDSA-AES128-GCM-SHA256 bits=128/128); Wed, 09 Jul 2025 14:52:23 -0700 (PDT) X-Relaying-Domain: iol.unh.edu Date: Wed, 09 Jul 2025 14:52:23 -0700 (PDT) Message-ID: <686ee497.050a0220.79819.0654SMTPIN_ADDED_MISSING@mx.google.com> Received: from [172.21.0.5] (unknown [172.18.0.240]) by postal.iol.unh.edu (Postfix) with ESMTP id 1D6A1604D420; Wed, 9 Jul 2025 17:52:23 -0400 (EDT) Subject: |WARNING| pw155090 [PATCH] examples/ipsec-secgw: fix number of queue From: dpdklab@iol.unh.edu To: Test Report Cc: dpdk-test-reports@iol.unh.edu In-Reply-To: <20250709082325.771994-1-vfialko@marvell.com> References: <20250709082325.771994-1-vfialko@marvell.com> Content-Type: text/plain X-BeenThere: test-report@dpdk.org X-Mailman-Version: 2.1.29 Precedence: list List-Id: automatic DPDK test reports List-Unsubscribe: , List-Archive: List-Post: List-Help: List-Subscribe: , Errors-To: test-report-bounces@dpdk.org Test-Label: iol-compile-amd64-testing Test-Status: WARNING http://dpdk.org/patch/155090 _Testing issues_ Submitter: Volodymyr Fialko Date: Wednesday, July 09 2025 08:23:25 DPDK git baseline: Repo:dpdk Branch: master CommitID:9b298e79703a1343d388d059f4029813f11ac6ad 155090 --> testing issues Upstream job id: Windows-Compile-DPDK-Native#29689 Test environment and result as below: +-------------------------------+--------------------+-------------------+------------------+-------------------+-------------------------+----------------------+ | Environment | dpdk_meson_compile | dpdk_compile_spdk | dpdk_compile_ovs | dpdk_msvc_compile | dpdk_llvm_clang_compile | dpdk_mingw64_compile | +===============================+====================+===================+==================+===================+=========================+======================+ | CentOS Stream 10 | PASS | SKIPPED | SKIPPED | SKIPPED | SKIPPED | SKIPPED | +-------------------------------+--------------------+-------------------+------------------+-------------------+-------------------------+----------------------+ | CentOS Stream 9 | PASS | PASS | SKIPPED | SKIPPED | SKIPPED | SKIPPED | +-------------------------------+--------------------+-------------------+------------------+-------------------+-------------------------+----------------------+ | Red Hat Enterprise Linux 8.10 | PASS | SKIPPED | SKIPPED | SKIPPED | SKIPPED | SKIPPED | +-------------------------------+--------------------+-------------------+------------------+-------------------+-------------------------+----------------------+ | Debian GNU/Linux 12 | PASS | PASS | SKIPPED | SKIPPED | SKIPPED | SKIPPED | +-------------------------------+--------------------+-------------------+------------------+-------------------+-------------------------+----------------------+ | Fedora Linux 40 | PASS | PASS | SKIPPED | SKIPPED | SKIPPED | SKIPPED | +-------------------------------+--------------------+-------------------+------------------+-------------------+-------------------------+----------------------+ | openSUSE Leap 15.6 | PASS | SKIPPED | SKIPPED | SKIPPED | SKIPPED | SKIPPED | +-------------------------------+--------------------+-------------------+------------------+-------------------+-------------------------+----------------------+ | Fedora Linux 41 | PASS | PASS | PASS | SKIPPED | SKIPPED | SKIPPED | +-------------------------------+--------------------+-------------------+------------------+-------------------+-------------------------+----------------------+ | Red Hat Enterprise Linux 9.5 | PASS | SKIPPED | SKIPPED | SKIPPED | SKIPPED | SKIPPED | +-------------------------------+--------------------+-------------------+------------------+-------------------+-------------------------+----------------------+ | Ubuntu 22.04 | PASS | PASS | SKIPPED | SKIPPED | SKIPPED | SKIPPED | +-------------------------------+--------------------+-------------------+------------------+-------------------+-------------------------+----------------------+ | Ubuntu 20.04 | PASS | SKIPPED | SKIPPED | SKIPPED | SKIPPED | SKIPPED | +-------------------------------+--------------------+-------------------+------------------+-------------------+-------------------------+----------------------+ | Ubuntu 24.04 | PASS | PASS | PASS | SKIPPED | SKIPPED | SKIPPED | +-------------------------------+--------------------+-------------------+------------------+-------------------+-------------------------+----------------------+ | Alpine Linux 3.22.0 | PASS | SKIPPED | SKIPPED | SKIPPED | SKIPPED | SKIPPED | +-------------------------------+--------------------+-------------------+------------------+-------------------+-------------------------+----------------------+ | FreeBSD 14.2 | PASS | SKIPPED | SKIPPED | SKIPPED | SKIPPED | SKIPPED | +-------------------------------+--------------------+-------------------+------------------+-------------------+-------------------------+----------------------+ | Windows Server 2022 | SKIPPED | SKIPPED | SKIPPED | PASS | PASS | PASS | +-------------------------------+--------------------+-------------------+------------------+-------------------+-------------------------+----------------------+ CentOS Stream 10 Kernel: 5.15 Compiler: gcc gcc (GCC) 14.2.1 20250110 (Red Hat 14.2.1-8) CentOS Stream 9 Kernel: 5.15 Compiler: gcc gcc (GCC) 11.5.0 20240719 (Red Hat 11.5.0-7) Red Hat Enterprise Linux 8.10 Kernel: 5.15 Compiler: gcc gcc (GCC) 8.5.0 20210514 (Red Hat 8.5.0-22) Debian GNU/Linux 12 Kernel: 5.15 Compiler: gcc gcc (Debian 12.2.0-14+deb12u1) 12.2.0 Fedora Linux 40 Kernel: 5.15 Compiler: clang gcc (GCC) 14.2.1 20240912 (Red Hat 14.2.1-3) openSUSE Leap 15.6 Kernel: 5.15 Compiler: gcc gcc (SUSE Linux) 7.5.0 Fedora Linux 41 Kernel: 5.15 Compiler: clang gcc (GCC) 14.3.1 20250523 (Red Hat 14.3.1-1) Red Hat Enterprise Linux 9.5 Kernel: 5.15 Compiler: gcc gcc (GCC) 11.5.0 20240719 (Red Hat 11.5.0-2) Ubuntu 22.04 Kernel: 5.15 Compiler: gcc gcc (Ubuntu 11.4.0-1ubuntu1~22.04) 11.4.0 Ubuntu 20.04 Kernel: 5.15 Compiler: gcc gcc (Ubuntu 9.4.0-1ubuntu1~20.04.2) 9.4.0 Ubuntu 24.04 Kernel: 5.15 Compiler: gcc gcc (Ubuntu 13.3.0-6ubuntu2~24.04) 13.3.0 Alpine Linux 3.22.0 Kernel: 5.15 Compiler: gcc gcc (Alpine 14.2.0) 14.2.0 FreeBSD 14.2 Kernel: 14.2-RELEASE Compiler: clang 18.1.6 Windows Server 2022 Kernel: 10.0.20348.2031 Compiler: clang 15.0.7, gcc 14.1.0 (MinGW), and MSVC VS 19.39.33521 To view detailed results, visit: https://lab.dpdk.org/results/dashboard/patchsets/33622/ UNH-IOL DPDK Community Lab To manage your email subscriptions, visit: https://lab.dpdk.org/results/dashboard/preferences/subscriptions/