From mboxrd@z Thu Jan 1 00:00:00 1970 Return-Path: Received: from mails.dpdk.org (mails.dpdk.org [217.70.189.124]) by inbox.dpdk.org (Postfix) with ESMTP id 6FBAA46B34 for ; Thu, 10 Jul 2025 00:01:04 +0200 (CEST) Received: from mails.dpdk.org (localhost [127.0.0.1]) by mails.dpdk.org (Postfix) with ESMTP id 41357402D1; Thu, 10 Jul 2025 00:01:04 +0200 (CEST) Received: from mail-ua1-f100.google.com (mail-ua1-f100.google.com [209.85.222.100]) by mails.dpdk.org (Postfix) with ESMTP id 754CB402D1 for ; Thu, 10 Jul 2025 00:01:02 +0200 (CEST) Received: by mail-ua1-f100.google.com with SMTP id a1e0cc1a2514c-87ec5e1cd4aso195094241.0 for ; Wed, 09 Jul 2025 15:01:02 -0700 (PDT) DKIM-Signature: v=1; a=rsa-sha256; c=relaxed/relaxed; d=iol.unh.edu; s=unh-iol; t=1752098462; x=1752703262; darn=dpdk.org; h=references:in-reply-to:cc:to:from:subject:message-id:date:from:to :cc:subject:date:message-id:reply-to; bh=KGHa194ubI92lCjB5a9EaCmWio6Epiq1C2leIeN3yB4=; b=QuLeH5ot9gm47lwZAinyHFihivYQrpFVt/hMK2FRS/vVAYr07uSH8EhXJDLfoF5n/X HTSnTRVF82DiESi86x7Qi+crWaMP9c6UZlw/gN0k6vAarm05oYH3TIGdLvILbp/eIQc9 GsTVU3qE9LRADxkiTXsVOdWQXh4Zl96HjrlOY= X-Google-DKIM-Signature: v=1; a=rsa-sha256; c=relaxed/relaxed; d=1e100.net; s=20230601; t=1752098462; x=1752703262; h=references:in-reply-to:cc:to:from:subject:message-id:date :x-gm-message-state:from:to:cc:subject:date:message-id:reply-to; bh=KGHa194ubI92lCjB5a9EaCmWio6Epiq1C2leIeN3yB4=; b=rxpWCWzjL9W/LSnQvydJM6rYAm3NGTzcxB1NYP1khZlbMpLbunViSyq0GrA7BIfg0u Z7pV8tuplOn1wCGSQz4LaqrDeunoFPwsxGLkBxbesjF52OMx5lXdF5LJeVkaNjS4vHfp 68NqHEjCIApEepMMadzl9MdzxuMx2eMZ0VM31C2PzJGr2gWor7B9RWHnx7xuBRk/b6fV FHV4f0xf7jzxUPiskB8BQ+vXy7mCR+FJkiyX1d6E1yE0ij2JmHwWUCxeG6fSdC50/Aet JRYRDJChjvctr9fKP86qTzB3FqZvrhQ2uRrCdTqJMyPMqIaODix+EW5iW3etvzGRLbsu ad4Q== X-Gm-Message-State: AOJu0YzY+JFTKvPYus1sBVbIIZFvfVqe1ZBdr+Iodp2vf/a9oV0sSS6L J1+vRkty2xdPr30vOl2il3GH3eVR711ekTaK8L5vEqgC7C2HmrqLvNkxoMzq4BZfWM5SejYRNEo O6ZQMxpijZS9a0E6U2Dtw2urFv07XQkDaMQaF31t7umnJqICpNfMqdTjVItM+ X-Gm-Gg: ASbGncvDNf0qh7CivaeqPdxQjx3RG151PVVuTNcPXRhhn7Tcl35oLjC+jale/WnS7Jt CQjJt8voJAdc/Gv1XTHoGXqzzL1YqzyMAHggdOCfO4lcpR7XRgC2g7tKmj93NLiPnb3mbYDaA/G FoQ0i2o8fcreT20ZgC9kJY3YsH8YOI0sr/HT/MOrskYnFxoG1gmuHicQlDF+RPcHxwkvX2CrbBR 6GpCAAtqkK8faQK+/99qMZi2tRQ7WtofWDuellyjlDUhMar87gqrzqizrrARvDkDtZXLzSx8SLb 8LdSiElLC4qDK+DbXPd53wQaK+jEJxrO3IutW0QhvEbE3oU= X-Google-Smtp-Source: AGHT+IFp2BYipKr6O+KztygMdqDdA0+hL8rK8zFeiK4zvRA43/X8oF7xOqBUQZV+VzEnEw3dlKMPG1gJSS/u X-Received: by 2002:a05:6102:510c:b0:4bc:82f:b4e0 with SMTP id ada2fe7eead31-4f62e1ad900mr181337137.22.1752098461314; Wed, 09 Jul 2025 15:01:01 -0700 (PDT) Received: from postal.iol.unh.edu (postal.iol.unh.edu. [2606:4100:3880:1234::84]) by smtp-relay.gmail.com with ESMTPS id a1e0cc1a2514c-888ec3ec5dcsm3372241.14.2025.07.09.15.01.01 (version=TLS1_2 cipher=ECDHE-ECDSA-AES128-GCM-SHA256 bits=128/128); Wed, 09 Jul 2025 15:01:01 -0700 (PDT) X-Relaying-Domain: iol.unh.edu Date: Wed, 09 Jul 2025 15:01:01 -0700 (PDT) Message-ID: <686ee69d.050a0220.d9e67.02cbSMTPIN_ADDED_MISSING@mx.google.com> Received: from [172.21.0.5] (unknown [172.18.0.240]) by postal.iol.unh.edu (Postfix) with ESMTP id CBF17604D420; Wed, 9 Jul 2025 18:01:00 -0400 (EDT) Subject: |SUCCESS| pw155007 [PATCH] [v2,01/14] net/sxe: add base driver direc From: dpdklab@iol.unh.edu To: Test Report Cc: dpdk-test-reports@iol.unh.edu In-Reply-To: <20250704025401.301617-1-liujie5@linkdatatechnology.com> References: <20250704025401.301617-1-liujie5@linkdatatechnology.com> Content-Type: text/plain X-BeenThere: test-report@dpdk.org X-Mailman-Version: 2.1.29 Precedence: list List-Id: automatic DPDK test reports List-Unsubscribe: , List-Archive: List-Post: List-Help: List-Subscribe: , Errors-To: test-report-bounces@dpdk.org Test-Label: iol-unit-arm64-testing Test-Status: SUCCESS http://dpdk.org/patch/155007 _Testing PASS_ Submitter: Jie Liu Date: Friday, July 04 2025 02:53:48 DPDK git baseline: Repo:dpdk Branch: master CommitID:7e6d6106a4ef052d6a2a6bd6e83c5b16a36c65c9 155007 --> testing pass Upstream job id: Generic-Unit-Test-DPDK#354339 Test environment and result as below: +------------------------------+----------------+---------------------------+--------------+------------------------------+ | Environment | dpdk_unit_test | cryptodev_sw_zuc_autotest | lpm_autotest | cryptodev_sw_snow3g_autotest | +==============================+================+===========================+==============+==============================+ | CentOS Stream 9 | PASS | SKIPPED | SKIPPED | SKIPPED | +------------------------------+----------------+---------------------------+--------------+------------------------------+ | CentOS Stream 10 | PASS | SKIPPED | SKIPPED | SKIPPED | +------------------------------+----------------+---------------------------+--------------+------------------------------+ | Debian GNU/Linux 12 | PASS | SKIPPED | SKIPPED | SKIPPED | +------------------------------+----------------+---------------------------+--------------+------------------------------+ | Fedora Linux 40 | PASS | SKIPPED | SKIPPED | SKIPPED | +------------------------------+----------------+---------------------------+--------------+------------------------------+ | Ubuntu 20.04 | PASS | SKIPPED | PASS | SKIPPED | +------------------------------+----------------+---------------------------+--------------+------------------------------+ | Fedora Linux 41 | PASS | SKIPPED | SKIPPED | SKIPPED | +------------------------------+----------------+---------------------------+--------------+------------------------------+ | Ubuntu 22.04 | PASS | SKIPPED | SKIPPED | SKIPPED | +------------------------------+----------------+---------------------------+--------------+------------------------------+ | Red Hat Enterprise Linux 9.5 | PASS | SKIPPED | SKIPPED | SKIPPED | +------------------------------+----------------+---------------------------+--------------+------------------------------+ | Ubuntu 24.04 | PASS | SKIPPED | SKIPPED | SKIPPED | +------------------------------+----------------+---------------------------+--------------+------------------------------+ | Debian 12 (arm) | SKIPPED | PASS | SKIPPED | PASS | +------------------------------+----------------+---------------------------+--------------+------------------------------+ CentOS Stream 9 Kernel: 5.4 Compiler: gcc gcc (GCC) 11.5.0 20240719 (Red Hat 11.5.0-7) CentOS Stream 10 Kernel: 5.4 Compiler: gcc gcc (GCC) 14.2.1 20250110 (Red Hat 14.2.1-8) Debian GNU/Linux 12 Kernel: 5.4 Compiler: gcc gcc (Debian 12.2.0-14+deb12u1) 12.2.0 Fedora Linux 40 Kernel: 5.4 Compiler: gcc gcc (GCC) 14.2.1 20240912 (Red Hat 14.2.1-3) Ubuntu 20.04 Kernel: 5.4 Compiler: gcc gcc (Ubuntu 9.4.0-1ubuntu1~20.04.2) 9.4.0 Fedora Linux 41 Kernel: 5.4 Compiler: gcc gcc (GCC) 14.3.1 20250523 (Red Hat 14.3.1-1) Ubuntu 22.04 Kernel: 5.4 Compiler: gcc gcc (Ubuntu 11.4.0-1ubuntu1~22.04) 11.4.0 Red Hat Enterprise Linux 9.5 Kernel: 5.4 Compiler: gcc gcc (GCC) 11.5.0 20240719 (Red Hat 11.5.0-2) Ubuntu 24.04 Kernel: 5.4 Compiler: gcc gcc (Ubuntu 13.3.0-6ubuntu2~24.04) 13.3.0 Debian 12 (arm) Kernel: Depends on container host Compiler: gcc (Debian 12.2.0-14) 12.2.0 To view detailed results, visit: https://lab.dpdk.org/results/dashboard/patchsets/33590/ UNH-IOL DPDK Community Lab To manage your email subscriptions, visit: https://lab.dpdk.org/results/dashboard/preferences/subscriptions/