From mboxrd@z Thu Jan 1 00:00:00 1970 Return-Path: Received: from mails.dpdk.org (mails.dpdk.org [217.70.189.124]) by inbox.dpdk.org (Postfix) with ESMTP id 3110F46A86 for ; Thu, 10 Jul 2025 00:49:47 +0200 (CEST) Received: from mails.dpdk.org (localhost [127.0.0.1]) by mails.dpdk.org (Postfix) with ESMTP id 074C94025E; Thu, 10 Jul 2025 00:49:47 +0200 (CEST) Received: from mail-il1-f226.google.com (mail-il1-f226.google.com [209.85.166.226]) by mails.dpdk.org (Postfix) with ESMTP id 64F234025E for ; Thu, 10 Jul 2025 00:49:45 +0200 (CEST) Received: by mail-il1-f226.google.com with SMTP id e9e14a558f8ab-3df2dbe85d1so3233095ab.0 for ; Wed, 09 Jul 2025 15:49:45 -0700 (PDT) DKIM-Signature: v=1; a=rsa-sha256; c=relaxed/relaxed; d=iol.unh.edu; s=unh-iol; t=1752101384; x=1752706184; darn=dpdk.org; h=references:in-reply-to:cc:to:from:subject:message-id:date:from:to :cc:subject:date:message-id:reply-to; bh=cnzOTVrnUFMBx4MAaTPupCGu52mJUe6UbOjbrSN3J9I=; b=F4/cO0p6EeTvaGLRM2A8InT77qbv74Kv4y5FHfAmr6XUxGzaS6BycqdK1Qs2qWSt7q 6JCFaFJUoYiGKkuYtvxkVYNQ4lzP9E38t6+naksSDSFmdXYO+lnmmyF2QjgVt3Pd3mh1 7QBMPM6L5VzZPMnPwTzHyAWxsf802MLmJYC0o= X-Google-DKIM-Signature: v=1; a=rsa-sha256; c=relaxed/relaxed; d=1e100.net; s=20230601; t=1752101384; x=1752706184; h=references:in-reply-to:cc:to:from:subject:message-id:date :x-gm-message-state:from:to:cc:subject:date:message-id:reply-to; bh=cnzOTVrnUFMBx4MAaTPupCGu52mJUe6UbOjbrSN3J9I=; b=XULhhG4/kYVAW4qh5vQ7ezoGP85W0zn0vyH0a7u0ocd1PSUwXu6Vs+p2eQdJrwY7qn 5aHlTDNnoE+j7kSduooreX7pRcX3GxHzsPKAyIpxDYY1xAhCvX0uoNITJxAXlZO3V0cW 17lHTqDu6fQXFOX46JfPwIS52EgE3WWJz91w85A930fN/pZfp+5fYU6OeZ6XcAXRhXZS UJY8i7N4S3+U78qptLzyYEeEvmmwanWIS8/IQRKDhnmwXU68Uyao2/iNzzZ7sFcki/g6 6YCKIS2QjviUpntdNZ4Ua+5zkytCSVGoL7wa2ptxPyVkrEReS1Yd+UIrkIo30Syrctyh RVDA== X-Gm-Message-State: AOJu0Yxxk0+GrRE/5JR8ewWC8vAk65ITFZHg21lADSUCitb85UyzAzma VqljBDFUsDGublvv/iF9Ehph/yfN67G2a0hBO73SYiv5g01LC9RlHJYJSjw+HQQv4srN8SKE8hg OFweJ7VBftmzlaFErJoxEfvBfvYQe3inhGQGqhAzk8k6iDQK40v64QIyce1Z1 X-Gm-Gg: ASbGncvMNi7mh3GCwS/lmUViSdiYqdDzZ8GgIGq99tXq2BSOJg0c3hM3GxHpax70QuU y4ATZE8AJXQruM0Fo3dQtJ1MYnAO0VOLOhLqQzM/bmFI5MQvCTj5yfKusvrdNQBcNAZJJsHz5op RVBKArgThcDUYrQcWlVGANccNa5G8TOfDhKcl7nAz/EIjFWVaEDGK0lBesgolIrVv3iJgaJdjfG h37X0rJAYGNTz22+JdwR8bS0xc5nJevJdyTq/VOOJwYwep9iTHD41LULaFf68UWtQgwd45KjBQ+ EWPGxX1G5bGvmI5R8H5haBnR4XgKtfPgSunlqU82ONqjR4Q= X-Google-Smtp-Source: AGHT+IEOLHrGtvO6EpcBLX8HVEa61A/hR1CvWkz6mXaeOIV3+OtBcBtNG+dtfEIU1Gl1NwX0QlfuBaF1plJU X-Received: by 2002:a05:6e02:12cd:b0:3e1:62df:c74c with SMTP id e9e14a558f8ab-3e2460fc7d6mr4474875ab.9.1752101384623; Wed, 09 Jul 2025 15:49:44 -0700 (PDT) Received: from postal.iol.unh.edu (postal.iol.unh.edu. [2606:4100:3880:1234::84]) by smtp-relay.gmail.com with ESMTPS id 8926c6da1cb9f-50556984295sm10066173.50.2025.07.09.15.49.44 (version=TLS1_2 cipher=ECDHE-ECDSA-AES128-GCM-SHA256 bits=128/128); Wed, 09 Jul 2025 15:49:44 -0700 (PDT) X-Relaying-Domain: iol.unh.edu Date: Wed, 09 Jul 2025 15:49:44 -0700 (PDT) Message-ID: <686ef208.050a0220.38ba54.093dSMTPIN_ADDED_MISSING@mx.google.com> Received: from [172.21.0.6] (unknown [172.18.0.240]) by postal.iol.unh.edu (Postfix) with ESMTP id 21E856051830; Wed, 9 Jul 2025 18:49:44 -0400 (EDT) Subject: |WARNING| pw155106 [PATCH] net/mlx5: fix panic for non template age From: dpdklab@iol.unh.edu To: Test Report Cc: dpdk-test-reports@iol.unh.edu In-Reply-To: <20250709102508.229287-1-mkashani@nvidia.com> References: <20250709102508.229287-1-mkashani@nvidia.com> Content-Type: text/plain X-BeenThere: test-report@dpdk.org X-Mailman-Version: 2.1.29 Precedence: list List-Id: automatic DPDK test reports List-Unsubscribe: , List-Archive: List-Post: List-Help: List-Subscribe: , Errors-To: test-report-bounces@dpdk.org Test-Label: iol-compile-amd64-testing Test-Status: WARNING http://dpdk.org/patch/155106 _Testing issues_ Submitter: Maayan Kashani Date: Wednesday, July 09 2025 10:25:07 DPDK git baseline: Repo:dpdk Branch: master CommitID:6d828a3e774829165137aa2713e3040edd7f46bf 155106 --> testing issues Upstream job id: Windows-Compile-DPDK-Native#29690 Test environment and result as below: +-------------------------------+--------------------+-------------------+------------------+-------------------+-------------------------+ | Environment | dpdk_meson_compile | dpdk_compile_spdk | dpdk_compile_ovs | dpdk_msvc_compile | dpdk_llvm_clang_compile | +===============================+====================+===================+==================+===================+=========================+ | CentOS Stream 9 | PASS | PASS | SKIPPED | SKIPPED | SKIPPED | +-------------------------------+--------------------+-------------------+------------------+-------------------+-------------------------+ | Debian GNU/Linux 12 | PASS | PASS | SKIPPED | SKIPPED | SKIPPED | +-------------------------------+--------------------+-------------------+------------------+-------------------+-------------------------+ | CentOS Stream 10 | PASS | SKIPPED | SKIPPED | SKIPPED | SKIPPED | +-------------------------------+--------------------+-------------------+------------------+-------------------+-------------------------+ | Fedora Linux 40 | PASS | PASS | SKIPPED | SKIPPED | SKIPPED | +-------------------------------+--------------------+-------------------+------------------+-------------------+-------------------------+ | Fedora Linux 41 | PASS | WARN | PASS | SKIPPED | SKIPPED | +-------------------------------+--------------------+-------------------+------------------+-------------------+-------------------------+ | Red Hat Enterprise Linux 8.10 | PASS | SKIPPED | SKIPPED | SKIPPED | SKIPPED | +-------------------------------+--------------------+-------------------+------------------+-------------------+-------------------------+ | openSUSE Leap 15.6 | PASS | SKIPPED | SKIPPED | SKIPPED | SKIPPED | +-------------------------------+--------------------+-------------------+------------------+-------------------+-------------------------+ | Red Hat Enterprise Linux 9.5 | PASS | SKIPPED | SKIPPED | SKIPPED | SKIPPED | +-------------------------------+--------------------+-------------------+------------------+-------------------+-------------------------+ | Ubuntu 20.04 | PASS | SKIPPED | SKIPPED | SKIPPED | SKIPPED | +-------------------------------+--------------------+-------------------+------------------+-------------------+-------------------------+ | Ubuntu 22.04 | PASS | PASS | SKIPPED | SKIPPED | SKIPPED | +-------------------------------+--------------------+-------------------+------------------+-------------------+-------------------------+ | Ubuntu 24.04 | PASS | PASS | PASS | SKIPPED | SKIPPED | +-------------------------------+--------------------+-------------------+------------------+-------------------+-------------------------+ | Alpine Linux 3.22.0 | PASS | SKIPPED | SKIPPED | SKIPPED | SKIPPED | +-------------------------------+--------------------+-------------------+------------------+-------------------+-------------------------+ | FreeBSD 14.2 | PASS | SKIPPED | SKIPPED | SKIPPED | SKIPPED | +-------------------------------+--------------------+-------------------+------------------+-------------------+-------------------------+ | Windows Server 2022 | SKIPPED | SKIPPED | SKIPPED | PASS | PASS | +-------------------------------+--------------------+-------------------+------------------+-------------------+-------------------------+ ==== 20 line log output for Fedora Linux 41 (dpdk_compile_spdk): ==== --- Failed to get log output --- ==== End log output ==== CentOS Stream 9 Kernel: 5.15 Compiler: gcc gcc (GCC) 11.5.0 20240719 (Red Hat 11.5.0-7) Debian GNU/Linux 12 Kernel: 5.15 Compiler: gcc gcc (Debian 12.2.0-14+deb12u1) 12.2.0 CentOS Stream 10 Kernel: 5.15 Compiler: gcc gcc (GCC) 14.2.1 20250110 (Red Hat 14.2.1-8) Fedora Linux 40 Kernel: 5.15 Compiler: clang gcc (GCC) 14.2.1 20240912 (Red Hat 14.2.1-3) Fedora Linux 41 Kernel: 5.15 Compiler: gcc gcc (GCC) 14.3.1 20250523 (Red Hat 14.3.1-1) Red Hat Enterprise Linux 8.10 Kernel: 5.15 Compiler: gcc gcc (GCC) 8.5.0 20210514 (Red Hat 8.5.0-22) openSUSE Leap 15.6 Kernel: 5.15 Compiler: gcc gcc (SUSE Linux) 7.5.0 Red Hat Enterprise Linux 9.5 Kernel: 5.15 Compiler: gcc gcc (GCC) 11.5.0 20240719 (Red Hat 11.5.0-2) Ubuntu 20.04 Kernel: 5.15 Compiler: gcc gcc (Ubuntu 9.4.0-1ubuntu1~20.04.2) 9.4.0 Ubuntu 22.04 Kernel: 5.15 Compiler: gcc gcc (Ubuntu 11.4.0-1ubuntu1~22.04) 11.4.0 Ubuntu 24.04 Kernel: 5.15 Compiler: gcc gcc (Ubuntu 13.3.0-6ubuntu2~24.04) 13.3.0 Alpine Linux 3.22.0 Kernel: 5.15 Compiler: gcc gcc (Alpine 14.2.0) 14.2.0 FreeBSD 14.2 Kernel: 14.2-RELEASE Compiler: clang 18.1.6 Windows Server 2022 Kernel: 10.0.20348.2031 Compiler: clang 15.0.7, gcc 14.1.0 (MinGW), and MSVC VS 19.39.33521 To view detailed results, visit: https://lab.dpdk.org/results/dashboard/patchsets/33625/ UNH-IOL DPDK Community Lab To manage your email subscriptions, visit: https://lab.dpdk.org/results/dashboard/preferences/subscriptions/