From mboxrd@z Thu Jan 1 00:00:00 1970 Return-Path: Received: from mails.dpdk.org (mails.dpdk.org [217.70.189.124]) by inbox.dpdk.org (Postfix) with ESMTP id C0BDC46A86 for ; Thu, 10 Jul 2025 01:14:39 +0200 (CEST) Received: from mails.dpdk.org (localhost [127.0.0.1]) by mails.dpdk.org (Postfix) with ESMTP id AD24A4025E; Thu, 10 Jul 2025 01:14:39 +0200 (CEST) Received: from mail-oo1-f99.google.com (mail-oo1-f99.google.com [209.85.161.99]) by mails.dpdk.org (Postfix) with ESMTP id 60D984025E for ; Thu, 10 Jul 2025 01:14:38 +0200 (CEST) Received: by mail-oo1-f99.google.com with SMTP id 006d021491bc7-6113e68da82so196200eaf.1 for ; Wed, 09 Jul 2025 16:14:38 -0700 (PDT) DKIM-Signature: v=1; a=rsa-sha256; c=relaxed/relaxed; d=iol.unh.edu; s=unh-iol; t=1752102877; x=1752707677; darn=dpdk.org; h=references:in-reply-to:cc:to:from:subject:message-id:date:from:to :cc:subject:date:message-id:reply-to; bh=QX8tn2v/OK4NujtgTfCgVCqMkHg+0ZoaHE9MS7LqGUk=; b=HHK2bkmrDwoxQ7XAidH//duGRudLMGqw5SECQ0aaUHaNHbE9ncN0GhIUesqyh0s9KJ NDrj0fekGBJCYterJm/BAOpF7euM+8Rr5FdDzVGjTsPTtaip2v+ZxEqT0IrnosfxggEZ AYBjRQnDqLCQNFDR6JxR0Oxf0HnG/EGGnzd0U= X-Google-DKIM-Signature: v=1; a=rsa-sha256; c=relaxed/relaxed; d=1e100.net; s=20230601; t=1752102877; x=1752707677; h=references:in-reply-to:cc:to:from:subject:message-id:date :x-gm-message-state:from:to:cc:subject:date:message-id:reply-to; bh=QX8tn2v/OK4NujtgTfCgVCqMkHg+0ZoaHE9MS7LqGUk=; b=Bkyeci1D9apiX/R5iRJ7nraWH5MSws4F7qM4UhIO/QYDSSugDmZghy+g7DAmeCjOU1 vy6d4MXzjLmvFV2uvqW2a8vZM+IB0oTm/pgj1xqoM2poR/8JsXWBvG5RjZjFuSDFe49s z98pPGYn2tSbvX1h+CUf6wMGqIr75pAY9m6iA0ywPj3sXM8BVtCKkKgWxKW41BSOaAX8 YIN6skjIsS5JNxCjhUGdgRxmoXIBkRLsmlcmDUotf7ImBKaCz9k/w9xsqj1zMyJOOn4m IFxOefFiEge3RkNjjorUFLUTXYge4n9o1LhdZT0SdIc0DPlaxZAShgNhMjeXeCT2FgHq PbYw== X-Gm-Message-State: AOJu0Yxr5A41NNYEfr17tsBM8RsTncEZ77eRYsyzXxg8vfwMyl08N3EH +dyFGg5UpvrK98w1Oz19kADLGALs0koOjlY1JR0MB4D+x3ARbNOXZdMyz9l+n7RJGqbzYRzqp3k 26NmFqv5WP+YRk8s01u/N69PlqATNhMSd0E1Eb+A0ThN6 X-Gm-Gg: ASbGncs1d0aGT1GqysiKxHpuB0MjXhWFqe54v6oCtLhfp3+zksr1to98ZJN1AAPa4Yu WVS99vn3U8/UarH1VpRV6XpToyC4NFBgR3Sz16X+L8yeVQiNNlPH99WzIA0oRx4GEqnIXf9IPUx oLFsSRZSlykf7LNx3P42QCiisnCa4Kt8fqRsqLkoJrgBjwycKfsriSIiz9+mrL60E3ZYR8dc+Yp obPTezMnl2yi4p2A/9hL88vRN0gzd8lwaDjUFeWjtRwp2PxvkQaDzx7jeYW463mBoO6vTmLgSDg 9Sa7qgwNpvMR3ghKX+uSs/rDdBH6bk+SEUMZegjCLtSaux5z5gjJQRdKd2aKxAr1p6VzOw== X-Google-Smtp-Source: AGHT+IF3j/lhB1qZ4DD2z5UNzj/a/3UtEmxh/4c2nU5q2+GFPiMNJAPG7Fz30zDty51FntHIkmo8XS03LNBH X-Received: by 2002:a05:6820:2d0b:b0:611:a81d:bdf1 with SMTP id 006d021491bc7-613ccecd306mr3383276eaf.6.1752102877643; Wed, 09 Jul 2025 16:14:37 -0700 (PDT) Received: from postal.iol.unh.edu (postal.iol.unh.edu. [132.177.123.84]) by smtp-relay.gmail.com with ESMTPS id 006d021491bc7-613d9d75e7dsm6885eaf.4.2025.07.09.16.14.37 (version=TLS1_2 cipher=ECDHE-ECDSA-AES128-GCM-SHA256 bits=128/128); Wed, 09 Jul 2025 16:14:37 -0700 (PDT) X-Relaying-Domain: iol.unh.edu Date: Wed, 09 Jul 2025 16:14:37 -0700 (PDT) Message-ID: <686ef7dd.050a0220.2ba73a.05caSMTPIN_ADDED_MISSING@mx.google.com> Received: from [172.21.0.14] (unknown [172.18.0.240]) by postal.iol.unh.edu (Postfix) with ESMTP id AA66B6051830; Wed, 9 Jul 2025 19:14:36 -0400 (EDT) Subject: |SUCCESS| pw155011 [PATCH] app/testpmd: allow multiple cmdline-file From: dpdklab@iol.unh.edu To: Test Report Cc: dpdk-test-reports@iol.unh.edu In-Reply-To: <20250704140551.4151993-1-bruce.richardson@intel.com> References: <20250704140551.4151993-1-bruce.richardson@intel.com> Content-Type: text/plain X-BeenThere: test-report@dpdk.org X-Mailman-Version: 2.1.29 Precedence: list List-Id: automatic DPDK test reports List-Unsubscribe: , List-Archive: List-Post: List-Help: List-Subscribe: , Errors-To: test-report-bounces@dpdk.org Test-Label: iol-abi-testing Test-Status: SUCCESS http://dpdk.org/patch/155011 _Testing PASS_ Submitter: Bruce Richardson Date: Friday, July 04 2025 14:05:51 DPDK git baseline: Repo:dpdk Branch: master CommitID:ba982f9a1ca9b96ed0394b764f1523d482e963a2 155011 --> testing pass Upstream job id: Generic-DPDK-Compile-ABI#133878 Test environment and result as below: +-------------------------------+----------+ | Environment | abi_test | +===============================+==========+ | CentOS Stream 9 | PASS | +-------------------------------+----------+ | CentOS Stream 10 | PASS | +-------------------------------+----------+ | Debian GNU/Linux 12 | PASS | +-------------------------------+----------+ | Fedora Linux 40 | PASS | +-------------------------------+----------+ | Fedora Linux 41 | PASS | +-------------------------------+----------+ | Red Hat Enterprise Linux 8.10 | PASS | +-------------------------------+----------+ | openSUSE Leap 15.6 | PASS | +-------------------------------+----------+ | Red Hat Enterprise Linux 9.5 | PASS | +-------------------------------+----------+ | Ubuntu 22.04 | PASS | +-------------------------------+----------+ | Ubuntu 24.04 | PASS | +-------------------------------+----------+ CentOS Stream 9 Kernel: 5.15 Compiler: gcc gcc (GCC) 11.5.0 20240719 (Red Hat 11.5.0-7) CentOS Stream 10 Kernel: 5.15 Compiler: gcc gcc (GCC) 14.2.1 20250110 (Red Hat 14.2.1-8) Debian GNU/Linux 12 Kernel: 5.15 Compiler: gcc gcc (Debian 12.2.0-14+deb12u1) 12.2.0 Fedora Linux 40 Kernel: 5.15 Compiler: clang gcc (GCC) 14.2.1 20240912 (Red Hat 14.2.1-3) Fedora Linux 41 Kernel: 5.15 Compiler: clang gcc (GCC) 14.3.1 20250523 (Red Hat 14.3.1-1) Red Hat Enterprise Linux 8.10 Kernel: 5.15 Compiler: gcc gcc (GCC) 8.5.0 20210514 (Red Hat 8.5.0-22) openSUSE Leap 15.6 Kernel: 5.15 Compiler: gcc gcc (SUSE Linux) 7.5.0 Red Hat Enterprise Linux 9.5 Kernel: 5.15 Compiler: gcc gcc (GCC) 11.5.0 20240719 (Red Hat 11.5.0-2) Ubuntu 22.04 Kernel: 5.15 Compiler: gcc gcc (Ubuntu 11.4.0-1ubuntu1~22.04) 11.4.0 Ubuntu 24.04 Kernel: 5.15 Compiler: gcc gcc (Ubuntu 13.3.0-6ubuntu2~24.04) 13.3.0 To view detailed results, visit: https://lab.dpdk.org/results/dashboard/patchsets/33594/ UNH-IOL DPDK Community Lab To manage your email subscriptions, visit: https://lab.dpdk.org/results/dashboard/preferences/subscriptions/