From mboxrd@z Thu Jan 1 00:00:00 1970 Return-Path: Received: from mails.dpdk.org (mails.dpdk.org [217.70.189.124]) by inbox.dpdk.org (Postfix) with ESMTP id 0813946A86 for ; Thu, 10 Jul 2025 01:16:37 +0200 (CEST) Received: from mails.dpdk.org (localhost [127.0.0.1]) by mails.dpdk.org (Postfix) with ESMTP id DA9094025E; Thu, 10 Jul 2025 01:16:36 +0200 (CEST) Received: from mail-pf1-f228.google.com (mail-pf1-f228.google.com [209.85.210.228]) by mails.dpdk.org (Postfix) with ESMTP id B6D124025E for ; Thu, 10 Jul 2025 01:16:35 +0200 (CEST) Received: by mail-pf1-f228.google.com with SMTP id d2e1a72fcca58-74b54af901bso286279b3a.2 for ; Wed, 09 Jul 2025 16:16:35 -0700 (PDT) DKIM-Signature: v=1; a=rsa-sha256; c=relaxed/relaxed; d=iol.unh.edu; s=unh-iol; t=1752102995; x=1752707795; darn=dpdk.org; h=references:in-reply-to:cc:to:from:subject:message-id:date:from:to :cc:subject:date:message-id:reply-to; bh=qJWBvBWNcVPF1acEGvTE/AjwHWwk0/O7/tonzgEwqXU=; b=ZCEhU2irSvA+aMvXXilvMWDzxu/t5NLLxXrVgeysz4hlmPy/vD4G1mPBZP9uPXcq/k y0K7yg8vB4GuYBNsdx1NQn2K2yn3ldDVGYn4V7wjveaJjoOdOiKfOx7tldOvVxzefnd9 JMT/xnIciBtVdvrl57aO0YRYjwq/C9Rwee2f0= X-Google-DKIM-Signature: v=1; a=rsa-sha256; c=relaxed/relaxed; d=1e100.net; s=20230601; t=1752102995; x=1752707795; h=references:in-reply-to:cc:to:from:subject:message-id:date :x-gm-message-state:from:to:cc:subject:date:message-id:reply-to; bh=qJWBvBWNcVPF1acEGvTE/AjwHWwk0/O7/tonzgEwqXU=; b=gr9MZEL+QBIDqck0/nXR99c+wvOMQay/K/DKDE+oWo+o/VIQysgbe+wyjwmEXiuT/T 1CJyjhep15lpMoSsMF/wnFoBR31gNu5LXFHF8YdBy/y75qzhojfmYO4fwfY+UAvEebev uDMuoy86DcjOd5NAzk6E3t2ki7iOflDP0QMEOZ0401XPR/gnHkNc2Pi+QyPVguXaPxVr oePsNrBNlwCt9nEeAwDcNiG8Vixy92lQTI4qsUDT/3AVuDnWrIwWJ6QzmOxDZelV5+NM AQ2dCClRsp4RvpBoG8s2K1pYFkw3W/3YtoqdifTxvNL/7DQ0DS8eirdfW6szRqmrYHs/ QhLg== X-Gm-Message-State: AOJu0YxWBk5KypDXASQfySRvdh8PrZ2i6XhcnAYz9RdCPk6ShTYK2CCv /pvQqekjDphpg7vn+NyoKSz4+8if245e4b++FPnzAB4SE5/8cFm/0HguJxTcgwO52+fajOIlobT HR+IHytyISyA4xDXxS6mFBmFZ70UHd7QxA+MZ06GtpLJg X-Gm-Gg: ASbGncvxCB0pt3dDRemc20kcvGOgrDDVCzIjettU1Qy8mGLOu6TUjLc84ILURTA63ci 5fX0W4I44ID3u5u+2wZrQvDjc7QNNlLGMjnzUP2Zhj6sw1d3ZN8e4cLCqnGPQw3F0n8BQqCbiNX qnHiMc2X+PpR9pbpBBWBNw/XYToe+IRRIfk1Z5zi8nhFa59Js+UW7GC9otWVOzzD3USzzSBuwJU OL1Jv0kqIsYgCutDNlH4OaIOZihRpT57mLEiGbXwxqw40LC0u9itPLBawzdxBHsB+y0GmY1l7NV mrswuaPykO4me+IWxI+L4xY6OFcUt8Q5FT6kvXF5BmTeKoWTprfC+3SVEN2LDWthGKPVZQ== X-Google-Smtp-Source: AGHT+IFgFza0eeR3Jq5p+jw9qj7Fu1kEmSjJqhSzX+svVsePrrQYWruVVWp+gsNTxKWip24fEfubCfHpwjzs X-Received: by 2002:a05:6a00:3e09:b0:748:e1e4:71ec with SMTP id d2e1a72fcca58-74ea6641d12mr6680596b3a.12.1752102994843; Wed, 09 Jul 2025 16:16:34 -0700 (PDT) Received: from postal.iol.unh.edu (postal.iol.unh.edu. [132.177.123.84]) by smtp-relay.gmail.com with ESMTPS id d2e1a72fcca58-74eb9f90aa0sm4975b3a.23.2025.07.09.16.16.34 (version=TLS1_2 cipher=ECDHE-ECDSA-AES128-GCM-SHA256 bits=128/128); Wed, 09 Jul 2025 16:16:34 -0700 (PDT) X-Relaying-Domain: iol.unh.edu Date: Wed, 09 Jul 2025 16:16:34 -0700 (PDT) Message-ID: <686ef852.050a0220.1f2b14.04c5SMTPIN_ADDED_MISSING@mx.google.com> Received: from [172.21.0.9] (unknown [172.18.0.240]) by postal.iol.unh.edu (Postfix) with ESMTP id 0D0456051830; Wed, 9 Jul 2025 19:16:33 -0400 (EDT) Subject: |SUCCESS| pw155011 [PATCH] app/testpmd: allow multiple cmdline-file From: dpdklab@iol.unh.edu To: Test Report Cc: dpdk-test-reports@iol.unh.edu In-Reply-To: <20250704140551.4151993-1-bruce.richardson@intel.com> References: <20250704140551.4151993-1-bruce.richardson@intel.com> Content-Type: text/plain X-BeenThere: test-report@dpdk.org X-Mailman-Version: 2.1.29 Precedence: list List-Id: automatic DPDK test reports List-Unsubscribe: , List-Archive: List-Post: List-Help: List-Subscribe: , Errors-To: test-report-bounces@dpdk.org Test-Label: iol-abi-testing Test-Status: SUCCESS http://dpdk.org/patch/155011 _Testing PASS_ Submitter: Bruce Richardson Date: Friday, July 04 2025 14:05:51 DPDK git baseline: Repo:dpdk Branch: master CommitID:ba982f9a1ca9b96ed0394b764f1523d482e963a2 155011 --> testing pass Upstream job id: Generic-DPDK-Compile-ABI#133873 Test environment and result as below: +-------------------------------+----------+ | Environment | abi_test | +===============================+==========+ | CentOS Stream 9 | PASS | +-------------------------------+----------+ | CentOS Stream 10 | PASS | +-------------------------------+----------+ | Debian GNU/Linux 12 | PASS | +-------------------------------+----------+ | Fedora Linux 40 | PASS | +-------------------------------+----------+ | Fedora Linux 41 | PASS | +-------------------------------+----------+ | Red Hat Enterprise Linux 8.10 | PASS | +-------------------------------+----------+ | openSUSE Leap 15.6 | PASS | +-------------------------------+----------+ | Red Hat Enterprise Linux 9.5 | PASS | +-------------------------------+----------+ | Ubuntu 22.04 | PASS | +-------------------------------+----------+ | Ubuntu 24.04 | PASS | +-------------------------------+----------+ CentOS Stream 9 Kernel: 5.15 Compiler: gcc gcc (GCC) 11.5.0 20240719 (Red Hat 11.5.0-7) CentOS Stream 10 Kernel: 5.15 Compiler: gcc gcc (GCC) 14.2.1 20250110 (Red Hat 14.2.1-8) Debian GNU/Linux 12 Kernel: 5.15 Compiler: gcc gcc (Debian 12.2.0-14+deb12u1) 12.2.0 Fedora Linux 40 Kernel: 5.15 Compiler: clang gcc (GCC) 14.2.1 20240912 (Red Hat 14.2.1-3) Fedora Linux 41 Kernel: 5.15 Compiler: clang gcc (GCC) 14.3.1 20250523 (Red Hat 14.3.1-1) Red Hat Enterprise Linux 8.10 Kernel: 5.15 Compiler: gcc gcc (GCC) 8.5.0 20210514 (Red Hat 8.5.0-22) openSUSE Leap 15.6 Kernel: 5.15 Compiler: gcc gcc (SUSE Linux) 7.5.0 Red Hat Enterprise Linux 9.5 Kernel: 5.15 Compiler: gcc gcc (GCC) 11.5.0 20240719 (Red Hat 11.5.0-2) Ubuntu 22.04 Kernel: 5.15 Compiler: gcc gcc (Ubuntu 11.4.0-1ubuntu1~22.04) 11.4.0 Ubuntu 24.04 Kernel: 5.15 Compiler: gcc gcc (Ubuntu 13.3.0-6ubuntu2~24.04) 13.3.0 To view detailed results, visit: https://lab.dpdk.org/results/dashboard/patchsets/33594/ UNH-IOL DPDK Community Lab To manage your email subscriptions, visit: https://lab.dpdk.org/results/dashboard/preferences/subscriptions/