From mboxrd@z Thu Jan 1 00:00:00 1970 Return-Path: Received: from mails.dpdk.org (mails.dpdk.org [217.70.189.124]) by inbox.dpdk.org (Postfix) with ESMTP id BA17D46A86 for ; Thu, 10 Jul 2025 01:34:49 +0200 (CEST) Received: from mails.dpdk.org (localhost [127.0.0.1]) by mails.dpdk.org (Postfix) with ESMTP id AD0A54025E; Thu, 10 Jul 2025 01:34:49 +0200 (CEST) Received: from mail-pf1-f227.google.com (mail-pf1-f227.google.com [209.85.210.227]) by mails.dpdk.org (Postfix) with ESMTP id 89E194025E for ; Thu, 10 Jul 2025 01:34:48 +0200 (CEST) Received: by mail-pf1-f227.google.com with SMTP id d2e1a72fcca58-74b54af901bso292139b3a.2 for ; Wed, 09 Jul 2025 16:34:48 -0700 (PDT) DKIM-Signature: v=1; a=rsa-sha256; c=relaxed/relaxed; d=iol.unh.edu; s=unh-iol; t=1752104087; x=1752708887; darn=dpdk.org; h=references:in-reply-to:cc:to:from:subject:message-id:date:from:to :cc:subject:date:message-id:reply-to; bh=0jQH6nCKRkRGxlZ2QIjy/X3SKta6TyROMusWzCnsdSM=; b=XWHDPIcvmrzYSow1RZUIQ0CTEPe6qOU67l2dZA9Afpf6YSdMKn8j8CnQ06zVBKkji2 i+OmHnnzLV1wauNMaeuFLlY7+YnGGsvCBgz6eNT7M3QmAJ1lU4IDW3GOVzNn5D7Riy2f zRHAtnJSQwz2lxN/mPh3K/rJBk9apFE7njEzU= X-Google-DKIM-Signature: v=1; a=rsa-sha256; c=relaxed/relaxed; d=1e100.net; s=20230601; t=1752104087; x=1752708887; h=references:in-reply-to:cc:to:from:subject:message-id:date :x-gm-message-state:from:to:cc:subject:date:message-id:reply-to; bh=0jQH6nCKRkRGxlZ2QIjy/X3SKta6TyROMusWzCnsdSM=; b=uxY5FflByodCZz8VNHnzISz8Bi8TTzMbVji4PF/+azZzPZYuNQx0DS80ma9V7PgM7t vfPItMivc5W8mTrospel8DCyMtd2xjB2hljvMVKlQjKP4J7mm79+FzqIphP4/205y+DG QbTT3zhM0sZURvvgZ0mKNAkZ3eIVJBqB+w/6z077dmbm+G+ggJ3a48FM2y+d2cERlcvU KM1i8zU4/4J01F7M4jkg78vGGCoZEIm5i8lNZlcacKHkx1wiVMZHta7sn+9gV+yg+rHN sgGERMCcHxFe9/2VoYRaCR/XlnZ04TOonmNxsceemPfn8zN3zdI4DSArP29OAepxVYYL orYg== X-Gm-Message-State: AOJu0YzNknsRSDOWLJb+5DB2BbluaTBjHhLPJ9oz648e6PNXZLwkY1BZ oMQRuU1HLMDhdShPviG3On86rWYWT06sXiwowcfZ2gN2fiTRGhxaAw3MQjDI29kjNG4hwGOALb8 hYpOGf6TiHA3wE87U7jo7LzO0tZT1VhTVcPg5KKwLZJ4l X-Gm-Gg: ASbGncttpUrN23YgBiXpnCfQ6mFITOmMlKk54HJfa6CEArB5xa114IP439/XhnDWK5u kW9Cyj5m2yeWRBtCEJnm0sI7UbkHAvaHBopVhjnLKwl+5y164VFif1x0WiZy5nT6AXMjHBO+j87 s0Ia99+TEx8bMt8vJYSw0R6b0OkZGRI28Lch3fXak7JabxE7MOuNDJafXRa20lKM6pYvUn81ymD AXc2BO37IQlrbBCT/zFzQJ/rUDi6PhD8w1nqwlTtylhtsn8NlIhZXIbgz4pTrlOKwBAly/7fdJe nwqwdZx+8aW9IrDVoM2YeVM/gfFoJbE4YUx3PyUf9czYowfaEVqcGLxgUOvrEQWmNRpf8g== X-Google-Smtp-Source: AGHT+IEBeTWJEhqBEsGFRFA083odRCHa8kpvhbXVVSIvrf3cMQSPUox+4Tv2GaRLf3Y9Wri/WINeXLvQGY0H X-Received: by 2002:a17:902:ebcb:b0:234:8ec1:4af6 with SMTP id d9443c01a7336-23ddb3444c1mr62158975ad.45.1752104087599; Wed, 09 Jul 2025 16:34:47 -0700 (PDT) Received: from postal.iol.unh.edu (postal.iol.unh.edu. [132.177.123.84]) by smtp-relay.gmail.com with ESMTPS id d9443c01a7336-23de434d5ecsm160225ad.128.2025.07.09.16.34.47 (version=TLS1_2 cipher=ECDHE-ECDSA-AES128-GCM-SHA256 bits=128/128); Wed, 09 Jul 2025 16:34:47 -0700 (PDT) X-Relaying-Domain: iol.unh.edu Date: Wed, 09 Jul 2025 16:34:47 -0700 (PDT) Message-ID: <686efc97.170a0220.d1f3d.0e93SMTPIN_ADDED_MISSING@mx.google.com> Received: from [172.21.0.5] (unknown [172.18.0.240]) by postal.iol.unh.edu (Postfix) with ESMTP id 1AD6B6050A61; Wed, 9 Jul 2025 19:34:47 -0400 (EDT) Subject: |SUCCESS| pw155109 [PATCH] [v2] test_bbdev: enable to be compiled on From: dpdklab@iol.unh.edu To: Test Report Cc: dpdk-test-reports@iol.unh.edu In-Reply-To: <1752074012-14869-1-git-send-email-andremue@linux.microsoft.com> References: <1752074012-14869-1-git-send-email-andremue@linux.microsoft.com> Content-Type: text/plain X-BeenThere: test-report@dpdk.org X-Mailman-Version: 2.1.29 Precedence: list List-Id: automatic DPDK test reports List-Unsubscribe: , List-Archive: List-Post: List-Help: List-Subscribe: , Errors-To: test-report-bounces@dpdk.org Test-Label: iol-compile-arm64-testing Test-Status: SUCCESS http://dpdk.org/patch/155109 _Testing PASS_ Submitter: Andre Muezerie Date: Wednesday, July 09 2025 15:13:32 DPDK git baseline: Repo:dpdk Branch: master CommitID:19154c548d15cfa4928fcfb208b381d377039519 155109 --> testing pass Upstream job id: Generic-DPDK-Compile-Meson#407418 Test environment and result as below: +------------------------------+--------------------+ | Environment | dpdk_meson_compile | +==============================+====================+ | Red Hat Enterprise Linux 9.5 | PASS | +------------------------------+--------------------+ | Ubuntu 20.04 | PASS | +------------------------------+--------------------+ | Fedora Linux 40 | PASS | +------------------------------+--------------------+ | Debian GNU/Linux 12 | PASS | +------------------------------+--------------------+ | Fedora Linux 41 | PASS | +------------------------------+--------------------+ | Ubuntu 22.04 | PASS | +------------------------------+--------------------+ | Ubuntu 24.04 | PASS | +------------------------------+--------------------+ | CentOS Stream 9 | PASS | +------------------------------+--------------------+ | CentOS Stream 10 | PASS | +------------------------------+--------------------+ Red Hat Enterprise Linux 9.5 Kernel: 5.4 Compiler: gcc gcc (GCC) 11.5.0 20240719 (Red Hat 11.5.0-2) Ubuntu 20.04 Kernel: 5.15 Compiler: aarch64-linux-gnu-gcc gcc (Ubuntu 9.4.0-1ubuntu1~20.04.2) 9.4.0 Fedora Linux 40 Kernel: 5.4 Compiler: gcc gcc (GCC) 14.2.1 20240912 (Red Hat 14.2.1-3) Debian GNU/Linux 12 Kernel: 5.4 Compiler: gcc gcc (Debian 12.2.0-14+deb12u1) 12.2.0 Fedora Linux 41 Kernel: 5.4 Compiler: clang gcc (GCC) 14.3.1 20250523 (Red Hat 14.3.1-1) Ubuntu 22.04 Kernel: 5.4 Compiler: gcc gcc (Ubuntu 11.4.0-1ubuntu1~22.04) 11.4.0 Ubuntu 24.04 Kernel: 5.4 Compiler: gcc gcc (Ubuntu 13.3.0-6ubuntu2~24.04) 13.3.0 CentOS Stream 9 Kernel: 5.4 Compiler: gcc gcc (GCC) 11.5.0 20240719 (Red Hat 11.5.0-7) CentOS Stream 10 Kernel: 5.4 Compiler: gcc gcc (GCC) 14.2.1 20250110 (Red Hat 14.2.1-8) To view detailed results, visit: https://lab.dpdk.org/results/dashboard/patchsets/33628/ UNH-IOL DPDK Community Lab To manage your email subscriptions, visit: https://lab.dpdk.org/results/dashboard/preferences/subscriptions/