From mboxrd@z Thu Jan 1 00:00:00 1970 Return-Path: Received: from mails.dpdk.org (mails.dpdk.org [217.70.189.124]) by inbox.dpdk.org (Postfix) with ESMTP id BD80646A87 for ; Thu, 10 Jul 2025 02:04:59 +0200 (CEST) Received: from mails.dpdk.org (localhost [127.0.0.1]) by mails.dpdk.org (Postfix) with ESMTP id B7CD04025E; Thu, 10 Jul 2025 02:04:59 +0200 (CEST) Received: from mail-pg1-f225.google.com (mail-pg1-f225.google.com [209.85.215.225]) by mails.dpdk.org (Postfix) with ESMTP id D69DF4025E for ; Thu, 10 Jul 2025 02:04:57 +0200 (CEST) Received: by mail-pg1-f225.google.com with SMTP id 41be03b00d2f7-b3220c39cffso518017a12.0 for ; Wed, 09 Jul 2025 17:04:57 -0700 (PDT) DKIM-Signature: v=1; a=rsa-sha256; c=relaxed/relaxed; d=iol.unh.edu; s=unh-iol; t=1752105897; x=1752710697; darn=dpdk.org; h=references:in-reply-to:cc:to:from:subject:message-id:date:from:to :cc:subject:date:message-id:reply-to; bh=vRHMKlHWCdV4WKZMiTtPIzkiK2s3z37AojiAaQPuXTo=; b=dTaz2COb8QqUdI1YHDiqJ3mFQYLOP/e8eSTVfy8W2/CcxEKkmQWHRnuyCfjj8j6SoL 0T98OybdNse2vuJsq2RFjJtBLPY0vvMvQFw0zEGCqJieJ0ocOTVpZA8XLuEuAFeU3HUS gzmsh4sYLHRdmxnLvmCX6mOYsDcvvIUEc3ZvI= X-Google-DKIM-Signature: v=1; a=rsa-sha256; c=relaxed/relaxed; d=1e100.net; s=20230601; t=1752105897; x=1752710697; h=references:in-reply-to:cc:to:from:subject:message-id:date :x-gm-message-state:from:to:cc:subject:date:message-id:reply-to; bh=vRHMKlHWCdV4WKZMiTtPIzkiK2s3z37AojiAaQPuXTo=; b=RmowzOzdI+pCRsnKCpYnnKJYNYdRY3UK/XZ4xjvzTbWlWtz8w73b8pKLG+Ri/K5BYT gnr7YPkknPcI311ugyOetZbjA57xqEftVJt02vCr6rDs5ezLXdIoBkBsbXBDPvBi2wsr 4enfOLfYNpENOQ7KR9mib+pvp4TMjYuOkfxUTNlB/CLivjXNoN+GY9stz89JdVxskUev gTnqsm0QQOyTqK4YKVPNK10kjtMcYWlL6FpbyVHFt6CrQ6EQwbHqadhY+BomklB7chzX E1/yZPmzqN8oFNo16630yRc9sGvPjA2pE+51VvUkyHL/+afJj4bFSS1TXgLR7oo6kfCS rIew== X-Gm-Message-State: AOJu0Yy98zLnV2URFOpUx3++l2khnn6mWgO7Y+ucL8x9MDMz8jSl5qFV bJl6fEH/NkLQ9gWa5KtlEqhDy1lxLO8MKN/lb7P74LF1FyrdldTBOqGVKN3FGuOQG6A6fTgroIa MsTSDVyn1ppjw8JU/EhzE6B+3e7WrZxgmyWyDGQ7vlgdn X-Gm-Gg: ASbGncshFNIYOckDMuE216VFH1WfRy2FABySVluhoUPMsqyymYv25ddAEmP8LbSLY72 iDZQ9uTFHlii8TAQ+DpkDsQ0eKc24lMOUqH4UMiW+06PvvYhKB/o1DxfgaPYqx0bc0vWs63/3Vt 8tmz1/ssqD/0DFaTDnqzFPluhNV5MFbxJfpzjlG4EDLk/lxhQwVAK5reIoo4oehcPD26qZOgfh+ i/BXhxRG6a5RBHjDNBI02D4WXwfMtqodLf+cfd0nqF5pU73EfHqCspyxZFODUI7vfYewP8Zf016 HfXwAkvy0dzpF/1UEkOqCxxA8bxbl0owgdRxxQS76N9VW/XryymH8Zx5QFs4nm+woIvu2Q== X-Google-Smtp-Source: AGHT+IGYAgA2KjSQUH8Xq2x+PHcOcJUYuVQY+QY0LPzR9Fr1xWljweqzjckWi4qn0o85RczqiViKuc+yz1aZ X-Received: by 2002:a17:90b:3b4a:b0:313:5d2f:5505 with SMTP id 98e67ed59e1d1-31c3eff0de4mr893555a91.16.1752105896902; Wed, 09 Jul 2025 17:04:56 -0700 (PDT) Received: from postal.iol.unh.edu (postal.iol.unh.edu. [132.177.123.84]) by smtp-relay.gmail.com with ESMTPS id d9443c01a7336-23de433056csm166125ad.91.2025.07.09.17.04.56 (version=TLS1_2 cipher=ECDHE-ECDSA-AES128-GCM-SHA256 bits=128/128); Wed, 09 Jul 2025 17:04:56 -0700 (PDT) X-Relaying-Domain: iol.unh.edu Date: Wed, 09 Jul 2025 17:04:56 -0700 (PDT) Message-ID: <686f03a8.170a0220.3cbab3.0ef9SMTPIN_ADDED_MISSING@mx.google.com> Received: from [172.21.0.12] (unknown [172.18.0.240]) by postal.iol.unh.edu (Postfix) with ESMTP id 138196051830; Wed, 9 Jul 2025 20:04:56 -0400 (EDT) Subject: |SUCCESS| pw155011 [PATCH] app/testpmd: allow multiple cmdline-file From: dpdklab@iol.unh.edu To: Test Report Cc: dpdk-test-reports@iol.unh.edu In-Reply-To: <20250704140551.4151993-1-bruce.richardson@intel.com> References: <20250704140551.4151993-1-bruce.richardson@intel.com> Content-Type: text/plain X-BeenThere: test-report@dpdk.org X-Mailman-Version: 2.1.29 Precedence: list List-Id: automatic DPDK test reports List-Unsubscribe: , List-Archive: List-Post: List-Help: List-Subscribe: , Errors-To: test-report-bounces@dpdk.org Test-Label: iol-unit-arm64-testing Test-Status: SUCCESS http://dpdk.org/patch/155011 _Testing PASS_ Submitter: Bruce Richardson Date: Friday, July 04 2025 14:05:51 DPDK git baseline: Repo:dpdk Branch: master CommitID:ba982f9a1ca9b96ed0394b764f1523d482e963a2 155011 --> testing pass Upstream job id: Generic-Unit-Test-DPDK#354403 Test environment and result as below: +------------------------------+------------------------------+--------------+---------------------------+----------------+ | Environment | cryptodev_sw_snow3g_autotest | lpm_autotest | cryptodev_sw_zuc_autotest | dpdk_unit_test | +==============================+==============================+==============+===========================+================+ | Debian 12 (arm) | PASS | SKIPPED | PASS | SKIPPED | +------------------------------+------------------------------+--------------+---------------------------+----------------+ | Ubuntu 20.04 | SKIPPED | PASS | SKIPPED | PASS | +------------------------------+------------------------------+--------------+---------------------------+----------------+ | Fedora Linux 40 | SKIPPED | SKIPPED | SKIPPED | PASS | +------------------------------+------------------------------+--------------+---------------------------+----------------+ | CentOS Stream 10 | SKIPPED | SKIPPED | SKIPPED | PASS | +------------------------------+------------------------------+--------------+---------------------------+----------------+ | CentOS Stream 9 | SKIPPED | SKIPPED | SKIPPED | PASS | +------------------------------+------------------------------+--------------+---------------------------+----------------+ | Fedora Linux 41 | SKIPPED | SKIPPED | SKIPPED | PASS | +------------------------------+------------------------------+--------------+---------------------------+----------------+ | Debian GNU/Linux 12 | SKIPPED | SKIPPED | SKIPPED | PASS | +------------------------------+------------------------------+--------------+---------------------------+----------------+ | Red Hat Enterprise Linux 9.5 | SKIPPED | SKIPPED | SKIPPED | PASS | +------------------------------+------------------------------+--------------+---------------------------+----------------+ | Ubuntu 24.04 | SKIPPED | SKIPPED | SKIPPED | PASS | +------------------------------+------------------------------+--------------+---------------------------+----------------+ | Ubuntu 22.04 | SKIPPED | SKIPPED | SKIPPED | PASS | +------------------------------+------------------------------+--------------+---------------------------+----------------+ Debian 12 (arm) Kernel: Depends on container host Compiler: gcc (Debian 12.2.0-14) 12.2.0 Ubuntu 20.04 Kernel: 5.4 Compiler: gcc gcc (Ubuntu 9.4.0-1ubuntu1~20.04.2) 9.4.0 Fedora Linux 40 Kernel: 5.4 Compiler: clang gcc (GCC) 14.2.1 20240912 (Red Hat 14.2.1-3) CentOS Stream 10 Kernel: 5.4 Compiler: gcc gcc (GCC) 14.2.1 20250110 (Red Hat 14.2.1-8) CentOS Stream 9 Kernel: 5.4 Compiler: gcc gcc (GCC) 11.5.0 20240719 (Red Hat 11.5.0-7) Fedora Linux 41 Kernel: 5.4 Compiler: clang gcc (GCC) 14.3.1 20250523 (Red Hat 14.3.1-1) Debian GNU/Linux 12 Kernel: 5.4 Compiler: gcc gcc (Debian 12.2.0-14+deb12u1) 12.2.0 Red Hat Enterprise Linux 9.5 Kernel: 5.4 Compiler: gcc gcc (GCC) 11.5.0 20240719 (Red Hat 11.5.0-2) Ubuntu 24.04 Kernel: 5.4 Compiler: gcc gcc (Ubuntu 13.3.0-6ubuntu2~24.04) 13.3.0 Ubuntu 22.04 Kernel: 5.4 Compiler: gcc gcc (Ubuntu 11.4.0-1ubuntu1~22.04) 11.4.0 To view detailed results, visit: https://lab.dpdk.org/results/dashboard/patchsets/33594/ UNH-IOL DPDK Community Lab To manage your email subscriptions, visit: https://lab.dpdk.org/results/dashboard/preferences/subscriptions/