From mboxrd@z Thu Jan 1 00:00:00 1970 Return-Path: Received: from mails.dpdk.org (mails.dpdk.org [217.70.189.124]) by inbox.dpdk.org (Postfix) with ESMTP id 0B40746A87 for ; Thu, 10 Jul 2025 02:06:39 +0200 (CEST) Received: from mails.dpdk.org (localhost [127.0.0.1]) by mails.dpdk.org (Postfix) with ESMTP id F23574025E; Thu, 10 Jul 2025 02:06:38 +0200 (CEST) Received: from mail-pj1-f99.google.com (mail-pj1-f99.google.com [209.85.216.99]) by mails.dpdk.org (Postfix) with ESMTP id C3CD54025E for ; Thu, 10 Jul 2025 02:06:37 +0200 (CEST) Received: by mail-pj1-f99.google.com with SMTP id 98e67ed59e1d1-313cde344d4so598413a91.0 for ; Wed, 09 Jul 2025 17:06:37 -0700 (PDT) DKIM-Signature: v=1; a=rsa-sha256; c=relaxed/relaxed; d=iol.unh.edu; s=unh-iol; t=1752105997; x=1752710797; darn=dpdk.org; h=references:in-reply-to:cc:to:from:subject:message-id:date:from:to :cc:subject:date:message-id:reply-to; bh=YEzwLaeIoaBnhoAspf2mJhbxthW2wBp+hUlEdwJZqfA=; b=HddskzQ9um5eFLJaaygFrFpU+szivUZnKTjKgidqqJEznwk9PT/C3CyaJBceuoqIxk p7k7w/TESo+tkFDqV1kHnrME0OytsXmgz3AReXNHPIYv5nOltfdTtWdPnx57VnhfeGRU 7yCZtM73yAZnJbQ584yE2+OkoBe9cQNqR9sRg= X-Google-DKIM-Signature: v=1; a=rsa-sha256; c=relaxed/relaxed; d=1e100.net; s=20230601; t=1752105997; x=1752710797; h=references:in-reply-to:cc:to:from:subject:message-id:date :x-gm-message-state:from:to:cc:subject:date:message-id:reply-to; bh=YEzwLaeIoaBnhoAspf2mJhbxthW2wBp+hUlEdwJZqfA=; b=sYAQTRrtZU4i5b3GxC/Exs7f0SCoz5uCQJMIL8w6yBAxwc8VpU9Pn1P5mohRdcjjuU iM9isupQCP4PqMvnKWHJ59RXCJnca0kd7E8N6H1ZfMyA1vuYtUzRpTstpVrsy8ggbAi1 TWy1FSD2qD/qgsoo6xaImo6H9aVAgJ//9qd8D5Tjq+Cyvg2SJ6rhqcBCPhZcbzzQHqoM RraDlU7svWqKgbiEJtjHVFCrnaOMg0dQpI2cvgzoWavRdhYthqsbgFUbW/kfx7oFZdm0 91yZlAlJHj1yxl0Zv0apXNpFJjbGxVHQfW5ts8gN+0ZizerPTZjUH8fSxNdzN+7i80NN pJUg== X-Gm-Message-State: AOJu0YzfCR6s3t+PkUN1u7kVOhwAGjrS7xWpKB8MNI1nSvg5LVr9SSfw JOIjcbDaYGMCzQ9Z5P48ugk5c0uUKbUOGYUMcc6C77GuvFkuw5UiB+7cXPjJc46CYTLMJu1CFq9 GDPgvBIV5LS0ZhhsL8bRkUuv9jxfbouu7mUv60+8p5wuP X-Gm-Gg: ASbGncuXlDJr7wDLlA7aSXndZ5zvo71oM5aPM2qYljfOgYUDBNud4i/qUNP7xjGXNp8 Pu7qI2zXdbU2KkM+Y762fk0Ibrq2rS7uq2yGWmTBYFN9z2lVm+ybbdb50uoR7jKAEOzqbQ6saZI tpzbYXUBsmQOZxqrPK1NHvTg1M4ZESXN3zYnxPbT3ydoWb1DUoh+C2iafcmVT9h/TIgvpWDg3Ob kNv60Ow+7iOOWSPD5PSkU6E+XWMUnR42foFQVM9iNlHH7dzq7QX/8FO97yUDSLTMGmVdFo2s3/e 3ur7NZWK41ly6ByaCpWBwvkLLtKnkSGLrRj+xU11VIOFrholfdIfrvw1p2R7Y9EnquUEUQ== X-Google-Smtp-Source: AGHT+IEPK0ocEUjBaK0Aek4BlZwNXOkzGnDVOie8chBtSnIRZ6eSKP3jjJdNDzn+r2LJK/DK2KuEB88FxIW7 X-Received: by 2002:a17:90b:28cb:b0:312:eaea:afa1 with SMTP id 98e67ed59e1d1-31c3f05249dmr860319a91.29.1752105996632; Wed, 09 Jul 2025 17:06:36 -0700 (PDT) Received: from postal.iol.unh.edu (postal.iol.unh.edu. [132.177.123.84]) by smtp-relay.gmail.com with ESMTPS id d9443c01a7336-23de42654ecsm186305ad.14.2025.07.09.17.06.36 (version=TLS1_2 cipher=ECDHE-ECDSA-AES128-GCM-SHA256 bits=128/128); Wed, 09 Jul 2025 17:06:36 -0700 (PDT) X-Relaying-Domain: iol.unh.edu Date: Wed, 09 Jul 2025 17:06:36 -0700 (PDT) Message-ID: <686f040c.170a0220.311d62.10c5SMTPIN_ADDED_MISSING@mx.google.com> Received: from [172.21.0.27] (unknown [172.18.0.240]) by postal.iol.unh.edu (Postfix) with ESMTP id 471C86051830; Wed, 9 Jul 2025 20:06:35 -0400 (EDT) Subject: |SUCCESS| pw155011 [PATCH] app/testpmd: allow multiple cmdline-file From: dpdklab@iol.unh.edu To: Test Report Cc: dpdk-test-reports@iol.unh.edu In-Reply-To: <20250704140551.4151993-1-bruce.richardson@intel.com> References: <20250704140551.4151993-1-bruce.richardson@intel.com> Content-Type: text/plain X-BeenThere: test-report@dpdk.org X-Mailman-Version: 2.1.29 Precedence: list List-Id: automatic DPDK test reports List-Unsubscribe: , List-Archive: List-Post: List-Help: List-Subscribe: , Errors-To: test-report-bounces@dpdk.org Test-Label: iol-unit-arm64-testing Test-Status: SUCCESS http://dpdk.org/patch/155011 _Testing PASS_ Submitter: Bruce Richardson Date: Friday, July 04 2025 14:05:51 DPDK git baseline: Repo:dpdk Branch: master CommitID:ba982f9a1ca9b96ed0394b764f1523d482e963a2 155011 --> testing pass Upstream job id: Generic-Unit-Test-DPDK#354390 Test environment and result as below: +------------------------------+------------------------------+--------------+---------------------------+----------------+ | Environment | cryptodev_sw_snow3g_autotest | lpm_autotest | cryptodev_sw_zuc_autotest | dpdk_unit_test | +==============================+==============================+==============+===========================+================+ | Debian 12 (arm) | PASS | SKIPPED | PASS | SKIPPED | +------------------------------+------------------------------+--------------+---------------------------+----------------+ | Ubuntu 20.04 | SKIPPED | PASS | SKIPPED | PASS | +------------------------------+------------------------------+--------------+---------------------------+----------------+ | Fedora Linux 40 | SKIPPED | SKIPPED | SKIPPED | PASS | +------------------------------+------------------------------+--------------+---------------------------+----------------+ | CentOS Stream 10 | SKIPPED | SKIPPED | SKIPPED | PASS | +------------------------------+------------------------------+--------------+---------------------------+----------------+ | CentOS Stream 9 | SKIPPED | SKIPPED | SKIPPED | PASS | +------------------------------+------------------------------+--------------+---------------------------+----------------+ | Fedora Linux 41 | SKIPPED | SKIPPED | SKIPPED | PASS | +------------------------------+------------------------------+--------------+---------------------------+----------------+ | Debian GNU/Linux 12 | SKIPPED | SKIPPED | SKIPPED | PASS | +------------------------------+------------------------------+--------------+---------------------------+----------------+ | Red Hat Enterprise Linux 9.5 | SKIPPED | SKIPPED | SKIPPED | PASS | +------------------------------+------------------------------+--------------+---------------------------+----------------+ | Ubuntu 24.04 | SKIPPED | SKIPPED | SKIPPED | PASS | +------------------------------+------------------------------+--------------+---------------------------+----------------+ | Ubuntu 22.04 | SKIPPED | SKIPPED | SKIPPED | PASS | +------------------------------+------------------------------+--------------+---------------------------+----------------+ Debian 12 (arm) Kernel: Depends on container host Compiler: gcc (Debian 12.2.0-14) 12.2.0 Ubuntu 20.04 Kernel: 5.4 Compiler: gcc gcc (Ubuntu 9.4.0-1ubuntu1~20.04.2) 9.4.0 Fedora Linux 40 Kernel: 5.4 Compiler: clang gcc (GCC) 14.2.1 20240912 (Red Hat 14.2.1-3) CentOS Stream 10 Kernel: 5.4 Compiler: gcc gcc (GCC) 14.2.1 20250110 (Red Hat 14.2.1-8) CentOS Stream 9 Kernel: 5.4 Compiler: gcc gcc (GCC) 11.5.0 20240719 (Red Hat 11.5.0-7) Fedora Linux 41 Kernel: 5.4 Compiler: clang gcc (GCC) 14.3.1 20250523 (Red Hat 14.3.1-1) Debian GNU/Linux 12 Kernel: 5.4 Compiler: gcc gcc (Debian 12.2.0-14+deb12u1) 12.2.0 Red Hat Enterprise Linux 9.5 Kernel: 5.4 Compiler: gcc gcc (GCC) 11.5.0 20240719 (Red Hat 11.5.0-2) Ubuntu 24.04 Kernel: 5.4 Compiler: gcc gcc (Ubuntu 13.3.0-6ubuntu2~24.04) 13.3.0 Ubuntu 22.04 Kernel: 5.4 Compiler: gcc gcc (Ubuntu 11.4.0-1ubuntu1~22.04) 11.4.0 To view detailed results, visit: https://lab.dpdk.org/results/dashboard/patchsets/33594/ UNH-IOL DPDK Community Lab To manage your email subscriptions, visit: https://lab.dpdk.org/results/dashboard/preferences/subscriptions/