From mboxrd@z Thu Jan 1 00:00:00 1970 Return-Path: Received: from mails.dpdk.org (mails.dpdk.org [217.70.189.124]) by inbox.dpdk.org (Postfix) with ESMTP id 2ABA946A87 for ; Thu, 10 Jul 2025 02:07:35 +0200 (CEST) Received: from mails.dpdk.org (localhost [127.0.0.1]) by mails.dpdk.org (Postfix) with ESMTP id 241064025E; Thu, 10 Jul 2025 02:07:35 +0200 (CEST) Received: from mail-pl1-f228.google.com (mail-pl1-f228.google.com [209.85.214.228]) by mails.dpdk.org (Postfix) with ESMTP id 83CAB4025E for ; Thu, 10 Jul 2025 02:07:33 +0200 (CEST) Received: by mail-pl1-f228.google.com with SMTP id d9443c01a7336-236377f00easo6501695ad.1 for ; Wed, 09 Jul 2025 17:07:33 -0700 (PDT) DKIM-Signature: v=1; a=rsa-sha256; c=relaxed/relaxed; d=iol.unh.edu; s=unh-iol; t=1752106053; x=1752710853; darn=dpdk.org; h=references:in-reply-to:cc:to:from:subject:message-id:date:from:to :cc:subject:date:message-id:reply-to; bh=tvmFyTEE8GvcHsVq6njiHfu+EOK77iu2MDS7zFFS20w=; b=aamXRUyEn8MPeLga7vjex6NI/7Jjbw5WSCRap7cRG2n99Rqywh2J8JXOn42yo5prm4 Dn4vFRvEfOMpAgPI/lnzlZ8i6C42USdQZcCyGLkHYrKBPZZZDQSvNwrG+20w8CY9nuSj uIxspkcqoXnMCK0lNG0XLIX9FBn3VAOrxfk+Q= X-Google-DKIM-Signature: v=1; a=rsa-sha256; c=relaxed/relaxed; d=1e100.net; s=20230601; t=1752106053; x=1752710853; h=references:in-reply-to:cc:to:from:subject:message-id:date :x-gm-message-state:from:to:cc:subject:date:message-id:reply-to; bh=tvmFyTEE8GvcHsVq6njiHfu+EOK77iu2MDS7zFFS20w=; b=plMyXYntRXat6X2q9u5VZepBH//BFcke77XlTZCVsBqvHo/qPWgBnXdo2lCFm4G4lW uue8VNif8Pnai2svov/Usj0Tshgj1Pj0vf8cGQ6E+ml3fwKFgftT1QimFxr8AfaVnKsI ZujcXEHZvPfeL8dlj59uTTMuBEZ5obUzP17qMrPW0LCTubd52TeHlR3XPL8ZVwQvnXQJ MneYPzLtonPliNhbg5CDyA40iE7FhyurSJByGZHY0vch+yDzkfKxHPHJMe15cu95wDxu E0o0tNmqPlKN/MmviGhR6+CdVFS2qto2hWY5U5X9PYL2xd5PCrh2xqlHWmybidsp3ugG Y6rQ== X-Gm-Message-State: AOJu0Yx0WBRhwz/UBRtsVnA25QLhXkBOHyTCiQ2cTxGUx3J6YRBtEeM8 i7V0sFm+aDPKlVGclmYrhQ094HwOuw5s1eFAE9Mz3qp8cPO8W938HO4uPUXSw63EWO3fwFYdgdt d/22xTrB6v8dnhC50vaE+gzHWJ1Hs359Ikh4z1I98OBnt+0aaNYEVm+luGeGQ X-Gm-Gg: ASbGnctKbuZ5L8HKLGsKHP5wDpsaigDCu2rZnbAS7deCESYYuySM0BR+QGfCHK/v1ZI Cg+6stSxVgbiFNnP6+9DIWKlxTkeCFcab71e8muMt+jlplHTUc68h39pWyCUutSNYDf4MdAcoQu MtrhEX3t4mGpw1CyJIQzLNTs1Vqep5UB4i+c7R01MB7ptGmp9R+ORjL+VdZimjfLlJI+QdT45SM 1JNNfgeAnqICpdtqa7Cnb6JDngfaQlJYtLWhaysZQ2+/eAnAw9S6DwnWO+ZZBt8yhIjs9IY6+hS D/Wf4KeR76RR3JZseFJZ18Wp7n4M7vrGSJuIdBN5fIugJ+c= X-Google-Smtp-Source: AGHT+IGr7t8gdVQfrl+xZtUTYLi+DXCPrTsEqX9/mQykMc1ObTj501d+jhi8xP/YaEv44x6C0Ot8I/Ch+4r4 X-Received: by 2002:a17:903:2a8e:b0:21f:617a:f1b2 with SMTP id d9443c01a7336-23de48a047amr6760335ad.46.1752106052643; Wed, 09 Jul 2025 17:07:32 -0700 (PDT) Received: from postal.iol.unh.edu (postal.iol.unh.edu. [2606:4100:3880:1234::84]) by smtp-relay.gmail.com with ESMTPS id d9443c01a7336-23de4266660sm179695ad.7.2025.07.09.17.07.32 (version=TLS1_2 cipher=ECDHE-ECDSA-AES128-GCM-SHA256 bits=128/128); Wed, 09 Jul 2025 17:07:32 -0700 (PDT) X-Relaying-Domain: iol.unh.edu Date: Wed, 09 Jul 2025 17:07:32 -0700 (PDT) Message-ID: <686f0444.170a0220.150a38.1046SMTPIN_ADDED_MISSING@mx.google.com> Received: from [172.21.0.9] (unknown [172.18.0.240]) by postal.iol.unh.edu (Postfix) with ESMTP id 1FAAF6051830; Wed, 9 Jul 2025 20:07:32 -0400 (EDT) Subject: |WARNING| pw155106 [PATCH] net/mlx5: fix panic for non template age From: dpdklab@iol.unh.edu To: Test Report Cc: dpdk-test-reports@iol.unh.edu In-Reply-To: <20250709102508.229287-1-mkashani@nvidia.com> References: <20250709102508.229287-1-mkashani@nvidia.com> Content-Type: text/plain X-BeenThere: test-report@dpdk.org X-Mailman-Version: 2.1.29 Precedence: list List-Id: automatic DPDK test reports List-Unsubscribe: , List-Archive: List-Post: List-Help: List-Subscribe: , Errors-To: test-report-bounces@dpdk.org Test-Label: iol-compile-amd64-testing Test-Status: WARNING http://dpdk.org/patch/155106 _Testing issues_ Submitter: Maayan Kashani Date: Wednesday, July 09 2025 10:25:07 DPDK git baseline: Repo:dpdk Branch: master CommitID:6d828a3e774829165137aa2713e3040edd7f46bf 155106 --> testing issues Upstream job id: Windows-Compile-DPDK-Native#29691 Test environment and result as below: +-------------------------------+--------------------+-------------------+------------------+-------------------+-------------------------+----------------------+ | Environment | dpdk_meson_compile | dpdk_compile_spdk | dpdk_compile_ovs | dpdk_msvc_compile | dpdk_llvm_clang_compile | dpdk_mingw64_compile | +===============================+====================+===================+==================+===================+=========================+======================+ | CentOS Stream 9 | PASS | PASS | SKIPPED | SKIPPED | SKIPPED | SKIPPED | +-------------------------------+--------------------+-------------------+------------------+-------------------+-------------------------+----------------------+ | Debian GNU/Linux 12 | PASS | PASS | SKIPPED | SKIPPED | SKIPPED | SKIPPED | +-------------------------------+--------------------+-------------------+------------------+-------------------+-------------------------+----------------------+ | CentOS Stream 10 | PASS | SKIPPED | SKIPPED | SKIPPED | SKIPPED | SKIPPED | +-------------------------------+--------------------+-------------------+------------------+-------------------+-------------------------+----------------------+ | Fedora Linux 40 | PASS | PASS | SKIPPED | SKIPPED | SKIPPED | SKIPPED | +-------------------------------+--------------------+-------------------+------------------+-------------------+-------------------------+----------------------+ | Fedora Linux 41 | PASS | WARN | PASS | SKIPPED | SKIPPED | SKIPPED | +-------------------------------+--------------------+-------------------+------------------+-------------------+-------------------------+----------------------+ | Red Hat Enterprise Linux 8.10 | PASS | SKIPPED | SKIPPED | SKIPPED | SKIPPED | SKIPPED | +-------------------------------+--------------------+-------------------+------------------+-------------------+-------------------------+----------------------+ | openSUSE Leap 15.6 | PASS | SKIPPED | SKIPPED | SKIPPED | SKIPPED | SKIPPED | +-------------------------------+--------------------+-------------------+------------------+-------------------+-------------------------+----------------------+ | Red Hat Enterprise Linux 9.5 | PASS | SKIPPED | SKIPPED | SKIPPED | SKIPPED | SKIPPED | +-------------------------------+--------------------+-------------------+------------------+-------------------+-------------------------+----------------------+ | Ubuntu 20.04 | PASS | SKIPPED | SKIPPED | SKIPPED | SKIPPED | SKIPPED | +-------------------------------+--------------------+-------------------+------------------+-------------------+-------------------------+----------------------+ | Ubuntu 22.04 | PASS | PASS | SKIPPED | SKIPPED | SKIPPED | SKIPPED | +-------------------------------+--------------------+-------------------+------------------+-------------------+-------------------------+----------------------+ | Ubuntu 24.04 | PASS | PASS | PASS | SKIPPED | SKIPPED | SKIPPED | +-------------------------------+--------------------+-------------------+------------------+-------------------+-------------------------+----------------------+ | Alpine Linux 3.22.0 | PASS | SKIPPED | SKIPPED | SKIPPED | SKIPPED | SKIPPED | +-------------------------------+--------------------+-------------------+------------------+-------------------+-------------------------+----------------------+ | FreeBSD 14.2 | PASS | SKIPPED | SKIPPED | SKIPPED | SKIPPED | SKIPPED | +-------------------------------+--------------------+-------------------+------------------+-------------------+-------------------------+----------------------+ | Windows Server 2022 | SKIPPED | SKIPPED | SKIPPED | PASS | PASS | PASS | +-------------------------------+--------------------+-------------------+------------------+-------------------+-------------------------+----------------------+ ==== 20 line log output for Fedora Linux 41 (dpdk_compile_spdk): ==== --- Failed to get log output --- ==== End log output ==== CentOS Stream 9 Kernel: 5.15 Compiler: gcc gcc (GCC) 11.5.0 20240719 (Red Hat 11.5.0-7) Debian GNU/Linux 12 Kernel: 5.15 Compiler: gcc gcc (Debian 12.2.0-14+deb12u1) 12.2.0 CentOS Stream 10 Kernel: 5.15 Compiler: gcc gcc (GCC) 14.2.1 20250110 (Red Hat 14.2.1-8) Fedora Linux 40 Kernel: 5.15 Compiler: clang gcc (GCC) 14.2.1 20240912 (Red Hat 14.2.1-3) Fedora Linux 41 Kernel: 5.15 Compiler: gcc gcc (GCC) 14.3.1 20250523 (Red Hat 14.3.1-1) Red Hat Enterprise Linux 8.10 Kernel: 5.15 Compiler: gcc gcc (GCC) 8.5.0 20210514 (Red Hat 8.5.0-22) openSUSE Leap 15.6 Kernel: 5.15 Compiler: gcc gcc (SUSE Linux) 7.5.0 Red Hat Enterprise Linux 9.5 Kernel: 5.15 Compiler: gcc gcc (GCC) 11.5.0 20240719 (Red Hat 11.5.0-2) Ubuntu 20.04 Kernel: 5.15 Compiler: gcc gcc (Ubuntu 9.4.0-1ubuntu1~20.04.2) 9.4.0 Ubuntu 22.04 Kernel: 5.15 Compiler: gcc gcc (Ubuntu 11.4.0-1ubuntu1~22.04) 11.4.0 Ubuntu 24.04 Kernel: 5.15 Compiler: gcc gcc (Ubuntu 13.3.0-6ubuntu2~24.04) 13.3.0 Alpine Linux 3.22.0 Kernel: 5.15 Compiler: gcc gcc (Alpine 14.2.0) 14.2.0 FreeBSD 14.2 Kernel: 14.2-RELEASE Compiler: clang 18.1.6 Windows Server 2022 Kernel: 10.0.20348.2031 Compiler: clang 15.0.7, gcc 14.1.0 (MinGW), and MSVC VS 19.39.33521 To view detailed results, visit: https://lab.dpdk.org/results/dashboard/patchsets/33625/ UNH-IOL DPDK Community Lab To manage your email subscriptions, visit: https://lab.dpdk.org/results/dashboard/preferences/subscriptions/