From mboxrd@z Thu Jan 1 00:00:00 1970 Return-Path: Received: from mails.dpdk.org (mails.dpdk.org [217.70.189.124]) by inbox.dpdk.org (Postfix) with ESMTP id 8D2C946A87 for ; Thu, 10 Jul 2025 02:10:26 +0200 (CEST) Received: from mails.dpdk.org (localhost [127.0.0.1]) by mails.dpdk.org (Postfix) with ESMTP id 6645D4025E; Thu, 10 Jul 2025 02:10:26 +0200 (CEST) Received: from mail-qv1-f99.google.com (mail-qv1-f99.google.com [209.85.219.99]) by mails.dpdk.org (Postfix) with ESMTP id 360EE4025E for ; Thu, 10 Jul 2025 02:10:24 +0200 (CEST) Received: by mail-qv1-f99.google.com with SMTP id 6a1803df08f44-6fd0a91ae98so3361406d6.1 for ; Wed, 09 Jul 2025 17:10:24 -0700 (PDT) DKIM-Signature: v=1; a=rsa-sha256; c=relaxed/relaxed; d=iol.unh.edu; s=unh-iol; t=1752106223; x=1752711023; darn=dpdk.org; h=references:in-reply-to:cc:to:from:subject:message-id:date:from:to :cc:subject:date:message-id:reply-to; bh=wgs4iS3DCe0dmfEmvaYGbdYcz8rtBWC3p6uIe3aQeM4=; b=MCOdBY9jPnoAz4HSlMtdvXTaye5RjOuIEj8Cr8s0YrNvkrFSwMkcYCssS/IVIrr4OZ +F9qAsbymJIrFah48RijhVzAzSg9ruBy4J1eWxcxGmzGY7W8Fn8kD/sKvpso8QcJSvQB ZS1DabYHlbevN5T3USKMY6AizFRhPHpcV5Uoc= X-Google-DKIM-Signature: v=1; a=rsa-sha256; c=relaxed/relaxed; d=1e100.net; s=20230601; t=1752106223; x=1752711023; h=references:in-reply-to:cc:to:from:subject:message-id:date :x-gm-message-state:from:to:cc:subject:date:message-id:reply-to; bh=wgs4iS3DCe0dmfEmvaYGbdYcz8rtBWC3p6uIe3aQeM4=; b=TlEN/7W1VoqIUX3leDtvqUt4ZiXZLWH9+Pafp/uegZmBDjxhk6b9/80k1AFNLS3A6O qb7b7ZMgSmvKHy2Y2eLq+qb7cu+MkHXxuTpEhhjGhGg7INp54FrSDe0OGeSQkldzeTq+ 2WP6CUQOlQijWj1Gaf2THcNymnosW1NHY+UnW3C2jgqBbPw5Il3X6znku3YCvn+Owhuk hKMOJfGd0GrySWaI6tUxYBPIywGSIHAw7A0We68ZJmUiZGadZ6JN0iY1xWgOe3Os3S5+ DsoVyysFYBXlHc2LuYV1hbysPhqNHvxFrYkpDU2nkHvAiOraVrFC2n3ulHXL57LcLRTo TMcQ== X-Gm-Message-State: AOJu0YwIjN8hLw4QNo/328cyXdOljGz1a8uvN7yPqTWCSaXHWTMc2tBX mVj4Mybax0NIlFRhE8p/em1Z+fcUf/9xJFWPxy9/sA+kLwDL7tPvLftME04jiNnbxUxN6in+AJG pLiuwV7DNbSSSnzza5NCZGLJlcir17mbCdduSJC2wQXXDXRNw8lrMsCSk72Ck X-Gm-Gg: ASbGnctocwhElUI7AC2cxaRNVhFypgSxXxyMWNYwrWCRwEqJAvcuScm6zWKFjfDQxoN 0O4hAcQqs56NGykhCXi1bHIhmdX1ELUlyfCH5j3houKUNXwdCIBJjdcaxKCD+qERi36E9zoadMl k3TTGg0H5OHYxAhdFi55BjaFEpVWwnYcRtDthsU1YaHJs7O8F8LxzycGWfmMgJP01bSvVTvbQkT uMLAGr6MQogW/h4zPYbPiyn5VNI39HjIapLKGlY1C9tbkWHc+t9TOO/xxQIxxsZ5yI3DBcuIpTP tVFTL1mLZxVDKMnZlVYv2JmFUDCtlBQD/r8753bUtJ0sC1c= X-Google-Smtp-Source: AGHT+IHItfOrPATxGQrHc4Yc5VqkkQK9a2VTDn9Ep+eaWi00KInIW3GsBEiAwO5X5CTfY7UTWdPWQdw6SI0x X-Received: by 2002:ad4:5fce:0:b0:702:c93f:aabe with SMTP id 6a1803df08f44-70498028e2fmr7534576d6.16.1752106223420; Wed, 09 Jul 2025 17:10:23 -0700 (PDT) Received: from postal.iol.unh.edu (postal.iol.unh.edu. [2606:4100:3880:1234::84]) by smtp-relay.gmail.com with ESMTPS id 6a1803df08f44-70497d5b8b0sm132686d6.53.2025.07.09.17.10.23 (version=TLS1_2 cipher=ECDHE-ECDSA-AES128-GCM-SHA256 bits=128/128); Wed, 09 Jul 2025 17:10:23 -0700 (PDT) X-Relaying-Domain: iol.unh.edu Date: Wed, 09 Jul 2025 17:10:23 -0700 (PDT) Message-ID: <686f04ef.d40a0220.13bb97.0c33SMTPIN_ADDED_MISSING@mx.google.com> Received: from [172.21.0.20] (unknown [172.18.0.240]) by postal.iol.unh.edu (Postfix) with ESMTP id 262E26051830; Wed, 9 Jul 2025 20:10:23 -0400 (EDT) Subject: |SUCCESS| pw155011 [PATCH] app/testpmd: allow multiple cmdline-file From: dpdklab@iol.unh.edu To: Test Report Cc: dpdk-test-reports@iol.unh.edu In-Reply-To: <20250704140551.4151993-1-bruce.richardson@intel.com> References: <20250704140551.4151993-1-bruce.richardson@intel.com> Content-Type: text/plain X-BeenThere: test-report@dpdk.org X-Mailman-Version: 2.1.29 Precedence: list List-Id: automatic DPDK test reports List-Unsubscribe: , List-Archive: List-Post: List-Help: List-Subscribe: , Errors-To: test-report-bounces@dpdk.org Test-Label: iol-unit-arm64-testing Test-Status: SUCCESS http://dpdk.org/patch/155011 _Testing PASS_ Submitter: Bruce Richardson Date: Friday, July 04 2025 14:05:51 DPDK git baseline: Repo:dpdk Branch: master CommitID:ba982f9a1ca9b96ed0394b764f1523d482e963a2 155011 --> testing pass Upstream job id: Generic-Unit-Test-DPDK#354394 Test environment and result as below: +------------------------------+------------------------------+--------------+---------------------------+----------------+ | Environment | cryptodev_sw_snow3g_autotest | lpm_autotest | cryptodev_sw_zuc_autotest | dpdk_unit_test | +==============================+==============================+==============+===========================+================+ | Debian 12 (arm) | PASS | SKIPPED | PASS | SKIPPED | +------------------------------+------------------------------+--------------+---------------------------+----------------+ | Ubuntu 20.04 | SKIPPED | PASS | SKIPPED | PASS | +------------------------------+------------------------------+--------------+---------------------------+----------------+ | Fedora Linux 40 | SKIPPED | SKIPPED | SKIPPED | PASS | +------------------------------+------------------------------+--------------+---------------------------+----------------+ | CentOS Stream 10 | SKIPPED | SKIPPED | SKIPPED | PASS | +------------------------------+------------------------------+--------------+---------------------------+----------------+ | CentOS Stream 9 | SKIPPED | SKIPPED | SKIPPED | PASS | +------------------------------+------------------------------+--------------+---------------------------+----------------+ | Fedora Linux 41 | SKIPPED | SKIPPED | SKIPPED | PASS | +------------------------------+------------------------------+--------------+---------------------------+----------------+ | Debian GNU/Linux 12 | SKIPPED | SKIPPED | SKIPPED | PASS | +------------------------------+------------------------------+--------------+---------------------------+----------------+ | Red Hat Enterprise Linux 9.5 | SKIPPED | SKIPPED | SKIPPED | PASS | +------------------------------+------------------------------+--------------+---------------------------+----------------+ | Ubuntu 24.04 | SKIPPED | SKIPPED | SKIPPED | PASS | +------------------------------+------------------------------+--------------+---------------------------+----------------+ | Ubuntu 22.04 | SKIPPED | SKIPPED | SKIPPED | PASS | +------------------------------+------------------------------+--------------+---------------------------+----------------+ Debian 12 (arm) Kernel: Depends on container host Compiler: gcc (Debian 12.2.0-14) 12.2.0 Ubuntu 20.04 Kernel: 5.4 Compiler: gcc gcc (Ubuntu 9.4.0-1ubuntu1~20.04.2) 9.4.0 Fedora Linux 40 Kernel: 5.4 Compiler: clang gcc (GCC) 14.2.1 20240912 (Red Hat 14.2.1-3) CentOS Stream 10 Kernel: 5.4 Compiler: gcc gcc (GCC) 14.2.1 20250110 (Red Hat 14.2.1-8) CentOS Stream 9 Kernel: 5.4 Compiler: gcc gcc (GCC) 11.5.0 20240719 (Red Hat 11.5.0-7) Fedora Linux 41 Kernel: 5.4 Compiler: clang gcc (GCC) 14.3.1 20250523 (Red Hat 14.3.1-1) Debian GNU/Linux 12 Kernel: 5.4 Compiler: gcc gcc (Debian 12.2.0-14+deb12u1) 12.2.0 Red Hat Enterprise Linux 9.5 Kernel: 5.4 Compiler: gcc gcc (GCC) 11.5.0 20240719 (Red Hat 11.5.0-2) Ubuntu 24.04 Kernel: 5.4 Compiler: gcc gcc (Ubuntu 13.3.0-6ubuntu2~24.04) 13.3.0 Ubuntu 22.04 Kernel: 5.4 Compiler: gcc gcc (Ubuntu 11.4.0-1ubuntu1~22.04) 11.4.0 To view detailed results, visit: https://lab.dpdk.org/results/dashboard/patchsets/33594/ UNH-IOL DPDK Community Lab To manage your email subscriptions, visit: https://lab.dpdk.org/results/dashboard/preferences/subscriptions/