From mboxrd@z Thu Jan 1 00:00:00 1970 Return-Path: Received: from mails.dpdk.org (mails.dpdk.org [217.70.189.124]) by inbox.dpdk.org (Postfix) with ESMTP id CE2B546A87 for ; Thu, 10 Jul 2025 02:13:40 +0200 (CEST) Received: from mails.dpdk.org (localhost [127.0.0.1]) by mails.dpdk.org (Postfix) with ESMTP id B797C4025E; Thu, 10 Jul 2025 02:13:40 +0200 (CEST) Received: from mail-pl1-f228.google.com (mail-pl1-f228.google.com [209.85.214.228]) by mails.dpdk.org (Postfix) with ESMTP id 1BD454025E for ; Thu, 10 Jul 2025 02:13:40 +0200 (CEST) Received: by mail-pl1-f228.google.com with SMTP id d9443c01a7336-23aeac7d77aso4704565ad.3 for ; Wed, 09 Jul 2025 17:13:40 -0700 (PDT) DKIM-Signature: v=1; a=rsa-sha256; c=relaxed/relaxed; d=iol.unh.edu; s=unh-iol; t=1752106419; x=1752711219; darn=dpdk.org; h=references:in-reply-to:cc:to:from:subject:message-id:date:from:to :cc:subject:date:message-id:reply-to; bh=yoKNSTza57IM3JxgGHU8GIHcyR1zeWq2LElbAE3dt9w=; b=iV//7jsMuvZCWtkrtAWa0t+ksZh/fN/yr6sVaJ/F9QUwQrC0AjPQW8Ei+Ugh9Dm64m HbwiRElhpb6EgrygAWiCp4Mr6fGIAZTIcqlpGx4uqULidvs7WZwWtQivarBshSF8CC3g 9f9c2DZY1M8BXimQ6POtjuB8VwbSJ33oiI+z4= X-Google-DKIM-Signature: v=1; a=rsa-sha256; c=relaxed/relaxed; d=1e100.net; s=20230601; t=1752106419; x=1752711219; h=references:in-reply-to:cc:to:from:subject:message-id:date :x-gm-message-state:from:to:cc:subject:date:message-id:reply-to; bh=yoKNSTza57IM3JxgGHU8GIHcyR1zeWq2LElbAE3dt9w=; b=g9c/fshgMsSey2eLo5Vq7/KcN70JUsFmj4S3lJvQui1yqcm5Y//TM/b1EnP1yCzpmM OQuGUCaOry4UnotkmNyww81pVmkZ+KPl/tkBSLmxVWRjzxCLlHRg2tnH3/y1gIwmylvQ Pyms3mGWe2jxddJZwl6aD6Kond8BkbyRAfAEOH8IRCfO+bPlOj+XT2wVS2pti8TjKOd/ 1HteslZ+/tDUcR6a6oifXHSE5S2UYpn02e9WKCccUUKE+yqs9AP6CT//L1vg4zAH4z/z bG0p+/xFF/n069fToLEXw8La24Z9vHyPrI9JTK3D0SJX+65q3wD+ecDg/9IYxtaz21Fh 6x4w== X-Gm-Message-State: AOJu0YxyuIzMKVL1oJUDNcXBrjCkQixbS2RSWsRezDvQ7YSZgsCcQ3uf 2BnaHavDgMyquJG2rLkghI0CbJvIdl3ks/XOanWyLag+gR6NtceyHoA+s8rip2wSRSdB6z17MMW 9JClMgeJDZglj4+1gGJGTICXgWwAGwhT0EYuN8NScseERHk24bp/hNMmPNvsr X-Gm-Gg: ASbGncu73P9p5DblS1JXLKvEgvMDzv3B2h6Pbz69aomgL9duMplg3DcnS4v2PxPVK64 PNsOnstKR3XsMlYYO6xao3wHNqcb3mlRU3oFVhBiryyGYt+ykD4UjA8MtgsXvsNQfkbr+M7CRsS busdA+vLGRbQQ17dMsBJZjExj+FPbxlqRRjGqSvaDLlhhfwzigKRuaLICJxn3l/ttKlbj840Iw0 WYtqgAiP0vQDNQk9i4aHVYOBJOZ8Ww1m1YJwCKer/QsVIwm15z3Gy6SR1kbMqEOg4Iah/cl+ldq XK63a0RlGyuU0+vL8M9bIh2J01UJQ47w4kObeC9oQv2wWb4= X-Google-Smtp-Source: AGHT+IEYbjAWxCMUyF5Y8wMK7JQcoyDfbeCcP6cpFEfC7f+t2jBLLdNpU9sm78Jg0CtHYm6Jx4SHAlMVoxs5 X-Received: by 2002:a17:903:2411:b0:223:7006:4db2 with SMTP id d9443c01a7336-23ddb2e62cfmr78867385ad.31.1752106419185; Wed, 09 Jul 2025 17:13:39 -0700 (PDT) Received: from postal.iol.unh.edu (postal.iol.unh.edu. [2606:4100:3880:1234::84]) by smtp-relay.gmail.com with ESMTPS id d9443c01a7336-23de4266f93sm178455ad.25.2025.07.09.17.13.39 (version=TLS1_2 cipher=ECDHE-ECDSA-AES128-GCM-SHA256 bits=128/128); Wed, 09 Jul 2025 17:13:39 -0700 (PDT) X-Relaying-Domain: iol.unh.edu Date: Wed, 09 Jul 2025 17:13:39 -0700 (PDT) Message-ID: <686f05b3.170a0220.32a6a4.0fecSMTPIN_ADDED_MISSING@mx.google.com> Received: from [172.21.0.10] (unknown [172.18.0.240]) by postal.iol.unh.edu (Postfix) with ESMTP id 52DA56051830; Wed, 9 Jul 2025 20:13:38 -0400 (EDT) Subject: |WARNING| pw155011 [PATCH] app/testpmd: allow multiple cmdline-file From: dpdklab@iol.unh.edu To: Test Report Cc: dpdk-test-reports@iol.unh.edu In-Reply-To: <20250704140551.4151993-1-bruce.richardson@intel.com> References: <20250704140551.4151993-1-bruce.richardson@intel.com> Content-Type: text/plain X-BeenThere: test-report@dpdk.org X-Mailman-Version: 2.1.29 Precedence: list List-Id: automatic DPDK test reports List-Unsubscribe: , List-Archive: List-Post: List-Help: List-Subscribe: , Errors-To: test-report-bounces@dpdk.org Test-Label: iol-compile-amd64-testing Test-Status: WARNING http://dpdk.org/patch/155011 _Testing issues_ Submitter: Bruce Richardson Date: Friday, July 04 2025 14:05:51 DPDK git baseline: Repo:dpdk Branch: master CommitID:ba982f9a1ca9b96ed0394b764f1523d482e963a2 155011 --> testing issues Upstream job id: Generic-DPDK-Compile-Meson#407503 Test environment and result as below: +-------------------------------+--------------------+-------------------+------------------+-------------------+ | Environment | dpdk_meson_compile | dpdk_compile_spdk | dpdk_compile_ovs | dpdk_msvc_compile | +===============================+====================+===================+==================+===================+ | CentOS Stream 9 | PASS | PASS | SKIPPED | SKIPPED | +-------------------------------+--------------------+-------------------+------------------+-------------------+ | CentOS Stream 10 | PASS | SKIPPED | SKIPPED | SKIPPED | +-------------------------------+--------------------+-------------------+------------------+-------------------+ | Debian GNU/Linux 12 | PASS | PASS | SKIPPED | SKIPPED | +-------------------------------+--------------------+-------------------+------------------+-------------------+ | Fedora Linux 40 | PASS | PASS | SKIPPED | SKIPPED | +-------------------------------+--------------------+-------------------+------------------+-------------------+ | Fedora Linux 41 | PASS | PASS | PASS | SKIPPED | +-------------------------------+--------------------+-------------------+------------------+-------------------+ | openSUSE Leap 15.6 | PASS | SKIPPED | SKIPPED | SKIPPED | +-------------------------------+--------------------+-------------------+------------------+-------------------+ | Red Hat Enterprise Linux 9.5 | PASS | SKIPPED | SKIPPED | SKIPPED | +-------------------------------+--------------------+-------------------+------------------+-------------------+ | Ubuntu 20.04 | PASS | SKIPPED | SKIPPED | SKIPPED | +-------------------------------+--------------------+-------------------+------------------+-------------------+ | Ubuntu 22.04 | PASS | PASS | SKIPPED | SKIPPED | +-------------------------------+--------------------+-------------------+------------------+-------------------+ | FreeBSD 14.2 | PASS | SKIPPED | SKIPPED | SKIPPED | +-------------------------------+--------------------+-------------------+------------------+-------------------+ | Ubuntu 24.04 | PASS | SKIPPED | SKIPPED | SKIPPED | +-------------------------------+--------------------+-------------------+------------------+-------------------+ | Alpine Linux 3.22.0 | PEND | SKIPPED | SKIPPED | SKIPPED | +-------------------------------+--------------------+-------------------+------------------+-------------------+ | Red Hat Enterprise Linux 8.10 | PEND | SKIPPED | SKIPPED | SKIPPED | +-------------------------------+--------------------+-------------------+------------------+-------------------+ | Windows Server 2022 | SKIPPED | SKIPPED | SKIPPED | PASS | +-------------------------------+--------------------+-------------------+------------------+-------------------+ CentOS Stream 9 Kernel: 5.15 Compiler: gcc gcc (GCC) 11.5.0 20240719 (Red Hat 11.5.0-7) CentOS Stream 10 Kernel: 5.15 Compiler: gcc gcc (GCC) 14.2.1 20250110 (Red Hat 14.2.1-8) Debian GNU/Linux 12 Kernel: 5.15 Compiler: gcc gcc (Debian 12.2.0-14+deb12u1) 12.2.0 Fedora Linux 40 Kernel: 5.15 Compiler: clang gcc (GCC) 14.2.1 20240912 (Red Hat 14.2.1-3) Fedora Linux 41 Kernel: 5.15 Compiler: clang gcc (GCC) 14.3.1 20250523 (Red Hat 14.3.1-1) openSUSE Leap 15.6 Kernel: 5.15 Compiler: gcc gcc (SUSE Linux) 7.5.0 Red Hat Enterprise Linux 9.5 Kernel: 5.15 Compiler: gcc gcc (GCC) 11.5.0 20240719 (Red Hat 11.5.0-2) Ubuntu 20.04 Kernel: 5.15 Compiler: gcc gcc (Ubuntu 9.4.0-1ubuntu1~20.04.2) 9.4.0 Ubuntu 22.04 Kernel: 5.15 Compiler: gcc gcc (Ubuntu 11.4.0-1ubuntu1~22.04) 11.4.0 FreeBSD 14.2 Kernel: 14.2-RELEASE Compiler: clang 18.1.6 Ubuntu 24.04 Kernel: 5.15 Compiler: gcc gcc (Ubuntu 13.3.0-6ubuntu2~24.04) 13.3.0 Alpine Linux 3.22.0 Kernel: 5.15 Compiler: gcc gcc (Alpine 14.2.0) 14.2.0 Red Hat Enterprise Linux 8.10 Kernel: 5.15 Compiler: gcc gcc (GCC) 8.5.0 20210514 (Red Hat 8.5.0-22) Windows Server 2022 Kernel: 10.0.20348.2031 Compiler: clang 15.0.7, gcc 14.1.0 (MinGW), and MSVC VS 19.39.33521 To view detailed results, visit: https://lab.dpdk.org/results/dashboard/patchsets/33594/ UNH-IOL DPDK Community Lab To manage your email subscriptions, visit: https://lab.dpdk.org/results/dashboard/preferences/subscriptions/