From mboxrd@z Thu Jan 1 00:00:00 1970 Return-Path: Received: from mails.dpdk.org (mails.dpdk.org [217.70.189.124]) by inbox.dpdk.org (Postfix) with ESMTP id CBBA546A87 for ; Thu, 10 Jul 2025 02:13:43 +0200 (CEST) Received: from mails.dpdk.org (localhost [127.0.0.1]) by mails.dpdk.org (Postfix) with ESMTP id C65484025E; Thu, 10 Jul 2025 02:13:43 +0200 (CEST) Received: from mail-oo1-f98.google.com (mail-oo1-f98.google.com [209.85.161.98]) by mails.dpdk.org (Postfix) with ESMTP id A0B6B4025E for ; Thu, 10 Jul 2025 02:13:42 +0200 (CEST) Received: by mail-oo1-f98.google.com with SMTP id 006d021491bc7-613b02e801aso273737eaf.2 for ; Wed, 09 Jul 2025 17:13:42 -0700 (PDT) DKIM-Signature: v=1; a=rsa-sha256; c=relaxed/relaxed; d=iol.unh.edu; s=unh-iol; t=1752106422; x=1752711222; darn=dpdk.org; h=references:in-reply-to:cc:to:from:subject:message-id:date:from:to :cc:subject:date:message-id:reply-to; bh=8zGXci3uL2/oyPSQ9jc/OKHXtOvk8AzGUTGVjYMlDb8=; b=E9GJ+cnURXUkX5o+ykw+rb3/8UcCu9WDjFL0ZFLIS/NGHk5o2RnuD2byLsQ3JfJH4m SNQMP5xs7ugEScxz/JE43Y/nRMl48ntnMl1ZRdyufJX28/KjlC9N3fgujU4puIBQadN7 QMAuwtpKO4L+IsFjm8mP3AJ0IKe3hXHoMRWaE= X-Google-DKIM-Signature: v=1; a=rsa-sha256; c=relaxed/relaxed; d=1e100.net; s=20230601; t=1752106422; x=1752711222; h=references:in-reply-to:cc:to:from:subject:message-id:date :x-gm-message-state:from:to:cc:subject:date:message-id:reply-to; bh=8zGXci3uL2/oyPSQ9jc/OKHXtOvk8AzGUTGVjYMlDb8=; b=LE8m9dqZAwnWDE6NqQV1xycrMz9ujwGsTfc/aEdF2CwuvlJnILKMDqEfRQJBiIPTgm 87R41LGI/tqNOoKisTCSle9vK6yMuLZJc2qrZ1wsJR+EIfygC8vUdFDES23xTuW5Itvp uFP4gqEWsws3wTJvz3rXA+1xW88TTaD5l6d/AgCLTNd4IS63/8AA838jlKyNY45tMawZ x3LorqbG0t8P7J0ChDuq5KwWy3Fn2y9t//3vhVXAZUCiolIogTvhHrRTTb9QBOzWl6c7 0x1AcvmO8J9H12MOXnL1kPQ8B4ZhK37o7Ycl8QW6q+UHcmAZforQ7n3LrzdzpM6D9XBO +SGA== X-Gm-Message-State: AOJu0YzldmmLFogzQMb2DdRqx+dzlpWDS/e/UKnuhJKYv64ZdmmtOJRM VuNDZTOX8wUZxf+4FF/9QBlqEJqB8UtmifrncyDKGRkB+HTu92cMnxNbh54aYC0gU94SBtNAyTe xNpvuoyPGNl/FwOU7GKBIO8IbHIqHkCMtjY1ZGZjfbzlvbOwj4A2iBCW5Ibgd X-Gm-Gg: ASbGnctBpdDZkYxfqHlN+00xg5PEuraqze25HJZgcS0oel3LCPm5M9eBFmDZix8g5pe eGh2bWpRrL8rbS6PMS+ztGZ3lBhm9ry09iNOAjpAyGGH6LbuymshlQoQRvT+XCf8ZQLTn9/J99w AcRfN6RSn15biARZ7vnSw+uB8OE76QDthq26mNss+VwYlJrvLjR1fjWBaIoeWo9UzE6oaHSlh2o fexulJd7Srn28nAQU2Evzj8RD+yWkcJ5fG3aZdNJqe2eTRGli+gs9eTvWVrRAwqevbqo2UXioZC CljeSZkVnJLZsGcZ6EkEtfrajtNbgFf5xJYa3TlTpS9pQrg= X-Google-Smtp-Source: AGHT+IGmDC3THSkfiHomh/+L0quj79H0Tf7O3yfTDtEcjKquL0k82X74yCPHyCv6ilR6kwAdDv8y1eKLONAM X-Received: by 2002:a05:6870:3b18:b0:2c2:4090:9e8 with SMTP id 586e51a60fabf-2fef871adc3mr3172473fac.22.1752106421819; Wed, 09 Jul 2025 17:13:41 -0700 (PDT) Received: from postal.iol.unh.edu (postal.iol.unh.edu. [2606:4100:3880:1234::84]) by smtp-relay.gmail.com with ESMTPS id 586e51a60fabf-2ff1179eaf8sm20452fac.38.2025.07.09.17.13.41 (version=TLS1_2 cipher=ECDHE-ECDSA-AES128-GCM-SHA256 bits=128/128); Wed, 09 Jul 2025 17:13:41 -0700 (PDT) X-Relaying-Domain: iol.unh.edu Date: Wed, 09 Jul 2025 17:13:41 -0700 (PDT) Message-ID: <686f05b5.050a0220.3bb608.136cSMTPIN_ADDED_MISSING@mx.google.com> Received: from [172.21.0.13] (unknown [172.18.0.240]) by postal.iol.unh.edu (Postfix) with ESMTP id 5162C6051830; Wed, 9 Jul 2025 20:13:41 -0400 (EDT) Subject: |WARNING| pw155011 [PATCH] app/testpmd: allow multiple cmdline-file From: dpdklab@iol.unh.edu To: Test Report Cc: dpdk-test-reports@iol.unh.edu In-Reply-To: <20250704140551.4151993-1-bruce.richardson@intel.com> References: <20250704140551.4151993-1-bruce.richardson@intel.com> Content-Type: text/plain X-BeenThere: test-report@dpdk.org X-Mailman-Version: 2.1.29 Precedence: list List-Id: automatic DPDK test reports List-Unsubscribe: , List-Archive: List-Post: List-Help: List-Subscribe: , Errors-To: test-report-bounces@dpdk.org Test-Label: iol-compile-amd64-testing Test-Status: WARNING http://dpdk.org/patch/155011 _Testing issues_ Submitter: Bruce Richardson Date: Friday, July 04 2025 14:05:51 DPDK git baseline: Repo:dpdk Branch: master CommitID:ba982f9a1ca9b96ed0394b764f1523d482e963a2 155011 --> testing issues Upstream job id: Windows-Compile-DPDK-VS#6323 Test environment and result as below: +-------------------------------+--------------------+-------------------+------------------+-------------------+ | Environment | dpdk_meson_compile | dpdk_compile_spdk | dpdk_compile_ovs | dpdk_msvc_compile | +===============================+====================+===================+==================+===================+ | CentOS Stream 9 | PASS | PASS | SKIPPED | SKIPPED | +-------------------------------+--------------------+-------------------+------------------+-------------------+ | CentOS Stream 10 | PASS | SKIPPED | SKIPPED | SKIPPED | +-------------------------------+--------------------+-------------------+------------------+-------------------+ | Debian GNU/Linux 12 | PASS | PASS | SKIPPED | SKIPPED | +-------------------------------+--------------------+-------------------+------------------+-------------------+ | Fedora Linux 40 | PASS | PASS | SKIPPED | SKIPPED | +-------------------------------+--------------------+-------------------+------------------+-------------------+ | Fedora Linux 41 | PASS | PASS | PASS | SKIPPED | +-------------------------------+--------------------+-------------------+------------------+-------------------+ | openSUSE Leap 15.6 | PASS | SKIPPED | SKIPPED | SKIPPED | +-------------------------------+--------------------+-------------------+------------------+-------------------+ | Red Hat Enterprise Linux 9.5 | PASS | SKIPPED | SKIPPED | SKIPPED | +-------------------------------+--------------------+-------------------+------------------+-------------------+ | Ubuntu 20.04 | PASS | SKIPPED | SKIPPED | SKIPPED | +-------------------------------+--------------------+-------------------+------------------+-------------------+ | Ubuntu 22.04 | PASS | PASS | SKIPPED | SKIPPED | +-------------------------------+--------------------+-------------------+------------------+-------------------+ | FreeBSD 14.2 | PASS | SKIPPED | SKIPPED | SKIPPED | +-------------------------------+--------------------+-------------------+------------------+-------------------+ | Ubuntu 24.04 | PASS | SKIPPED | SKIPPED | SKIPPED | +-------------------------------+--------------------+-------------------+------------------+-------------------+ | Alpine Linux 3.22.0 | PEND | SKIPPED | SKIPPED | SKIPPED | +-------------------------------+--------------------+-------------------+------------------+-------------------+ | Red Hat Enterprise Linux 8.10 | PEND | SKIPPED | SKIPPED | SKIPPED | +-------------------------------+--------------------+-------------------+------------------+-------------------+ | Windows Server 2022 | SKIPPED | SKIPPED | SKIPPED | PASS | +-------------------------------+--------------------+-------------------+------------------+-------------------+ CentOS Stream 9 Kernel: 5.15 Compiler: gcc gcc (GCC) 11.5.0 20240719 (Red Hat 11.5.0-7) CentOS Stream 10 Kernel: 5.15 Compiler: gcc gcc (GCC) 14.2.1 20250110 (Red Hat 14.2.1-8) Debian GNU/Linux 12 Kernel: 5.15 Compiler: gcc gcc (Debian 12.2.0-14+deb12u1) 12.2.0 Fedora Linux 40 Kernel: 5.15 Compiler: clang gcc (GCC) 14.2.1 20240912 (Red Hat 14.2.1-3) Fedora Linux 41 Kernel: 5.15 Compiler: clang gcc (GCC) 14.3.1 20250523 (Red Hat 14.3.1-1) openSUSE Leap 15.6 Kernel: 5.15 Compiler: gcc gcc (SUSE Linux) 7.5.0 Red Hat Enterprise Linux 9.5 Kernel: 5.15 Compiler: gcc gcc (GCC) 11.5.0 20240719 (Red Hat 11.5.0-2) Ubuntu 20.04 Kernel: 5.15 Compiler: gcc gcc (Ubuntu 9.4.0-1ubuntu1~20.04.2) 9.4.0 Ubuntu 22.04 Kernel: 5.15 Compiler: gcc gcc (Ubuntu 11.4.0-1ubuntu1~22.04) 11.4.0 FreeBSD 14.2 Kernel: 14.2-RELEASE Compiler: clang 18.1.6 Ubuntu 24.04 Kernel: 5.15 Compiler: gcc gcc (Ubuntu 13.3.0-6ubuntu2~24.04) 13.3.0 Alpine Linux 3.22.0 Kernel: 5.15 Compiler: gcc gcc (Alpine 14.2.0) 14.2.0 Red Hat Enterprise Linux 8.10 Kernel: 5.15 Compiler: gcc gcc (GCC) 8.5.0 20210514 (Red Hat 8.5.0-22) Windows Server 2022 Kernel: 10.0.20348.2031 Compiler: clang 15.0.7, gcc 14.1.0 (MinGW), and MSVC VS 19.39.33521 To view detailed results, visit: https://lab.dpdk.org/results/dashboard/patchsets/33594/ UNH-IOL DPDK Community Lab To manage your email subscriptions, visit: https://lab.dpdk.org/results/dashboard/preferences/subscriptions/