From mboxrd@z Thu Jan 1 00:00:00 1970 Return-Path: Received: from mails.dpdk.org (mails.dpdk.org [217.70.189.124]) by inbox.dpdk.org (Postfix) with ESMTP id E457146A87 for ; Thu, 10 Jul 2025 02:14:15 +0200 (CEST) Received: from mails.dpdk.org (localhost [127.0.0.1]) by mails.dpdk.org (Postfix) with ESMTP id DF55C4025E; Thu, 10 Jul 2025 02:14:15 +0200 (CEST) Received: from mail-pf1-f225.google.com (mail-pf1-f225.google.com [209.85.210.225]) by mails.dpdk.org (Postfix) with ESMTP id 1C2AD4025E for ; Thu, 10 Jul 2025 02:14:15 +0200 (CEST) Received: by mail-pf1-f225.google.com with SMTP id d2e1a72fcca58-7490acf57b9so364776b3a.2 for ; Wed, 09 Jul 2025 17:14:15 -0700 (PDT) DKIM-Signature: v=1; a=rsa-sha256; c=relaxed/relaxed; d=iol.unh.edu; s=unh-iol; t=1752106454; x=1752711254; darn=dpdk.org; h=references:in-reply-to:cc:to:from:subject:message-id:date:from:to :cc:subject:date:message-id:reply-to; bh=Fd6Yu5oLWLG1mgImOtAdm5V7QxKg/dEv9AJi+8j9V+k=; b=FN4xfmXR7KrDPoth42sZQ5iFEQJAL4fw6OYxG3DX1W470MKzfKiENHB40lMA0GXIV/ 4flm+Cmg4eyI05/86lLJzh+Vqkq+uvaf8RxPi3z/QcCIZjITuRxHWuifbJT1Ivhizsth XQglgxxKrnZIPP6KkXBIhHRMpxpZvcTqhJM5o= X-Google-DKIM-Signature: v=1; a=rsa-sha256; c=relaxed/relaxed; d=1e100.net; s=20230601; t=1752106454; x=1752711254; h=references:in-reply-to:cc:to:from:subject:message-id:date :x-gm-message-state:from:to:cc:subject:date:message-id:reply-to; bh=Fd6Yu5oLWLG1mgImOtAdm5V7QxKg/dEv9AJi+8j9V+k=; b=o5Dlr34CjbCaNZnRmVZe2YYz/aSOVE8WXTVsvJCK/EFYIBYYQuKvLhNXL1TAbOaYBu Y+K2XE/ilV3aFChCqzerJqh3bxXAotcw4cPdtBYFOwPQ0267PuprQEXPlxzW3oWh1EzG zBR7tXJz9CFn6wSU3kUuuIPXceInJq2efXsy7XAIhMZhd+swPT7z9EItErF8yVgyp155 WpHFiWIBUlTqiIvUVucDQGj6dlyAlpTY8y6+Ai+DHr/fy+2TvCN7m5RBJiyZrudx8jw5 wOdsCBtCd84nNZH7a+CcuKmYbFPygxaxZVlNbwsUosjBGRCoC94r1fD4VwQ0MgHbqrGP rCvg== X-Gm-Message-State: AOJu0YxcZ6BQOnv1DxkpH23uNg0qDmbS7lnqx+8SdCoNd5rqR0Uwx2th UkER708aFVNHZ0bPirG/8HwDkF2SHVNBBQh09qeJxWWbEG/DNPfP94O0FXGW5nX2Ik9tmQDz447 aK12sPzzxNTnRcPxwyhKg5n49mamlEvBNoNb0IQywIo4a X-Gm-Gg: ASbGnct23ToJPq9zLND4Tyz7YCPrSAcRlSWutgCJKprQcf5XzFH4s6rtG5z9v8TwfPW g34k4mp+7p5zMTtX8oeelhD8qxad7K1n6ljSe6T9QvWMLU7wc9VeI99Vg6c9mNVul+la5uVFwTZ +Hs0z3HQgR+dj5UjCaMJZXXVx9q7FF9N1MT37f8YfssU80IyZhYWRiLTMM9ngpnXgAZwRhDkyD6 xQcqH11lAh0pNA5kfyu6JZHmmBYfLXae2C6KNUJvrUC7yOQKO9BsdjnCa6p64e410AZ9lfciGur Njya4+12wvu5anXBlX4ByetWf26N76Elx6AwUCPoZtzcWKQU/VnxM+Iqo4hS1qi9mA5qdA== X-Google-Smtp-Source: AGHT+IFllFjxQqzUgSRPdVeqGV29QLxWaMVey4Dg9bJUtjLee579Dn/nzwESFXcIEi34YnXZf/QsikQEDsy+ X-Received: by 2002:a05:6a00:2e93:b0:742:a111:ee6f with SMTP id d2e1a72fcca58-74eb54549acmr2170672b3a.10.1752106454219; Wed, 09 Jul 2025 17:14:14 -0700 (PDT) Received: from postal.iol.unh.edu (postal.iol.unh.edu. [132.177.123.84]) by smtp-relay.gmail.com with ESMTPS id d2e1a72fcca58-74eb9e1d59dsm9437b3a.5.2025.07.09.17.14.14 (version=TLS1_2 cipher=ECDHE-ECDSA-AES128-GCM-SHA256 bits=128/128); Wed, 09 Jul 2025 17:14:14 -0700 (PDT) X-Relaying-Domain: iol.unh.edu Date: Wed, 09 Jul 2025 17:14:14 -0700 (PDT) Message-ID: <686f05d6.050a0220.19c12d.0871SMTPIN_ADDED_MISSING@mx.google.com> Received: from [172.21.0.9] (unknown [172.18.0.240]) by postal.iol.unh.edu (Postfix) with ESMTP id 69D106051830; Wed, 9 Jul 2025 20:14:13 -0400 (EDT) Subject: |WARNING| pw155011 [PATCH] app/testpmd: allow multiple cmdline-file From: dpdklab@iol.unh.edu To: Test Report Cc: dpdk-test-reports@iol.unh.edu In-Reply-To: <20250704140551.4151993-1-bruce.richardson@intel.com> References: <20250704140551.4151993-1-bruce.richardson@intel.com> Content-Type: text/plain X-BeenThere: test-report@dpdk.org X-Mailman-Version: 2.1.29 Precedence: list List-Id: automatic DPDK test reports List-Unsubscribe: , List-Archive: List-Post: List-Help: List-Subscribe: , Errors-To: test-report-bounces@dpdk.org Test-Label: iol-compile-amd64-testing Test-Status: WARNING http://dpdk.org/patch/155011 _Testing issues_ Submitter: Bruce Richardson Date: Friday, July 04 2025 14:05:51 DPDK git baseline: Repo:dpdk Branch: master CommitID:ba982f9a1ca9b96ed0394b764f1523d482e963a2 155011 --> testing issues Upstream job id: Generic-DPDK-Compile-Meson#407511 Test environment and result as below: +-------------------------------+--------------------+-------------------+------------------+-------------------+ | Environment | dpdk_meson_compile | dpdk_compile_spdk | dpdk_compile_ovs | dpdk_msvc_compile | +===============================+====================+===================+==================+===================+ | CentOS Stream 9 | PASS | PASS | SKIPPED | SKIPPED | +-------------------------------+--------------------+-------------------+------------------+-------------------+ | CentOS Stream 10 | PASS | SKIPPED | SKIPPED | SKIPPED | +-------------------------------+--------------------+-------------------+------------------+-------------------+ | Debian GNU/Linux 12 | PASS | PASS | SKIPPED | SKIPPED | +-------------------------------+--------------------+-------------------+------------------+-------------------+ | Fedora Linux 40 | PASS | PASS | SKIPPED | SKIPPED | +-------------------------------+--------------------+-------------------+------------------+-------------------+ | Fedora Linux 41 | PASS | PASS | PASS | SKIPPED | +-------------------------------+--------------------+-------------------+------------------+-------------------+ | openSUSE Leap 15.6 | PASS | SKIPPED | SKIPPED | SKIPPED | +-------------------------------+--------------------+-------------------+------------------+-------------------+ | Red Hat Enterprise Linux 9.5 | PASS | SKIPPED | SKIPPED | SKIPPED | +-------------------------------+--------------------+-------------------+------------------+-------------------+ | Ubuntu 20.04 | PASS | SKIPPED | SKIPPED | SKIPPED | +-------------------------------+--------------------+-------------------+------------------+-------------------+ | Ubuntu 22.04 | PASS | PASS | SKIPPED | SKIPPED | +-------------------------------+--------------------+-------------------+------------------+-------------------+ | FreeBSD 14.2 | PASS | SKIPPED | SKIPPED | SKIPPED | +-------------------------------+--------------------+-------------------+------------------+-------------------+ | Ubuntu 24.04 | PASS | SKIPPED | SKIPPED | SKIPPED | +-------------------------------+--------------------+-------------------+------------------+-------------------+ | Alpine Linux 3.22.0 | PEND | SKIPPED | SKIPPED | SKIPPED | +-------------------------------+--------------------+-------------------+------------------+-------------------+ | Red Hat Enterprise Linux 8.10 | PEND | SKIPPED | SKIPPED | SKIPPED | +-------------------------------+--------------------+-------------------+------------------+-------------------+ | Windows Server 2022 | SKIPPED | SKIPPED | SKIPPED | PASS | +-------------------------------+--------------------+-------------------+------------------+-------------------+ CentOS Stream 9 Kernel: 5.15 Compiler: gcc gcc (GCC) 11.5.0 20240719 (Red Hat 11.5.0-7) CentOS Stream 10 Kernel: 5.15 Compiler: gcc gcc (GCC) 14.2.1 20250110 (Red Hat 14.2.1-8) Debian GNU/Linux 12 Kernel: 5.15 Compiler: gcc gcc (Debian 12.2.0-14+deb12u1) 12.2.0 Fedora Linux 40 Kernel: 5.15 Compiler: clang gcc (GCC) 14.2.1 20240912 (Red Hat 14.2.1-3) Fedora Linux 41 Kernel: 5.15 Compiler: clang gcc (GCC) 14.3.1 20250523 (Red Hat 14.3.1-1) openSUSE Leap 15.6 Kernel: 5.15 Compiler: gcc gcc (SUSE Linux) 7.5.0 Red Hat Enterprise Linux 9.5 Kernel: 5.15 Compiler: gcc gcc (GCC) 11.5.0 20240719 (Red Hat 11.5.0-2) Ubuntu 20.04 Kernel: 5.15 Compiler: gcc gcc (Ubuntu 9.4.0-1ubuntu1~20.04.2) 9.4.0 Ubuntu 22.04 Kernel: 5.15 Compiler: gcc gcc (Ubuntu 11.4.0-1ubuntu1~22.04) 11.4.0 FreeBSD 14.2 Kernel: 14.2-RELEASE Compiler: clang 18.1.6 Ubuntu 24.04 Kernel: 5.15 Compiler: gcc gcc (Ubuntu 13.3.0-6ubuntu2~24.04) 13.3.0 Alpine Linux 3.22.0 Kernel: 5.15 Compiler: gcc gcc (Alpine 14.2.0) 14.2.0 Red Hat Enterprise Linux 8.10 Kernel: 5.15 Compiler: gcc gcc (GCC) 8.5.0 20210514 (Red Hat 8.5.0-22) Windows Server 2022 Kernel: 10.0.20348.2031 Compiler: clang 15.0.7, gcc 14.1.0 (MinGW), and MSVC VS 19.39.33521 To view detailed results, visit: https://lab.dpdk.org/results/dashboard/patchsets/33594/ UNH-IOL DPDK Community Lab To manage your email subscriptions, visit: https://lab.dpdk.org/results/dashboard/preferences/subscriptions/