From mboxrd@z Thu Jan 1 00:00:00 1970 Return-Path: Received: from mails.dpdk.org (mails.dpdk.org [217.70.189.124]) by inbox.dpdk.org (Postfix) with ESMTP id AC5F146A87 for ; Thu, 10 Jul 2025 02:20:08 +0200 (CEST) Received: from mails.dpdk.org (localhost [127.0.0.1]) by mails.dpdk.org (Postfix) with ESMTP id A6AE4402D1; Thu, 10 Jul 2025 02:20:08 +0200 (CEST) Received: from mail-pl1-f227.google.com (mail-pl1-f227.google.com [209.85.214.227]) by mails.dpdk.org (Postfix) with ESMTP id B0BC2402D1 for ; Thu, 10 Jul 2025 02:20:07 +0200 (CEST) Received: by mail-pl1-f227.google.com with SMTP id d9443c01a7336-23aeac7d77aso4728245ad.3 for ; Wed, 09 Jul 2025 17:20:07 -0700 (PDT) DKIM-Signature: v=1; a=rsa-sha256; c=relaxed/relaxed; d=iol.unh.edu; s=unh-iol; t=1752106807; x=1752711607; darn=dpdk.org; h=references:in-reply-to:cc:to:from:subject:message-id:date:from:to :cc:subject:date:message-id:reply-to; bh=wtgm2w+B/s/1xuWRilMKjUNurYx3EPyfH3gtSYHc4BY=; b=gbpIpZVviOmohkiRKvObt3bQABzZEWquA77mxunHonPUL3aZ8UJla5QmK09czDPMzm RA9dYRs6tppSCDGknRcRDXrTPSCm96opd046lqZ5YbL9X9T78dySVDcLHo5ZY9vJ716I yK4RGZsm5N9EuMYcikJ9pCr2YdVAaUYMsPZ0M= X-Google-DKIM-Signature: v=1; a=rsa-sha256; c=relaxed/relaxed; d=1e100.net; s=20230601; t=1752106807; x=1752711607; h=references:in-reply-to:cc:to:from:subject:message-id:date :x-gm-message-state:from:to:cc:subject:date:message-id:reply-to; bh=wtgm2w+B/s/1xuWRilMKjUNurYx3EPyfH3gtSYHc4BY=; b=KIfsyOuNeucKoQR/NfyrBYOK4KPQrGoLF8kmyiYIKVmhok55nuFpcAt0tzKOUtgBg/ 66I+s6mDCRWn2or2hjRSrFn7hhqN/7aBbSvmRM4debfjXnEiL7wzUzgN7jZ+qktvLOeR BOLTMV3Cr2v+0jHDjUMy1WAYIQaivE0XN7ifgXwy6Bl7PuP+otA2zZw3TW4AwmH8kJPF 9IFiJdUYIFfGHa7wDHsJynwH5izFWpydf8AZWvX+gIHrNgPa51pVdmYUYilTTiNAt2H7 U4CSFX6sRrSks6xHZlx45PuMPaTucuwaKnUBOxV7MGBo+COIsQr5SJINKOjU2BpPBMqT /7tQ== X-Gm-Message-State: AOJu0YxIj6JjlYCfa1Oe/ZJjKw3RRswY+OpSYp1g2+u/Jp/Zcr1pIX/L SdNWYmsRUl/5HIcaq2yMCzXreHcfpc2dXPOLMxpCvJqRQ3mkf2fZ2ZDwQNyW0j0rH/bvsrI38OD ymS+LIqlCZJvIqPc5HPN7lcNI2GMylaXUsYv6b2UIldxO8BAaKynuxcnjGrkM X-Gm-Gg: ASbGncvhxbIvL6m2v0g+Rye4O41iDiu0Fr6XsAH7+2H+HMw50pRwcmOG0pkhH4PHd78 jGMNPZmvBHIwtM2Uo5hE3OTr3A76yUjVHJebEFojOJxji0gz+ZkXGtKxbIJnVIh4tclWqzsmtwz ACNzIqafFzfi3qsn9N0A7bwD3CxEBLykFA3gg+HauWbkSHyaFj9Dw9pedVlwwg263ZmsuU6uvfx Yd0cHH3LpnrndngppdJHX/jkq//wqWvikuJmU+IVgVG4XKr8qMfBb3aNz2ktgexJFQbFu7waAzH /VhdqzKmD+oTpPVk12WFO0oqKlMmqf4MzViJg3kg7ZFaS+s= X-Google-Smtp-Source: AGHT+IHLHhM2gHMCbeTGkeY2e9DJ85CFs1/qSFFzuJ7RgQn5N2kH/CFLjVe5WcO26J7frYoFl8szYPEHczxc X-Received: by 2002:a17:903:17cd:b0:23d:d0e7:754b with SMTP id d9443c01a7336-23ddb1a05e6mr64872465ad.18.1752106806725; Wed, 09 Jul 2025 17:20:06 -0700 (PDT) Received: from postal.iol.unh.edu (postal.iol.unh.edu. [2606:4100:3880:1234::84]) by smtp-relay.gmail.com with ESMTPS id d9443c01a7336-23de4266660sm188295ad.7.2025.07.09.17.20.06 (version=TLS1_2 cipher=ECDHE-ECDSA-AES128-GCM-SHA256 bits=128/128); Wed, 09 Jul 2025 17:20:06 -0700 (PDT) X-Relaying-Domain: iol.unh.edu Date: Wed, 09 Jul 2025 17:20:06 -0700 (PDT) Message-ID: <686f0736.170a0220.150a38.112cSMTPIN_ADDED_MISSING@mx.google.com> Received: from [172.21.0.6] (unknown [172.18.0.240]) by postal.iol.unh.edu (Postfix) with ESMTP id 34B816051830; Wed, 9 Jul 2025 20:20:06 -0400 (EDT) Subject: |WARNING| pw155108 [PATCH] [v1,1/1] net/iavf: fix order of inclusion From: dpdklab@iol.unh.edu To: Test Report Cc: dpdk-test-reports@iol.unh.edu In-Reply-To: <552f8241f4f65fce0c8b43797612a97dec5d9ebc.1752066381.git.anatoly.burakov@intel.com> References: <552f8241f4f65fce0c8b43797612a97dec5d9ebc.1752066381.git.anatoly.burakov@intel.com> Content-Type: text/plain X-BeenThere: test-report@dpdk.org X-Mailman-Version: 2.1.29 Precedence: list List-Id: automatic DPDK test reports List-Unsubscribe: , List-Archive: List-Post: List-Help: List-Subscribe: , Errors-To: test-report-bounces@dpdk.org Test-Label: iol-compile-amd64-testing Test-Status: WARNING http://dpdk.org/patch/155108 _Testing issues_ Submitter: Burakov, Anatoly Date: Wednesday, July 09 2025 13:06:29 DPDK git baseline: Repo:dpdk Branch: master CommitID:f1853a0cc95eaae5842b88be0cbcd5becc2e94b7 155108 --> testing issues Upstream job id: Windows-Compile-DPDK-Native#29692 Test environment and result as below: +-------------------------------+--------------------+-------------------+-------------------+------------------+-------------------------+ | Environment | dpdk_meson_compile | dpdk_msvc_compile | dpdk_compile_spdk | dpdk_compile_ovs | dpdk_llvm_clang_compile | +===============================+====================+===================+===================+==================+=========================+ | FreeBSD 14.2 | PASS | SKIPPED | SKIPPED | SKIPPED | SKIPPED | +-------------------------------+--------------------+-------------------+-------------------+------------------+-------------------------+ | Ubuntu 20.04 | PASS | SKIPPED | SKIPPED | SKIPPED | SKIPPED | +-------------------------------+--------------------+-------------------+-------------------+------------------+-------------------------+ | CentOS Stream 9 | PASS | SKIPPED | PASS | SKIPPED | SKIPPED | +-------------------------------+--------------------+-------------------+-------------------+------------------+-------------------------+ | CentOS Stream 10 | PASS | SKIPPED | SKIPPED | SKIPPED | SKIPPED | +-------------------------------+--------------------+-------------------+-------------------+------------------+-------------------------+ | Debian GNU/Linux 12 | PASS | SKIPPED | PASS | SKIPPED | SKIPPED | +-------------------------------+--------------------+-------------------+-------------------+------------------+-------------------------+ | Fedora Linux 40 | PASS | SKIPPED | PASS | SKIPPED | SKIPPED | +-------------------------------+--------------------+-------------------+-------------------+------------------+-------------------------+ | Fedora Linux 41 | PASS | SKIPPED | PASS | PASS | SKIPPED | +-------------------------------+--------------------+-------------------+-------------------+------------------+-------------------------+ | openSUSE Leap 15.6 | PASS | SKIPPED | SKIPPED | SKIPPED | SKIPPED | +-------------------------------+--------------------+-------------------+-------------------+------------------+-------------------------+ | Red Hat Enterprise Linux 8.10 | PASS | SKIPPED | SKIPPED | SKIPPED | SKIPPED | +-------------------------------+--------------------+-------------------+-------------------+------------------+-------------------------+ | Red Hat Enterprise Linux 9.5 | PASS | SKIPPED | SKIPPED | SKIPPED | SKIPPED | +-------------------------------+--------------------+-------------------+-------------------+------------------+-------------------------+ | Ubuntu 22.04 | PASS | SKIPPED | PASS | SKIPPED | SKIPPED | +-------------------------------+--------------------+-------------------+-------------------+------------------+-------------------------+ | Ubuntu 24.04 | PASS | SKIPPED | PASS | PASS | SKIPPED | +-------------------------------+--------------------+-------------------+-------------------+------------------+-------------------------+ | Alpine Linux 3.22.0 | PASS | SKIPPED | SKIPPED | SKIPPED | SKIPPED | +-------------------------------+--------------------+-------------------+-------------------+------------------+-------------------------+ | Windows Server 2022 | SKIPPED | PASS | SKIPPED | SKIPPED | PASS | +-------------------------------+--------------------+-------------------+-------------------+------------------+-------------------------+ FreeBSD 14.2 Kernel: 14.2-RELEASE Compiler: clang 18.1.6 Ubuntu 20.04 Kernel: 4.19 Compiler: gcc gcc (Ubuntu 9.4.0-1ubuntu1~20.04.2) 9.4.0 CentOS Stream 9 Kernel: 5.15 Compiler: gcc gcc (GCC) 11.5.0 20240719 (Red Hat 11.5.0-7) CentOS Stream 10 Kernel: 5.15 Compiler: gcc gcc (GCC) 14.2.1 20250110 (Red Hat 14.2.1-8) Debian GNU/Linux 12 Kernel: 5.15 Compiler: gcc gcc (Debian 12.2.0-14+deb12u1) 12.2.0 Fedora Linux 40 Kernel: 5.15 Compiler: clang gcc (GCC) 14.2.1 20240912 (Red Hat 14.2.1-3) Fedora Linux 41 Kernel: 5.15 Compiler: clang gcc (GCC) 14.3.1 20250523 (Red Hat 14.3.1-1) openSUSE Leap 15.6 Kernel: 5.15 Compiler: gcc gcc (SUSE Linux) 7.5.0 Red Hat Enterprise Linux 8.10 Kernel: 5.15 Compiler: gcc gcc (GCC) 8.5.0 20210514 (Red Hat 8.5.0-22) Red Hat Enterprise Linux 9.5 Kernel: 5.15 Compiler: gcc gcc (GCC) 11.5.0 20240719 (Red Hat 11.5.0-2) Ubuntu 22.04 Kernel: 5.15 Compiler: gcc gcc (Ubuntu 11.4.0-1ubuntu1~22.04) 11.4.0 Ubuntu 24.04 Kernel: 5.15 Compiler: gcc gcc (Ubuntu 13.3.0-6ubuntu2~24.04) 13.3.0 Alpine Linux 3.22.0 Kernel: 5.15 Compiler: gcc gcc (Alpine 14.2.0) 14.2.0 Windows Server 2022 Kernel: 10.0.20348.2031 Compiler: clang 15.0.7, gcc 14.1.0 (MinGW), and MSVC VS 19.39.33521 To view detailed results, visit: https://lab.dpdk.org/results/dashboard/patchsets/33627/ UNH-IOL DPDK Community Lab To manage your email subscriptions, visit: https://lab.dpdk.org/results/dashboard/preferences/subscriptions/