From mboxrd@z Thu Jan 1 00:00:00 1970 Return-Path: Received: from mails.dpdk.org (mails.dpdk.org [217.70.189.124]) by inbox.dpdk.org (Postfix) with ESMTP id C889446A87 for ; Thu, 10 Jul 2025 02:21:11 +0200 (CEST) Received: from mails.dpdk.org (localhost [127.0.0.1]) by mails.dpdk.org (Postfix) with ESMTP id C2531402D1; Thu, 10 Jul 2025 02:21:11 +0200 (CEST) Received: from mail-oi1-f227.google.com (mail-oi1-f227.google.com [209.85.167.227]) by mails.dpdk.org (Postfix) with ESMTP id 912B1402D1 for ; Thu, 10 Jul 2025 02:21:10 +0200 (CEST) Received: by mail-oi1-f227.google.com with SMTP id 5614622812f47-40791b696a2so164061b6e.2 for ; Wed, 09 Jul 2025 17:21:10 -0700 (PDT) DKIM-Signature: v=1; a=rsa-sha256; c=relaxed/relaxed; d=iol.unh.edu; s=unh-iol; t=1752106870; x=1752711670; darn=dpdk.org; h=references:in-reply-to:cc:to:from:subject:message-id:date:from:to :cc:subject:date:message-id:reply-to; bh=FSZCDUrtATx1ngbWTp766Fx6AOVd88Bqp+TnvW+4GzU=; b=JH/li8fkInu6wVejZFUjPM0Ha3Jao3kfxmUhbkaTER6NhMJkN4KdimH0lcLsb7rapn +oaHzzKfnFc55rt7l6bt7Zh3ZFJBM9Dk3nt/L7iM6XUY8KumRRsCzRsoFxHMTnS6b6An cJ9skJqAfp6TfzDhwz3TuNskzmRfrjgBlsS+o= X-Google-DKIM-Signature: v=1; a=rsa-sha256; c=relaxed/relaxed; d=1e100.net; s=20230601; t=1752106870; x=1752711670; h=references:in-reply-to:cc:to:from:subject:message-id:date :x-gm-message-state:from:to:cc:subject:date:message-id:reply-to; bh=FSZCDUrtATx1ngbWTp766Fx6AOVd88Bqp+TnvW+4GzU=; b=wo1MjDMNFikkMLrZI6qAeyDw4NcWj9ZDAmXYhq8Z4MKWTmAMP49JiEgc2X0AYYzrim DXeopdrfnnKXRySCkiDGi4x87IGKv4o4nmWk6RJMLydNcit84I37IHNaNfRQpFm+2x4G 3QsPBaaHzm2aCs+9mnAZbEwtW9tVsWTHgNEOQsiIwGBBRFvTmleY/4qETOtjCqaBFYEt jr4wgUvvYLM0Nq91UlX9yaHO+/WpJyovhbL22cy/x1TWNhvxbaLg7DEpjo+4LR/WWn46 1Y7wDkpI5GZ5XMgHWA5a7Y5s7r8qx6duc+Za6SVu0/bICSdbI3x7cdMPw1p3FlH8S7R0 E+iA== X-Gm-Message-State: AOJu0YwNaecuQ/VsKQNVp/4qx0pvfZBE6wTWfwH8HsoVTAe03n9rIF3z 8nS88Bn/pD/QoEKm1nMVcLLBRKwmXyMc6A5o4FNJ00ixtUGj++NW/auBw5wObjUfEvIa1ZdKrFr FqK7gd9n7gpjBXQsnOs/weBkIIESmQkxMKnNztaF8hc7/cSI1sZQQ6UkBtjiU X-Gm-Gg: ASbGncsePMiM9wM4JGNbEhkJl0N77g5IhzcShVaIOTLN/IRkY7mb2j2olo0/3m+gmT3 fckS0yxeY/EPeB7QODWvXLgy0vyHzkDtIhGdOh5zwoKxsXWpsndYqzPMA3Ol5jzqCHsbIT9BfIU LaQCngBOObQqZdCst4fqA+x8h1fY9QenpeXdmL28vMwE2z04lIScNMz06wzA30jsblNqiG5ikMj IzUT2Zyb5FUnTydRE5/KIZfGQGV6dAkSNCZDT3YvHigMV7i9ZjJoleYdltWK/9LVzUfUtuK1K0U ZsKMoQeYuT6yz5gG4Fw2pNcWLhxtrKXtc2s4Vvjjhzi+NrM= X-Google-Smtp-Source: AGHT+IH6I6nsYFdDOiYON0E7TAUsreddxoK9nBTq+XxUFWiUbdAPPxhHDakI9i+ylIg219HPrkEFJXnAw2YC X-Received: by 2002:a05:6808:319a:b0:401:ea7b:e535 with SMTP id 5614622812f47-413adec70b2mr1457999b6e.22.1752106869805; Wed, 09 Jul 2025 17:21:09 -0700 (PDT) Received: from postal.iol.unh.edu (postal.iol.unh.edu. [2606:4100:3880:1234::84]) by smtp-relay.gmail.com with ESMTPS id 006d021491bc7-613d9efbe9csm7304eaf.13.2025.07.09.17.21.09 (version=TLS1_2 cipher=ECDHE-ECDSA-AES128-GCM-SHA256 bits=128/128); Wed, 09 Jul 2025 17:21:09 -0700 (PDT) X-Relaying-Domain: iol.unh.edu Date: Wed, 09 Jul 2025 17:21:09 -0700 (PDT) Message-ID: <686f0775.050a0220.2ca15.06a3SMTPIN_ADDED_MISSING@mx.google.com> Received: from [172.21.0.7] (unknown [172.18.0.240]) by postal.iol.unh.edu (Postfix) with ESMTP id 415836051830; Wed, 9 Jul 2025 20:21:09 -0400 (EDT) Subject: |SUCCESS| pw155011 [PATCH] app/testpmd: allow multiple cmdline-file From: dpdklab@iol.unh.edu To: Test Report Cc: dpdk-test-reports@iol.unh.edu In-Reply-To: <20250704140551.4151993-1-bruce.richardson@intel.com> References: <20250704140551.4151993-1-bruce.richardson@intel.com> Content-Type: text/plain X-BeenThere: test-report@dpdk.org X-Mailman-Version: 2.1.29 Precedence: list List-Id: automatic DPDK test reports List-Unsubscribe: , List-Archive: List-Post: List-Help: List-Subscribe: , Errors-To: test-report-bounces@dpdk.org Test-Label: iol-unit-amd64-testing Test-Status: SUCCESS http://dpdk.org/patch/155011 _Testing PASS_ Submitter: Bruce Richardson Date: Friday, July 04 2025 14:05:51 DPDK git baseline: Repo:dpdk Branch: master CommitID:ba982f9a1ca9b96ed0394b764f1523d482e963a2 155011 --> testing pass Upstream job id: Generic-Unit-Test-DPDK#354393 Test environment and result as below: +-------------------------------+----------------+ | Environment | dpdk_unit_test | +===============================+================+ | CentOS Stream 10 | PASS | +-------------------------------+----------------+ | Debian GNU/Linux 12 | PASS | +-------------------------------+----------------+ | CentOS Stream 9 | PASS | +-------------------------------+----------------+ | Fedora Linux 40 | PASS | +-------------------------------+----------------+ | Red Hat Enterprise Linux 8.10 | PASS | +-------------------------------+----------------+ | Red Hat Enterprise Linux 9.5 | PASS | +-------------------------------+----------------+ | Ubuntu 22.04 | PASS | +-------------------------------+----------------+ | Fedora Linux 41 | PASS | +-------------------------------+----------------+ | Ubuntu 20.04 | PASS | +-------------------------------+----------------+ | Ubuntu 24.04 | PASS | +-------------------------------+----------------+ CentOS Stream 10 Kernel: 5.15 Compiler: gcc gcc (GCC) 14.2.1 20250110 (Red Hat 14.2.1-8) Debian GNU/Linux 12 Kernel: 5.15 Compiler: gcc gcc (Debian 12.2.0-14+deb12u1) 12.2.0 CentOS Stream 9 Kernel: 5.15 Compiler: gcc gcc (GCC) 11.5.0 20240719 (Red Hat 11.5.0-7) Fedora Linux 40 Kernel: 5.15 Compiler: gcc gcc (GCC) 14.2.1 20240912 (Red Hat 14.2.1-3) Red Hat Enterprise Linux 8.10 Kernel: 5.15 Compiler: gcc gcc (GCC) 8.5.0 20210514 (Red Hat 8.5.0-22) Red Hat Enterprise Linux 9.5 Kernel: 5.15 Compiler: gcc gcc (GCC) 11.5.0 20240719 (Red Hat 11.5.0-2) Ubuntu 22.04 Kernel: 5.15 Compiler: gcc gcc (Ubuntu 11.4.0-1ubuntu1~22.04) 11.4.0 Fedora Linux 41 Kernel: 5.15 Compiler: clang gcc (GCC) 14.3.1 20250523 (Red Hat 14.3.1-1) Ubuntu 20.04 Kernel: 5.15 Compiler: gcc gcc (Ubuntu 9.4.0-1ubuntu1~20.04.2) 9.4.0 Ubuntu 24.04 Kernel: 5.15 Compiler: gcc gcc (Ubuntu 13.3.0-6ubuntu2~24.04) 13.3.0 To view detailed results, visit: https://lab.dpdk.org/results/dashboard/patchsets/33594/ UNH-IOL DPDK Community Lab To manage your email subscriptions, visit: https://lab.dpdk.org/results/dashboard/preferences/subscriptions/