From mboxrd@z Thu Jan 1 00:00:00 1970 Return-Path: Received: from mails.dpdk.org (mails.dpdk.org [217.70.189.124]) by inbox.dpdk.org (Postfix) with ESMTP id 311AF46A87 for ; Thu, 10 Jul 2025 02:24:02 +0200 (CEST) Received: from mails.dpdk.org (localhost [127.0.0.1]) by mails.dpdk.org (Postfix) with ESMTP id 142D2402D1; Thu, 10 Jul 2025 02:24:02 +0200 (CEST) Received: from mail-qv1-f100.google.com (mail-qv1-f100.google.com [209.85.219.100]) by mails.dpdk.org (Postfix) with ESMTP id A6EB0402D1 for ; Thu, 10 Jul 2025 02:24:00 +0200 (CEST) Received: by mail-qv1-f100.google.com with SMTP id 6a1803df08f44-700c7e4c048so7957956d6.3 for ; Wed, 09 Jul 2025 17:24:00 -0700 (PDT) DKIM-Signature: v=1; a=rsa-sha256; c=relaxed/relaxed; d=iol.unh.edu; s=unh-iol; t=1752107040; x=1752711840; darn=dpdk.org; h=references:in-reply-to:cc:to:from:subject:message-id:date:from:to :cc:subject:date:message-id:reply-to; bh=UI0/loOIMktoWvWDdRXsEfcL+7gizxcCD8oN1MvIRys=; b=SxvVNoYlYw/H8sWWH3KmesRGdOIAlA4ha28kyMdjEFv3v+dR3/rKT+NL0T2S7mZvyv lzm4PtIsz/aco/Amsa2Gz+g7RUh+mfHuY9tjSbe9XALOTv3wVzofhVLML0IGGZ4ZHs9A VFSoSg7C1+HjRALVs6qwH95BSN5OCk5PkQ0HI= X-Google-DKIM-Signature: v=1; a=rsa-sha256; c=relaxed/relaxed; d=1e100.net; s=20230601; t=1752107040; x=1752711840; h=references:in-reply-to:cc:to:from:subject:message-id:date :x-gm-message-state:from:to:cc:subject:date:message-id:reply-to; bh=UI0/loOIMktoWvWDdRXsEfcL+7gizxcCD8oN1MvIRys=; b=t+DxpWgplU+RjjCKwChq0ogzkGqK1KAJpuxbtiq3uiBW42IC9gB53o1Dh1I8vNC06p lD9M9Z95OYD+etYR51SkxOwDTsRtiNENzmfHkgStmZ8eKwqY6CY6g0K0vZKhLvrEZzlb C5JYgDLww3oGMP0V47dzcrvjEifAQu6wm7n5Enf5cj78CYYq4lNmEUi+/Gzp9SS+wEOD o9Da+e4ziOXHpclHNbKcud3Iaa66jL7e0KPTfUS8nN5RJKJkY0jarVvFz8mipmNQGaMS slO+0iIZMfJ67wdIuJYvffiXPU28GLWEzk7VCdH2Ozg7jly2DEXVjHFdoH8WGI7cPTVW r2lw== X-Gm-Message-State: AOJu0YzaTIOyQZT29RVKYHZCUTsEtD8opUPSd6mfi2kOH5t3N3lM90KN xB+tbqXL/cqAubLaht3cDnCjtF3SpOrZEFJ8/mFIBP7BaOctZjuu+OSBE9iM6qSW2/N0yHlEsgx dCPxE+1r9/NAdxd0sDN1ODrdHp5tkYlEikUW1TACXgHs+jwhYaNpZ6EkJF5dA X-Gm-Gg: ASbGncsT/xSyBijYhAqI2xEKSH5RwXkf2oGS5Q+Uw8h/FT1zocmEAuvw8RxPd1FXXNh dGsoKFSK8uakHQ9iiChEpB3c2Lrj/jemoTfej7br6IwkcoJdR8uoA2WwJVCspELFJxpPg7DMAfz 3J2+yMCI7WwL4yQ8gDiMcSG98VAskNxP2usbBInXSOhcmJZxeQ9vRCWRoprtHCuVcmFeD5ApZ5c kPJouYCNPWoCpP4dLvsauid6Ps1M31/GbPHwUf50QBhNbGqqMQw1OH2o+vAIFAISN1ABb6jxZ1V f7qLkTBu35QmKlMsDrzUlkgIx88RKVfFzEtnA1nLW7z24x8= X-Google-Smtp-Source: AGHT+IEEV59wnSjk19SMaVLbGyQGs9hgkddQUSflvxcGPZvjfh975/1EwuFfbp3FIMDHvOL8Sk/40xzowoJS X-Received: by 2002:a05:6214:4b09:b0:704:761a:13d3 with SMTP id 6a1803df08f44-70494fc30c7mr41658356d6.32.1752107039767; Wed, 09 Jul 2025 17:23:59 -0700 (PDT) Received: from postal.iol.unh.edu (postal.iol.unh.edu. [2606:4100:3880:1234::84]) by smtp-relay.gmail.com with ESMTPS id 6a1803df08f44-7049798cf84sm161916d6.3.2025.07.09.17.23.59 (version=TLS1_2 cipher=ECDHE-ECDSA-AES128-GCM-SHA256 bits=128/128); Wed, 09 Jul 2025 17:23:59 -0700 (PDT) X-Relaying-Domain: iol.unh.edu Date: Wed, 09 Jul 2025 17:23:59 -0700 (PDT) Message-ID: <686f081f.050a0220.167ef0.0ef1SMTPIN_ADDED_MISSING@mx.google.com> Received: from [172.21.0.7] (unknown [172.18.0.240]) by postal.iol.unh.edu (Postfix) with ESMTP id 7A7E66051830; Wed, 9 Jul 2025 20:23:59 -0400 (EDT) Subject: |WARNING| pw155011 [PATCH] app/testpmd: allow multiple cmdline-file From: dpdklab@iol.unh.edu To: Test Report Cc: dpdk-test-reports@iol.unh.edu In-Reply-To: <20250704140551.4151993-1-bruce.richardson@intel.com> References: <20250704140551.4151993-1-bruce.richardson@intel.com> Content-Type: text/plain X-BeenThere: test-report@dpdk.org X-Mailman-Version: 2.1.29 Precedence: list List-Id: automatic DPDK test reports List-Unsubscribe: , List-Archive: List-Post: List-Help: List-Subscribe: , Errors-To: test-report-bounces@dpdk.org Test-Label: iol-compile-amd64-testing Test-Status: WARNING http://dpdk.org/patch/155011 _Testing issues_ Submitter: Bruce Richardson Date: Friday, July 04 2025 14:05:51 DPDK git baseline: Repo:dpdk Branch: master CommitID:ba982f9a1ca9b96ed0394b764f1523d482e963a2 155011 --> testing issues Upstream job id: Generic-DPDK-Compile-Meson#407518 Test environment and result as below: +-------------------------------+--------------------+-------------------+------------------+-------------------+ | Environment | dpdk_meson_compile | dpdk_compile_spdk | dpdk_compile_ovs | dpdk_msvc_compile | +===============================+====================+===================+==================+===================+ | CentOS Stream 9 | PASS | PASS | SKIPPED | SKIPPED | +-------------------------------+--------------------+-------------------+------------------+-------------------+ | CentOS Stream 10 | PASS | SKIPPED | SKIPPED | SKIPPED | +-------------------------------+--------------------+-------------------+------------------+-------------------+ | Debian GNU/Linux 12 | PASS | PASS | SKIPPED | SKIPPED | +-------------------------------+--------------------+-------------------+------------------+-------------------+ | Fedora Linux 40 | PASS | PASS | SKIPPED | SKIPPED | +-------------------------------+--------------------+-------------------+------------------+-------------------+ | Fedora Linux 41 | PASS | PASS | PASS | SKIPPED | +-------------------------------+--------------------+-------------------+------------------+-------------------+ | openSUSE Leap 15.6 | PASS | SKIPPED | SKIPPED | SKIPPED | +-------------------------------+--------------------+-------------------+------------------+-------------------+ | Red Hat Enterprise Linux 9.5 | PASS | SKIPPED | SKIPPED | SKIPPED | +-------------------------------+--------------------+-------------------+------------------+-------------------+ | Ubuntu 20.04 | PASS | SKIPPED | SKIPPED | SKIPPED | +-------------------------------+--------------------+-------------------+------------------+-------------------+ | Ubuntu 22.04 | PASS | PASS | SKIPPED | SKIPPED | +-------------------------------+--------------------+-------------------+------------------+-------------------+ | FreeBSD 14.2 | PASS | SKIPPED | SKIPPED | SKIPPED | +-------------------------------+--------------------+-------------------+------------------+-------------------+ | Ubuntu 24.04 | PASS | SKIPPED | SKIPPED | SKIPPED | +-------------------------------+--------------------+-------------------+------------------+-------------------+ | Alpine Linux 3.22.0 | PASS | SKIPPED | SKIPPED | SKIPPED | +-------------------------------+--------------------+-------------------+------------------+-------------------+ | Red Hat Enterprise Linux 8.10 | PASS | SKIPPED | SKIPPED | SKIPPED | +-------------------------------+--------------------+-------------------+------------------+-------------------+ | Windows Server 2022 | SKIPPED | SKIPPED | SKIPPED | PASS | +-------------------------------+--------------------+-------------------+------------------+-------------------+ CentOS Stream 9 Kernel: 5.15 Compiler: gcc gcc (GCC) 11.5.0 20240719 (Red Hat 11.5.0-7) CentOS Stream 10 Kernel: 5.15 Compiler: gcc gcc (GCC) 14.2.1 20250110 (Red Hat 14.2.1-8) Debian GNU/Linux 12 Kernel: 5.15 Compiler: gcc gcc (Debian 12.2.0-14+deb12u1) 12.2.0 Fedora Linux 40 Kernel: 5.15 Compiler: clang gcc (GCC) 14.2.1 20240912 (Red Hat 14.2.1-3) Fedora Linux 41 Kernel: 5.15 Compiler: clang gcc (GCC) 14.3.1 20250523 (Red Hat 14.3.1-1) openSUSE Leap 15.6 Kernel: 5.15 Compiler: gcc gcc (SUSE Linux) 7.5.0 Red Hat Enterprise Linux 9.5 Kernel: 5.15 Compiler: gcc gcc (GCC) 11.5.0 20240719 (Red Hat 11.5.0-2) Ubuntu 20.04 Kernel: 5.15 Compiler: gcc gcc (Ubuntu 9.4.0-1ubuntu1~20.04.2) 9.4.0 Ubuntu 22.04 Kernel: 5.15 Compiler: gcc gcc (Ubuntu 11.4.0-1ubuntu1~22.04) 11.4.0 FreeBSD 14.2 Kernel: 14.2-RELEASE Compiler: clang 18.1.6 Ubuntu 24.04 Kernel: 5.15 Compiler: gcc gcc (Ubuntu 13.3.0-6ubuntu2~24.04) 13.3.0 Alpine Linux 3.22.0 Kernel: 5.15 Compiler: gcc gcc (Alpine 14.2.0) 14.2.0 Red Hat Enterprise Linux 8.10 Kernel: 5.15 Compiler: gcc gcc (GCC) 8.5.0 20210514 (Red Hat 8.5.0-22) Windows Server 2022 Kernel: 10.0.20348.2031 Compiler: clang 15.0.7, gcc 14.1.0 (MinGW), and MSVC VS 19.39.33521 To view detailed results, visit: https://lab.dpdk.org/results/dashboard/patchsets/33594/ UNH-IOL DPDK Community Lab To manage your email subscriptions, visit: https://lab.dpdk.org/results/dashboard/preferences/subscriptions/