From mboxrd@z Thu Jan 1 00:00:00 1970 Return-Path: Received: from mails.dpdk.org (mails.dpdk.org [217.70.189.124]) by inbox.dpdk.org (Postfix) with ESMTP id DFCE546A87 for ; Thu, 10 Jul 2025 02:53:39 +0200 (CEST) Received: from mails.dpdk.org (localhost [127.0.0.1]) by mails.dpdk.org (Postfix) with ESMTP id CA3DA402D1; Thu, 10 Jul 2025 02:53:39 +0200 (CEST) Received: from mail-qv1-f99.google.com (mail-qv1-f99.google.com [209.85.219.99]) by mails.dpdk.org (Postfix) with ESMTP id 4B043402D1 for ; Thu, 10 Jul 2025 02:53:38 +0200 (CEST) Received: by mail-qv1-f99.google.com with SMTP id 6a1803df08f44-6ecf99dd567so7374746d6.0 for ; Wed, 09 Jul 2025 17:53:38 -0700 (PDT) DKIM-Signature: v=1; a=rsa-sha256; c=relaxed/relaxed; d=iol.unh.edu; s=unh-iol; t=1752108817; x=1752713617; darn=dpdk.org; h=references:in-reply-to:cc:to:from:subject:message-id:date:from:to :cc:subject:date:message-id:reply-to; bh=ThCcnCCu5z9OP1Y+SbxRrsNEWVcNMYz6XgzrR5KJZ0Q=; b=iepBVN8QqbrC3y8VgvgM223S1dWvANGSY4bX+ZNi7aJZjSKJS+0+cTr2WcImwUuasP QbwfQN4/qswoCZaK/KJngveY8ONiTjTp+IxRJ3jrkestiPkuEX+IWiCj4vX3KlO5s5Ue O0GZ1a3WkS6p1bkXqzEhneTgSnDr74QsLP94c= X-Google-DKIM-Signature: v=1; a=rsa-sha256; c=relaxed/relaxed; d=1e100.net; s=20230601; t=1752108817; x=1752713617; h=references:in-reply-to:cc:to:from:subject:message-id:date :x-gm-message-state:from:to:cc:subject:date:message-id:reply-to; bh=ThCcnCCu5z9OP1Y+SbxRrsNEWVcNMYz6XgzrR5KJZ0Q=; b=LAURl9TMKZMbNsuUx6nz9JXbfZ1aeCMUElChxOxnsoIpMWGu2LUM6Q/AfWCOQAxqBl VEK3y674bfFyT+psfGxmN686gjs3qKi+F3GkEWEBRtczjc3Bre7GwlY18Nui7jsAcP4X VcHcup4iXX9OkaY9ZzPaaOxA8avKMzt0UxqfU7+MliH0IJMJLhksoiJ+upQlqDsrifEb 8KYi6inqmXoOnRgOnTQgpAjGsWAdKkw7DCJoeBqFQqT7UZRE3WXqZzjFcTcU+gM+X4Jd ICI72frjcNPMYRrhPZ85bgzND9xJEIJmvsq2rMscaNqMxyXHa7TF12PqBvEiUPNQtRWc /QEg== X-Gm-Message-State: AOJu0YxrcX/VX46iZaz5QHDVgVyqK6v428gk8DfMbzuD0KqMEDEoCIi0 8EhuLTgEYU+3l6x0sx1lXL4C8MBVR8//C7By/pq06yN0PWmKHTrYcNlYeUYdoxVE/ie+XDzEgOo nnqb6gm7vADKFOVPKFceLDzYEm4QlAyE9dG6F1dTkFo42PzzXyfH3npG4Q0lY X-Gm-Gg: ASbGncuDWtYYeAx3o/OePdxQIDV8ZtCvy3C7bhLXqeVq3Sm7I5Svf0tEQOSZ36Zseik A/hDTFG5qi08Bj4gxu3HkeYQuGbLEO0N/HLCUFlmIe4r4FVET2XhYblh21KluuM6mF++Ugzu5OH zV0VFN70WED7o84vu0X7f7F5jJvouVHG+XZmCY4iR/AK5d8x2L7rSaFANZ9MFFm/6uQvIDDdMBN rWG9IcCcbnQxrwdahoYPesjdauxVIQi16JxVI0wHGqTZ6x5XmcE8SHDrB1L/zmBznxmE3N7VVBJ nbxLsCKYuQ0EnoD5MdVOTTOiQN1Wp6EgUJx3KiuR2Mf8FW0= X-Google-Smtp-Source: AGHT+IFr2Pf/QFuOk0Hg+/SVp3ucbp+NoUwpErvERL5vawGXyxeK9HXtW6fjGPrkNM3SBZNL7kG3Bx1VL9fC X-Received: by 2002:a05:6214:5091:b0:6e6:646e:a0f8 with SMTP id 6a1803df08f44-70498081f31mr10054076d6.16.1752108817696; Wed, 09 Jul 2025 17:53:37 -0700 (PDT) Received: from postal.iol.unh.edu (postal.iol.unh.edu. [2606:4100:3880:1234::84]) by smtp-relay.gmail.com with ESMTPS id 6a1803df08f44-70497d35c5dsm171926d6.42.2025.07.09.17.53.37 (version=TLS1_2 cipher=ECDHE-ECDSA-AES128-GCM-SHA256 bits=128/128); Wed, 09 Jul 2025 17:53:37 -0700 (PDT) X-Relaying-Domain: iol.unh.edu Date: Wed, 09 Jul 2025 17:53:37 -0700 (PDT) Message-ID: <686f0f11.050a0220.1b3fb8.0fbdSMTPIN_ADDED_MISSING@mx.google.com> Received: from [172.21.0.7] (unknown [172.18.0.240]) by postal.iol.unh.edu (Postfix) with ESMTP id 73F6B6051830; Wed, 9 Jul 2025 20:53:37 -0400 (EDT) Subject: |WARNING| pw155108 [PATCH] [v1,1/1] net/iavf: fix order of inclusion From: dpdklab@iol.unh.edu To: Test Report Cc: dpdk-test-reports@iol.unh.edu In-Reply-To: <552f8241f4f65fce0c8b43797612a97dec5d9ebc.1752066381.git.anatoly.burakov@intel.com> References: <552f8241f4f65fce0c8b43797612a97dec5d9ebc.1752066381.git.anatoly.burakov@intel.com> Content-Type: text/plain X-BeenThere: test-report@dpdk.org X-Mailman-Version: 2.1.29 Precedence: list List-Id: automatic DPDK test reports List-Unsubscribe: , List-Archive: List-Post: List-Help: List-Subscribe: , Errors-To: test-report-bounces@dpdk.org Test-Label: iol-compile-amd64-testing Test-Status: WARNING http://dpdk.org/patch/155108 _Testing issues_ Submitter: Burakov, Anatoly Date: Wednesday, July 09 2025 13:06:29 DPDK git baseline: Repo:dpdk Branch: master CommitID:f1853a0cc95eaae5842b88be0cbcd5becc2e94b7 155108 --> testing issues Upstream job id: Windows-Compile-DPDK-Native#29693 Test environment and result as below: +-------------------------------+--------------------+-------------------+-------------------+------------------+-------------------------+----------------------+ | Environment | dpdk_meson_compile | dpdk_msvc_compile | dpdk_compile_spdk | dpdk_compile_ovs | dpdk_llvm_clang_compile | dpdk_mingw64_compile | +===============================+====================+===================+===================+==================+=========================+======================+ | FreeBSD 14.2 | PASS | SKIPPED | SKIPPED | SKIPPED | SKIPPED | SKIPPED | +-------------------------------+--------------------+-------------------+-------------------+------------------+-------------------------+----------------------+ | Ubuntu 20.04 | PASS | SKIPPED | SKIPPED | SKIPPED | SKIPPED | SKIPPED | +-------------------------------+--------------------+-------------------+-------------------+------------------+-------------------------+----------------------+ | CentOS Stream 9 | PASS | SKIPPED | PASS | SKIPPED | SKIPPED | SKIPPED | +-------------------------------+--------------------+-------------------+-------------------+------------------+-------------------------+----------------------+ | CentOS Stream 10 | PASS | SKIPPED | SKIPPED | SKIPPED | SKIPPED | SKIPPED | +-------------------------------+--------------------+-------------------+-------------------+------------------+-------------------------+----------------------+ | Debian GNU/Linux 12 | PASS | SKIPPED | PASS | SKIPPED | SKIPPED | SKIPPED | +-------------------------------+--------------------+-------------------+-------------------+------------------+-------------------------+----------------------+ | Fedora Linux 40 | PASS | SKIPPED | PASS | SKIPPED | SKIPPED | SKIPPED | +-------------------------------+--------------------+-------------------+-------------------+------------------+-------------------------+----------------------+ | Fedora Linux 41 | PASS | SKIPPED | PASS | PASS | SKIPPED | SKIPPED | +-------------------------------+--------------------+-------------------+-------------------+------------------+-------------------------+----------------------+ | openSUSE Leap 15.6 | PASS | SKIPPED | SKIPPED | SKIPPED | SKIPPED | SKIPPED | +-------------------------------+--------------------+-------------------+-------------------+------------------+-------------------------+----------------------+ | Red Hat Enterprise Linux 8.10 | PASS | SKIPPED | SKIPPED | SKIPPED | SKIPPED | SKIPPED | +-------------------------------+--------------------+-------------------+-------------------+------------------+-------------------------+----------------------+ | Red Hat Enterprise Linux 9.5 | PASS | SKIPPED | SKIPPED | SKIPPED | SKIPPED | SKIPPED | +-------------------------------+--------------------+-------------------+-------------------+------------------+-------------------------+----------------------+ | Ubuntu 22.04 | PASS | SKIPPED | PASS | SKIPPED | SKIPPED | SKIPPED | +-------------------------------+--------------------+-------------------+-------------------+------------------+-------------------------+----------------------+ | Ubuntu 24.04 | PASS | SKIPPED | PASS | PASS | SKIPPED | SKIPPED | +-------------------------------+--------------------+-------------------+-------------------+------------------+-------------------------+----------------------+ | Alpine Linux 3.22.0 | PASS | SKIPPED | SKIPPED | SKIPPED | SKIPPED | SKIPPED | +-------------------------------+--------------------+-------------------+-------------------+------------------+-------------------------+----------------------+ | Windows Server 2022 | SKIPPED | PASS | SKIPPED | SKIPPED | PASS | PASS | +-------------------------------+--------------------+-------------------+-------------------+------------------+-------------------------+----------------------+ FreeBSD 14.2 Kernel: 14.2-RELEASE Compiler: clang 18.1.6 Ubuntu 20.04 Kernel: 4.19 Compiler: gcc gcc (Ubuntu 9.4.0-1ubuntu1~20.04.2) 9.4.0 CentOS Stream 9 Kernel: 5.15 Compiler: gcc gcc (GCC) 11.5.0 20240719 (Red Hat 11.5.0-7) CentOS Stream 10 Kernel: 5.15 Compiler: gcc gcc (GCC) 14.2.1 20250110 (Red Hat 14.2.1-8) Debian GNU/Linux 12 Kernel: 5.15 Compiler: gcc gcc (Debian 12.2.0-14+deb12u1) 12.2.0 Fedora Linux 40 Kernel: 5.15 Compiler: clang gcc (GCC) 14.2.1 20240912 (Red Hat 14.2.1-3) Fedora Linux 41 Kernel: 5.15 Compiler: clang gcc (GCC) 14.3.1 20250523 (Red Hat 14.3.1-1) openSUSE Leap 15.6 Kernel: 5.15 Compiler: gcc gcc (SUSE Linux) 7.5.0 Red Hat Enterprise Linux 8.10 Kernel: 5.15 Compiler: gcc gcc (GCC) 8.5.0 20210514 (Red Hat 8.5.0-22) Red Hat Enterprise Linux 9.5 Kernel: 5.15 Compiler: gcc gcc (GCC) 11.5.0 20240719 (Red Hat 11.5.0-2) Ubuntu 22.04 Kernel: 5.15 Compiler: gcc gcc (Ubuntu 11.4.0-1ubuntu1~22.04) 11.4.0 Ubuntu 24.04 Kernel: 5.15 Compiler: gcc gcc (Ubuntu 13.3.0-6ubuntu2~24.04) 13.3.0 Alpine Linux 3.22.0 Kernel: 5.15 Compiler: gcc gcc (Alpine 14.2.0) 14.2.0 Windows Server 2022 Kernel: 10.0.20348.2031 Compiler: clang 15.0.7, gcc 14.1.0 (MinGW), and MSVC VS 19.39.33521 To view detailed results, visit: https://lab.dpdk.org/results/dashboard/patchsets/33627/ UNH-IOL DPDK Community Lab To manage your email subscriptions, visit: https://lab.dpdk.org/results/dashboard/preferences/subscriptions/